{"text_format":"3","workbook":"xlsx","n_sheets":5,"sheets":["地市透视表","汇总","金华","嘉兴","杭州"],"not_rendered":{"images":5,"external_links":1,"defined_names":5},"read":"whole","date_system":"1900"}

{"sheet":"地市透视表","index":0,"n_rows":5,"n_cols":6,"rows_kept":5,"merged":[[0,11,0,15]]}
["地市","资产条数","资产原值（元）","资产净值（元）","净值/原值","评估价（元）"]
["金华",94,388406.17,12622.12,{"$f":"D2/C2","v":{"v":0.0324972180539769,"d":"3.25%"}},25222.34]
["嘉兴",77,684970.69,219640.66,{"$f":"D3/C3","v":{"v":0.320657019645614,"d":"32.07%"}},{"v":25554.26861,"d":"25554.27"}]
["杭州",212,805025.94,93969.38,{"$f":"D4/C4","v":{"v":0.11672838765916,"d":"11.67%"}},{"v":121828.2688,"d":"121828.27"}]
["合计",{"$f":"SUM(B2:B4)","v":383},{"$f":"SUM(C2:C4)","v":{"v":1878402.8,"d":"1878402.80"}},{"$f":"SUM(D2:D4)","v":326232.16},{"$f":"D5/C5","v":{"v":0.173675294777031,"d":"17.37%"}},{"$f":"SUM(F2:F4)","v":{"v":172604.87741,"d":"172604.88"}}]

{"sheet":"汇总","index":1,"n_rows":57,"n_cols":11,"rows_kept":57}
["地市","拍卖批次","资产类别名称（大类相同完整度不同的分行填报）","对应估值清单的分类描述","计量单位","资产数量","总重量（kg）","完整度/出铜（铝）率（%）","最低转让单价（含税）","最低转让总价（含税）","备注\n（主要配件缺失的需要注明）"]
["金华","第二十八批","3P空调","3匹室内外成套","套",18,null,null,936,{"$f":"F2*I2","v":{"v":16848,"d":"16848.00"}},"铜管"]
["金华","第二十八批","壁挂空调","2P及2P以下成套空调","套",4,null,null,520,{"v":2080,"d":"2080.00"},"铜管"]
["金华","第二十八批","电线电缆","铜缆类","根",5,15,{"v":0.5,"d":"50%"},"70510元/吨×出铜率",{"$f":"70510/1000*H4*G4","v":{"v":528.825,"d":"528.83"}}]
["金华","第二十八批","动环监控","动环监控","个",54,189,null,16,{"v":864,"d":"864.00"}]
["金华","第二十八批","接地汇流排","其他各类铁质为主的报废物资","个",2,3,null,"2270元/吨",{"$f":"2270/1000*G6","v":6.81}]
["金华","第二十八批","模块","其他各类铁质为主的报废物资","个",2,3,null,"2270元/吨",6.81]
["金华","第二十八批","嵌入式开关电源","其他各类铁质为主的报废物资","个",2,40,null,"2270元/吨",90.8,"模块"]
["金华","第二十八批","走线架","其他各类铁质为主的报废物资","个",1,10,null,"2270元/吨",22.7]
["金华","第二十八批","组合式开关电源","组合开关电源柜","个",8,320,{"v":0.4,"d":"40%"},"997×完整度+198",{"$f":"(997*H10+198)*F10","v":{"v":4774.4,"d":"4774.40"}},"模块"]
["嘉兴","第二十八批","铜线","铜缆类","根",2,1.1,{"v":0.23,"d":"23%"},"70510元/吨×出铜率",{"$f":"70510/1000*H11*G11","v":{"v":17.83903,"d":"17.84"}},"称重"]
["嘉兴","第二十八批","空调","2P及2P以下成套空调","台",1,null,null,520,{"$f":"F12*I12","v":{"v":520,"d":"520.00"}},"套用单价/含铜管"]
["嘉兴","第二十八批","空调","3匹室内外成套","台",24,null,null,936,{"v":22464,"d":"22464.00"},"套用单价/含铜管"]
["嘉兴","第二十八批","监控","动环监控","个",6,null,null,16,{"v":96,"d":"96.00"},"套用单价"]
["嘉兴","第二十八批","空调控制器","其他各类铁质为主的报废物资","个",1,0.3,null,"2270元/吨",{"$f":"2270/1000*G15","v":{"v":0.681,"d":"0.68"}},"称重"]
["嘉兴","第二十八批","电表","其他各类铁质为主的报废物资","个",3,4.6,null,"2270元/吨",{"v":10.442,"d":"10.44"},"称重"]
["嘉兴","第二十八批","交流配电箱","配电箱类","个",3,null,null,107,{"$f":"F17*I17","v":{"v":321,"d":"321.00"}},"套用单价"]
["嘉兴","第二十八批","供电计量设备","其他各类铁质为主的报废物资","个",1,5.9,null,"2270元/吨",{"v":13.393,"d":"13.39"},"称重"]
["嘉兴","第二十八批","传感器","其他各类铁质为主的报废物资","个",1,0.3,null,"2270元/吨",{"v":0.681,"d":"0.68"},"称重"]
["嘉兴","第二十八批","模块","其他各类铁质为主的报废物资","个",1,2.4,null,"2270元/吨",{"v":5.448,"d":"5.45"},"称重"]
["嘉兴","第二十八批","铝线","铝缆类","根",28,59.4,{"v":0.23,"d":"23%"},"17090元/吨×出铝率",{"$f":"17090/1000*H21*G21","v":{"v":233.48358,"d":"233.48"}},"称重"]
["嘉兴","第二十八批","空调节能设备","其他各类铁质为主的报废物资","个",1,0.3,null,"2270元/吨",{"$f":"2270/1000*G22","v":{"v":0.681,"d":"0.68"}},"称重"]
["嘉兴","第二十八批","开关电源","其他各类铁质为主的报废物资","架",1,25,null,"2270元/吨",56.75,"称重"]
["嘉兴","第二十八批","开关电源","其他各类铁质为主的报废物资","架",1,14,null,"2270元/吨",31.78,"称重"]
["嘉兴","第二十八批","综合架","其他各类铁质为主的报废物资","架",2,167,null,"2270元/吨",379.09,"称重"]
["嘉兴","第二十八批","空调","5匹室内外成套","台",1,null,null,1403,{"$f":"F26*I26","v":{"v":1403,"d":"1403.00"}},"套用单价/含铜管"]
["杭州","第二十八批","传感器","其他铁质为主的报废物资","个",2,1.264,null,"2270元/吨",{"$f":"2270/1000*G27","v":{"v":2.86928,"d":"2.87"}}]
["杭州","第二十八批","电表","其他铁质为主的报废物资","个",2,3,null,"2270元/吨",6.81]
["杭州","第二十八批","电池架","其他铁质为主的报废物资","千克",2987.5,2987.5,null,"2270元/吨",{"v":6781.625,"d":"6781.63"}]
["杭州","第二十八批","铝缆","铝缆类","千克",22,22,{"v":0.4,"d":"40%"},"17090元/吨×出铝率",{"$f":"17090/1000*H30*G30","v":{"v":150.392,"d":"150.39"}},"主要材质为铝"]
["杭州","第二十八批","铜缆","铜缆类","千克",3.5,3.5,{"v":0.225,"d":"22.50%"},"70510元/吨×出铜率",{"$f":"70510/1000*H31*G31","v":{"v":55.526625,"d":"55.53"}},"主要材质为铜"]
["杭州","第二十八批","断路器","其他铁质为主的报废物资","个",5,1.962,null,"2270元/吨",{"$f":"2270/1000*G32","v":{"v":4.45374,"d":"4.45"}}]
["杭州","第二十八批","RRU架","其他铁质为主的报废物资","个",3,144,null,"2270元/吨",{"$f":"2270/1000*G33","v":326.88}]
["杭州","第二十八批","分路计量","配电箱类","个",2,0.34,null,107,{"$f":"F34*I34","v":{"v":214,"d":"214.00"}}]
["杭州","第二十八批","机柜","一体化机柜（风扇型）","个",1,0,null,170,{"v":170,"d":"170.00"}]
["杭州","第二十八批","机柜","一体化机柜（风扇型）","个",6,0,null,170,{"v":1020,"d":"1020.00"}]
["杭州","第二十八批","机柜","一体化机柜（空调型）","个",5,0,null,{"v":223,"d":"223.00"},{"v":1115,"d":"1115.00"},"其中有2个机柜拆分组件已合并处置"]
["杭州","第二十八批","机柜","交直流配电设备（落地式）","个",1,153,{"v":0.25,"d":"25%"},"3410*完整度+2260",{"$f":"(3410*H38+2260)/1000*G38","v":{"v":476.2125,"d":"476.21"}}]
["杭州","第二十八批","机柜","一体化机柜（风扇型）","个",1,0,null,170,{"$f":"F39*I39","v":{"v":170,"d":"170.00"}}]
["杭州","第二十八批","机柜","一体化机柜（风扇型）","个",1,0,null,170,{"v":170,"d":"170.00"}]
["杭州","第二十八批","动环监控","动环监控","个",11,0,null,16,{"v":176,"d":"176.00"},"纯主机无辅材"]
["杭州","第二十八批","位置模块","其他铁质为主的报废物资","个",2,0.38,null,"2270元/吨",{"$f":"2270/1000*G42","v":{"v":0.8626,"d":"0.86"}}]
["杭州","第二十八批","交流计量箱","配电箱类","个",2,37.5,null,107,{"$f":"F43*I43","v":{"v":214,"d":"214.00"}}]
["杭州","第二十八批","交流配电箱","配电箱类","个",2,0,null,107,{"v":214,"d":"214.00"}]
["杭州","第二十八批","嵌入式开关电源","其他铁质为主的报废物资","架",15,240.5,null,"2270元/吨",{"$f":"2270/1000*G45","v":{"v":545.935,"d":"545.94"}}]
["杭州","第二十八批","组合式开关电源","组合开关电源柜","架",10,0,{"v":0.365,"d":"36.50%"},"997×完整度+198",{"$f":"(997*H46+198)*F46","v":5619.05}]
["杭州","第二十八批","空调","2P及2P以下成套空调","台",12,0,null,520,{"v":6240,"d":"6240.00"}]
["杭州","第二十八批","空调","3匹室内外成套","台",81,0,null,936,{"v":75816,"d":"75816.00"},"其中2台内机无内风机"]
["杭州","第二十八批","空调控制器","其他铁质为主的报废物资","个",3,1.505,null,"2270元/吨",{"v":3.41635,"d":"3.42"}]
["杭州","第二十八批","智能通风设备","其他铁质为主的报废物资","个",3,24.5,null,"2270元/吨",{"v":55.615,"d":"55.62"}]
["杭州","第二十八批","连接条","铜缆类","千克",318.5,318.5,{"v":0.7,"d":"70%"},"70510元/吨×出铜率",{"$f":"70510/1000*H51*G51","v":{"v":15720.2045,"d":"15720.20"}},"主要材质为铜"]
["杭州","第二十八批","电控锁","其他铁质为主的报废物资","个",3,6.5,null,"2270元/吨",{"$f":"2270/1000*G52","v":{"v":14.755,"d":"14.76"}}]
["杭州","第二十八批","电源转换模块","其他铁质为主的报废物资","个",1,2.5,null,"2270元/吨",{"v":5.675,"d":"5.68"}]
["杭州","第二十八批","整流模块","其他铁质为主的报废物资","个",4,9,null,"2270元/吨",20.43]
["杭州","第二十八批","熔断器","其他铁质为主的报废物资","个",2,0.361,null,"2270元/吨",{"v":0.81947,"d":"0.82"}]
["杭州","第二十八批","铜管","铜缆类","千克",132,132,{"v":0.7,"d":"70%"},"70510元/吨×出铜率",{"$f":"70510/1000*H56*G56","v":{"v":6515.124,"d":"6515.12"}},"主要材质为铜"]
["杭州","第二十八批","铜铁转换条","其他铁质为主的报废物资","根",2,1.151,null,"2270元/吨",{"$f":"2270/1000*G57","v":{"v":2.61277,"d":"2.61"}}]

{"sheet":"金华","index":2,"n_rows":95,"n_cols":18,"rows_kept":95}
["序号","报废批复文号","资产编号","资产名称","资产类别名称","资产原值\n（元，不含税）","累计折旧","资产数量","资产净值\n（元，不含税）","计量单位\n（个/吨/米等）","单节电池电压（2V/12V）","规格型号","生产厂家","站点名称","站点编码","县市","年份","报废批次"]
[1,"2024年8月19日总经理专题办公会议纪要","330700317921",{"$f":"VLOOKUP(C:C,'[1]2024B1-B6清单'!$A:$D,4,0)","v":"普通空调柜式"},{"$f":"VLOOKUP(C:C,'[1]2024B1-B6清单'!$A:$E,5,0)","v":"空调"},{"$f":"VLOOKUP(C:C,'[1]2024B1-B6清单'!$A:$X,24,0)","v":6734.84},{"$f":"VLOOKUP(C:C,'[1]2024B1-B6清单'!$A:$Y,25,0)","v":6532.79},1,{"$f":"VLOOKUP(C:C,'[1]2024B1-B6清单'!$A:$Z,26,0)","v":202.05},"台",null,"3P",null,{"$f":"VLOOKUP(C:C,'[1]2024B1-B6清单'!$A:$P,16,0)","v":"官清畈北"},{"$f":"VLOOKUP(C:C,'[1]2024B1-B6清单'!$A:$Q,17,0)","v":"33078201000486"},{"$f":"VLOOKUP(C:C,'[1]2024B1-B6清单'!$A:$C,3,0)","v":"武义"},2024,"2024B6"]
[2,"2024年8月19日总经理专题办公会议纪要","330700173631",{"$f":"VLOOKUP(C:C,'[1]2024B1-B6清单'!$A:$D,4,0)","v":"专用空调"},{"$f":"VLOOKUP(C:C,'[1]2024B1-B6清单'!$A:$E,5,0)","v":"空调"},{"$f":"VLOOKUP(C:C,'[1]2024B1-B6清单'!$A:$X,24,0)","v":2125.45},{"$f":"VLOOKUP(C:C,'[1]2024B1-B6清单'!$A:$Y,25,0)","v":2061.69},1,{"$f":"VLOOKUP(C:C,'[1]2024B1-B6清单'!$A:$Z,26,0)","v":63.76},"台",null,"3P",null,{"$f":"VLOOKUP(C:C,'[1]2024B1-B6清单'!$A:$P,16,0)","v":"义乌畈田王"},{"$f":"VLOOKUP(C:C,'[1]2024B1-B6清单'!$A:$Q,17,0)","v":"330782908000000784"},{"$f":"VLOOKUP(C:C,'[1]2024B1-B6清单'!$A:$C,3,0)","v":"义乌"},2024,"2024B6"]
[3,"2024年8月19日总经理专题办公会议纪要","330700113004",{"$f":"VLOOKUP(C:C,'[1]2024B1-B6清单'!$A:$D,4,0)","v":"专用空调"},{"$f":"VLOOKUP(C:C,'[1]2024B1-B6清单'!$A:$E,5,0)","v":"空调"},{"$f":"VLOOKUP(C:C,'[1]2024B1-B6清单'!$A:$X,24,0)","v":4970},{"$f":"VLOOKUP(C:C,'[1]2024B1-B6清单'!$A:$Y,25,0)","v":4820.9},1,{"$f":"VLOOKUP(C:C,'[1]2024B1-B6清单'!$A:$Z,26,0)","v":149.1},"台",null,"3P",null,{"$f":"VLOOKUP(C:C,'[1]2024B1-B6清单'!$A:$P,16,0)","v":"义乌南门街"},{"$f":"VLOOKUP(C:C,'[1]2024B1-B6清单'!$A:$Q,17,0)","v":"330782908000001132"},{"$f":"VLOOKUP(C:C,'[1]2024B1-B6清单'!$A:$C,3,0)","v":"义乌"},2024,"2024B6"]
[4,"2024年8月19日总经理专题办公会议纪要","330700340097",{"$f":"VLOOKUP(C:C,'[1]2024B1-B6清单'!$A:$D,4,0)","v":"普通空调壁挂"},{"$f":"VLOOKUP(C:C,'[1]2024B1-B6清单'!$A:$E,5,0)","v":"空调"},{"$f":"VLOOKUP(C:C,'[1]2024B1-B6清单'!$A:$X,24,0)","v":3693.29},{"$f":"VLOOKUP(C:C,'[1]2024B1-B6清单'!$A:$Y,25,0)","v":3582.49},1,{"$f":"VLOOKUP(C:C,'[1]2024B1-B6清单'!$A:$Z,26,0)","v":110.8},"台",null,"3P",null,{"$f":"VLOOKUP(C:C,'[1]2024B1-B6清单'!$A:$P,16,0)","v":"义乌南门街"},{"$f":"VLOOKUP(C:C,'[1]2024B1-B6清单'!$A:$Q,17,0)","v":"330782908000001132"},{"$f":"VLOOKUP(C:C,'[1]2024B1-B6清单'!$A:$C,3,0)","v":"义乌"},2024,"2024B6"]
[5,"2024年8月19日总经理专题办公会议纪要","330700112916",{"$f":"VLOOKUP(C:C,'[1]2024B1-B6清单'!$A:$D,4,0)","v":"专用空调"},{"$f":"VLOOKUP(C:C,'[1]2024B1-B6清单'!$A:$E,5,0)","v":"空调"},{"$f":"VLOOKUP(C:C,'[1]2024B1-B6清单'!$A:$X,24,0)","v":2447.26},{"$f":"VLOOKUP(C:C,'[1]2024B1-B6清单'!$A:$Y,25,0)","v":2373.84},1,{"$f":"VLOOKUP(C:C,'[1]2024B1-B6清单'!$A:$Z,26,0)","v":73.42},"台",null,"3P",null,{"$f":"VLOOKUP(C:C,'[1]2024B1-B6清单'!$A:$P,16,0)","v":"义乌上西陶二"},{"$f":"VLOOKUP(C:C,'[1]2024B1-B6清单'!$A:$Q,17,0)","v":"330782908000001492"},{"$f":"VLOOKUP(C:C,'[1]2024B1-B6清单'!$A:$C,3,0)","v":"义乌"},2024,"2024B6"]
[6,"2024年8月19日总经理专题办公会议纪要","330700143513",{"$f":"VLOOKUP(C:C,'[1]2024B1-B6清单'!$A:$D,4,0)","v":"专用空调"},{"$f":"VLOOKUP(C:C,'[1]2024B1-B6清单'!$A:$E,5,0)","v":"空调"},{"$f":"VLOOKUP(C:C,'[1]2024B1-B6清单'!$A:$X,24,0)","v":684},{"$f":"VLOOKUP(C:C,'[1]2024B1-B6清单'!$A:$Y,25,0)","v":663.48},1,{"$f":"VLOOKUP(C:C,'[1]2024B1-B6清单'!$A:$Z,26,0)","v":20.52},"台",null,"3P",null,{"$f":"VLOOKUP(C:C,'[1]2024B1-B6清单'!$A:$P,16,0)","v":"义乌苏溪东湖门"},{"$f":"VLOOKUP(C:C,'[1]2024B1-B6清单'!$A:$Q,17,0)","v":"330782908000002293"},{"$f":"VLOOKUP(C:C,'[1]2024B1-B6清单'!$A:$C,3,0)","v":"义乌"},2024,"2024B6"]
[7,"2024 年金华分公司第23次党委会会议纪要（金华铁塔党委会纪要〔2024〕第25期）","330700151232",{"$f":"VLOOKUP(C:C,'[1]2024B1-B6清单'!$A:$D,4,0)","v":"专用空调"},{"$f":"VLOOKUP(C:C,'[1]2024B1-B6清单'!$A:$E,5,0)","v":"空调"},{"$f":"VLOOKUP(C:C,'[1]2024B1-B6清单'!$A:$X,24,0)","v":3613.5},{"$f":"VLOOKUP(C:C,'[1]2024B1-B6清单'!$A:$Y,25,0)","v":3505.09},1,{"$f":"VLOOKUP(C:C,'[1]2024B1-B6清单'!$A:$Z,26,0)","v":108.41},"台",null,"3P",null,{"$f":"VLOOKUP(C:C,'[1]2024B1-B6清单'!$A:$P,16,0)","v":"义乌苏溪开发区四"},{"$f":"VLOOKUP(C:C,'[1]2024B1-B6清单'!$A:$Q,17,0)","v":"330782908000001015"},{"$f":"VLOOKUP(C:C,'[1]2024B1-B6清单'!$A:$C,3,0)","v":"义乌"},2024,"2024B4"]
[8,"2024 年金华分公司第23次党委会会议纪要（金华铁塔党委会纪要〔2024〕第25期）","330700168919",{"$f":"VLOOKUP(C:C,'[1]2024B1-B6清单'!$A:$D,4,0)","v":"专用空调"},{"$f":"VLOOKUP(C:C,'[1]2024B1-B6清单'!$A:$E,5,0)","v":"空调"},{"$f":"VLOOKUP(C:C,'[1]2024B1-B6清单'!$A:$X,24,0)","v":11360},{"$f":"VLOOKUP(C:C,'[1]2024B1-B6清单'!$A:$Y,25,0)","v":11019.2},1,{"$f":"VLOOKUP(C:C,'[1]2024B1-B6清单'!$A:$Z,26,0)","v":340.8},"台",null,"3P",null,{"$f":"VLOOKUP(C:C,'[1]2024B1-B6清单'!$A:$P,16,0)","v":"义乌苏溪开发区四"},{"$f":"VLOOKUP(C:C,'[1]2024B1-B6清单'!$A:$Q,17,0)","v":"330782908000001015"},{"$f":"VLOOKUP(C:C,'[1]2024B1-B6清单'!$A:$C,3,0)","v":"义乌"},2024,"2024B4"]
[9,"2024 年金华分公司第24次党委会会议纪要（金华铁塔党委会纪要〔2024〕第26期）","330700007976",{"$f":"VLOOKUP(C:C,'[1]2024B1-B6清单'!$A:$D,4,0)","v":"空调"},{"$f":"VLOOKUP(C:C,'[1]2024B1-B6清单'!$A:$E,5,0)","v":"空调"},{"$f":"VLOOKUP(C:C,'[1]2024B1-B6清单'!$A:$X,24,0)","v":11012.44},{"$f":"VLOOKUP(C:C,'[1]2024B1-B6清单'!$A:$Y,25,0)","v":10682.07},1,{"$f":"VLOOKUP(C:C,'[1]2024B1-B6清单'!$A:$Z,26,0)","v":330.37},"台",null,"3P",null,{"$f":"VLOOKUP(C:C,'[1]2024B1-B6清单'!$A:$P,16,0)","v":"义乌张宅一村"},{"$f":"VLOOKUP(C:C,'[1]2024B1-B6清单'!$A:$Q,17,0)","v":"33078200000085"},{"$f":"VLOOKUP(C:C,'[1]2024B1-B6清单'!$A:$C,3,0)","v":"义乌"},2024,"2024B5"]
[10,"2024年8月19日总经理专题办公会议纪要","330700121275",{"$f":"VLOOKUP(C:C,'[1]2024B1-B6清单'!$A:$D,4,0)","v":"专用空调"},{"$f":"VLOOKUP(C:C,'[1]2024B1-B6清单'!$A:$E,5,0)","v":"空调"},{"$f":"VLOOKUP(C:C,'[1]2024B1-B6清单'!$A:$X,24,0)","v":1355.46},{"$f":"VLOOKUP(C:C,'[1]2024B1-B6清单'!$A:$Y,25,0)","v":1314.8},1,{"$f":"VLOOKUP(C:C,'[1]2024B1-B6清单'!$A:$Z,26,0)","v":40.66},"台",null,"3P",null,{"$f":"VLOOKUP(C:C,'[1]2024B1-B6清单'!$A:$P,16,0)","v":"义乌赵朱"},{"$f":"VLOOKUP(C:C,'[1]2024B1-B6清单'!$A:$Q,17,0)","v":"330782908000001478"},{"$f":"VLOOKUP(C:C,'[1]2024B1-B6清单'!$A:$C,3,0)","v":"义乌"},2024,"2024B6"]
[11,"2024年8月19日总经理专题办公会议纪要","330700341526",{"$f":"VLOOKUP(C:C,'[1]2024B1-B6清单'!$A:$D,4,0)","v":"普通空调柜式"},{"$f":"VLOOKUP(C:C,'[1]2024B1-B6清单'!$A:$E,5,0)","v":"空调"},{"$f":"VLOOKUP(C:C,'[1]2024B1-B6清单'!$A:$X,24,0)","v":6180.47},{"$f":"VLOOKUP(C:C,'[1]2024B1-B6清单'!$A:$Y,25,0)","v":5995.06},1,{"$f":"VLOOKUP(C:C,'[1]2024B1-B6清单'!$A:$Z,26,0)","v":185.41},"台",null,"3P",null,{"$f":"VLOOKUP(C:C,'[1]2024B1-B6清单'!$A:$P,16,0)","v":"义乌制证中心"},{"$f":"VLOOKUP(C:C,'[1]2024B1-B6清单'!$A:$Q,17,0)","v":"330782908000000741"},{"$f":"VLOOKUP(C:C,'[1]2024B1-B6清单'!$A:$C,3,0)","v":"义乌"},2024,"2024B6"]
[12,"2024年8月19日总经理专题办公会议纪要","330700300934",{"$f":"VLOOKUP(C:C,'[1]2024B1-B6清单'!$A:$D,4,0)","v":"开关电源"},{"$f":"VLOOKUP(C:C,'[1]2024B1-B6清单'!$A:$E,5,0)","v":"开关电源"},{"$f":"VLOOKUP(C:C,'[1]2024B1-B6清单'!$A:$X,24,0)","v":3810.75},{"$f":"VLOOKUP(C:C,'[1]2024B1-B6清单'!$A:$Y,25,0)","v":3696.43},1,{"$f":"VLOOKUP(C:C,'[1]2024B1-B6清单'!$A:$Z,26,0)","v":114.32},"架",null,"组合式",null,{"$f":"VLOOKUP(C:C,'[1]2024B1-B6清单'!$A:$P,16,0)","v":"义乌枫溪"},{"$f":"VLOOKUP(C:C,'[1]2024B1-B6清单'!$A:$Q,17,0)","v":"330782908000002657"},{"$f":"VLOOKUP(C:C,'[1]2024B1-B6清单'!$A:$C,3,0)","v":"义乌"},2024,"2024B6"]
[13,"2024年8月19日总经理专题办公会议纪要","330700143944",{"$f":"VLOOKUP(C:C,'[1]2024B1-B6清单'!$A:$D,4,0)","v":"开关电源"},{"$f":"VLOOKUP(C:C,'[1]2024B1-B6清单'!$A:$E,5,0)","v":"开关电源"},{"$f":"VLOOKUP(C:C,'[1]2024B1-B6清单'!$A:$X,24,0)","v":14206.09},{"$f":"VLOOKUP(C:C,'[1]2024B1-B6清单'!$A:$Y,25,0)","v":13779.91},1,{"$f":"VLOOKUP(C:C,'[1]2024B1-B6清单'!$A:$Z,26,0)","v":426.18},"架",null,"组合式",null,{"$f":"VLOOKUP(C:C,'[1]2024B1-B6清单'!$A:$P,16,0)","v":"义乌福田中央公园西"},{"$f":"VLOOKUP(C:C,'[1]2024B1-B6清单'!$A:$Q,17,0)","v":"330782908000000937"},{"$f":"VLOOKUP(C:C,'[1]2024B1-B6清单'!$A:$C,3,0)","v":"义乌"},2024,"2024B6"]
[14,"2024年8月19日总经理专题办公会议纪要","330700319478",{"$f":"VLOOKUP(C:C,'[1]2024B1-B6清单'!$A:$D,4,0)","v":"开关电源"},{"$f":"VLOOKUP(C:C,'[1]2024B1-B6清单'!$A:$E,5,0)","v":"开关电源"},{"$f":"VLOOKUP(C:C,'[1]2024B1-B6清单'!$A:$X,24,0)","v":8898.26},{"$f":"VLOOKUP(C:C,'[1]2024B1-B6清单'!$A:$Y,25,0)","v":8631.31},1,{"$f":"VLOOKUP(C:C,'[1]2024B1-B6清单'!$A:$Z,26,0)","v":266.95},"架",null,"组合式",null,{"$f":"VLOOKUP(C:C,'[1]2024B1-B6清单'!$A:$P,16,0)","v":"义乌假日酒店"},{"$f":"VLOOKUP(C:C,'[1]2024B1-B6清单'!$A:$Q,17,0)","v":"33078200000447"},{"$f":"VLOOKUP(C:C,'[1]2024B1-B6清单'!$A:$C,3,0)","v":"义乌"},2024,"2024B6"]
[15,"2024年8月19日总经理专题办公会议纪要","330700130479",{"$f":"VLOOKUP(C:C,'[1]2024B1-B6清单'!$A:$D,4,0)","v":"开关电源"},{"$f":"VLOOKUP(C:C,'[1]2024B1-B6清单'!$A:$E,5,0)","v":"开关电源"},{"$f":"VLOOKUP(C:C,'[1]2024B1-B6清单'!$A:$X,24,0)","v":6854.69},{"$f":"VLOOKUP(C:C,'[1]2024B1-B6清单'!$A:$Y,25,0)","v":6649.05},1,{"$f":"VLOOKUP(C:C,'[1]2024B1-B6清单'!$A:$Z,26,0)","v":205.64},"架",null,"组合式",null,{"$f":"VLOOKUP(C:C,'[1]2024B1-B6清单'!$A:$P,16,0)","v":"义乌苏溪马丁-2"},{"$f":"VLOOKUP(C:C,'[1]2024B1-B6清单'!$A:$Q,17,0)","v":"330782908000002651"},{"$f":"VLOOKUP(C:C,'[1]2024B1-B6清单'!$A:$C,3,0)","v":"义乌"},2024,"2024B6"]
[16,"2024年8月19日总经理专题办公会议纪要","330700340481",{"$f":"VLOOKUP(C:C,'[1]2024B1-B6清单'!$A:$D,4,0)","v":"动力及环境监控单元"},{"$f":"VLOOKUP(C:C,'[1]2024B1-B6清单'!$A:$E,5,0)","v":"动环"},{"$f":"VLOOKUP(C:C,'[1]2024B1-B6清单'!$A:$X,24,0)","v":2937.63},{"$f":"VLOOKUP(C:C,'[1]2024B1-B6清单'!$A:$Y,25,0)","v":2849.5},1,{"$f":"VLOOKUP(C:C,'[1]2024B1-B6清单'!$A:$Z,26,0)","v":88.13},"个",null,"监控",null,{"$f":"VLOOKUP(C:C,'[1]2024B1-B6清单'!$A:$P,16,0)","v":"义乌江东金星"},{"$f":"VLOOKUP(C:C,'[1]2024B1-B6清单'!$A:$Q,17,0)","v":"330782700000111884"},{"$f":"VLOOKUP(C:C,'[1]2024B1-B6清单'!$A:$C,3,0)","v":"义乌"},2024,"2024B6"]
[17,"2024年8月19日总经理专题办公会议纪要","330700377090",{"$f":"VLOOKUP(C:C,'[1]2024B1-B6清单'!$A:$D,4,0)","v":"动力及环境监控单元"},{"$f":"VLOOKUP(C:C,'[1]2024B1-B6清单'!$A:$E,5,0)","v":"动环"},{"$f":"VLOOKUP(C:C,'[1]2024B1-B6清单'!$A:$X,24,0)","v":2671.62},{"$f":"VLOOKUP(C:C,'[1]2024B1-B6清单'!$A:$Y,25,0)","v":2123.54},1,{"$f":"VLOOKUP(C:C,'[1]2024B1-B6清单'!$A:$Z,26,0)","v":548.08},"个",null,"监控",null,{"$f":"VLOOKUP(C:C,'[1]2024B1-B6清单'!$A:$P,16,0)","v":"义乌平畴欧迅"},{"$f":"VLOOKUP(C:C,'[1]2024B1-B6清单'!$A:$Q,17,0)","v":"330782908000002522"},{"$f":"VLOOKUP(C:C,'[1]2024B1-B6清单'!$A:$C,3,0)","v":"义乌"},2024,"2024B6"]
[18,"2024年8月19日总经理专题办公会议纪要","330700323246",{"$f":"VLOOKUP(C:C,'[1]2024B1-B6清单'!$A:$D,4,0)","v":"动力及环境监控单元"},{"$f":"VLOOKUP(C:C,'[1]2024B1-B6清单'!$A:$E,5,0)","v":"动环"},{"$f":"VLOOKUP(C:C,'[1]2024B1-B6清单'!$A:$X,24,0)","v":3854.7},{"$f":"VLOOKUP(C:C,'[1]2024B1-B6清单'!$A:$Y,25,0)","v":3739.06},1,{"$f":"VLOOKUP(C:C,'[1]2024B1-B6清单'!$A:$Z,26,0)","v":115.64},"个",null,"监控",null,{"$f":"VLOOKUP(C:C,'[1]2024B1-B6清单'!$A:$P,16,0)","v":"义乌山口二北"},{"$f":"VLOOKUP(C:C,'[1]2024B1-B6清单'!$A:$Q,17,0)","v":"330782010000000743"},{"$f":"VLOOKUP(C:C,'[1]2024B1-B6清单'!$A:$C,3,0)","v":"义乌"},2024,"2024B6"]
[19,"2024年8月19日总经理专题办公会议纪要","330700382118",{"$f":"VLOOKUP(C:C,'[1]2024B1-B6清单'!$A:$D,4,0)","v":"动力及环境监控单元"},{"$f":"VLOOKUP(C:C,'[1]2024B1-B6清单'!$A:$E,5,0)","v":"动环"},{"$f":"VLOOKUP(C:C,'[1]2024B1-B6清单'!$A:$X,24,0)","v":2661.8},{"$f":"VLOOKUP(C:C,'[1]2024B1-B6清单'!$A:$Y,25,0)","v":2079.88},1,{"$f":"VLOOKUP(C:C,'[1]2024B1-B6清单'!$A:$Z,26,0)","v":581.92},"个",null,"监控",null,{"$f":"VLOOKUP(C:C,'[1]2024B1-B6清单'!$A:$P,16,0)","v":"义乌苏溪颜村"},{"$f":"VLOOKUP(C:C,'[1]2024B1-B6清单'!$A:$Q,17,0)","v":"330782908000000901"},{"$f":"VLOOKUP(C:C,'[1]2024B1-B6清单'!$A:$C,3,0)","v":"义乌"},2024,"2024B6"]
[20,"2024年8月19日总经理专题办公会议纪要","330700104608",{"$f":"VLOOKUP(C:C,'[1]2024B1-B6清单'!$A:$D,4,0)","v":"开关电源"},{"$f":"VLOOKUP(C:C,'[1]2024B1-B6清单'!$A:$E,5,0)","v":"开关电源"},{"$f":"VLOOKUP(C:C,'[1]2024B1-B6清单'!$A:$X,24,0)","v":4664.16},{"$f":"VLOOKUP(C:C,'[1]2024B1-B6清单'!$A:$Y,25,0)","v":4524.24},1,{"$f":"VLOOKUP(C:C,'[1]2024B1-B6清单'!$A:$Z,26,0)","v":139.92},"架",null,"嵌入式",null,{"$f":"VLOOKUP(C:C,'[1]2024B1-B6清单'!$A:$P,16,0)","v":"东阳石盆"},{"$f":"VLOOKUP(C:C,'[1]2024B1-B6清单'!$A:$Q,17,0)","v":"330783908000000774"},{"$f":"VLOOKUP(C:C,'[1]2024B1-B6清单'!$A:$C,3,0)","v":"东阳"},2024,"2024B6"]
[21,"2024 年金华分公司第24次党委会会议纪要（金华铁塔党委会纪要〔2024〕第26期）","330700302861",{"$f":"VLOOKUP(C:C,'[1]2024B1-B6清单'!$A:$D,4,0)","v":"开关电源"},{"$f":"VLOOKUP(C:C,'[1]2024B1-B6清单'!$A:$E,5,0)","v":"开关电源"},{"$f":"VLOOKUP(C:C,'[1]2024B1-B6清单'!$A:$X,24,0)","v":7155.6},{"$f":"VLOOKUP(C:C,'[1]2024B1-B6清单'!$A:$Y,25,0)","v":6940.93},1,{"$f":"VLOOKUP(C:C,'[1]2024B1-B6清单'!$A:$Z,26,0)","v":214.67},"架",null,"组合式",null,{"$f":"VLOOKUP(C:C,'[1]2024B1-B6清单'!$A:$P,16,0)","v":"永康河南-3"},{"$f":"VLOOKUP(C:C,'[1]2024B1-B6清单'!$A:$Q,17,0)","v":"330784908000001412"},{"$f":"VLOOKUP(C:C,'[1]2024B1-B6清单'!$A:$C,3,0)","v":"永康"},2024,"2024B5"]
[22,"2024 年金华分公司第24次党委会会议纪要（金华铁塔党委会纪要〔2024〕第26期）","330700105486",{"$f":"VLOOKUP(C:C,'[1]2024B1-B6清单'!$A:$D,4,0)","v":"开关电源"},{"$f":"VLOOKUP(C:C,'[1]2024B1-B6清单'!$A:$E,5,0)","v":"开关电源"},{"$f":"VLOOKUP(C:C,'[1]2024B1-B6清单'!$A:$X,24,0)","v":8561.76},{"$f":"VLOOKUP(C:C,'[1]2024B1-B6清单'!$A:$Y,25,0)","v":8304.91},1,{"$f":"VLOOKUP(C:C,'[1]2024B1-B6清单'!$A:$Z,26,0)","v":256.85},"架",null,"组合式",null,{"$f":"VLOOKUP(C:C,'[1]2024B1-B6清单'!$A:$P,16,0)","v":"永康华宝公司"},{"$f":"VLOOKUP(C:C,'[1]2024B1-B6清单'!$A:$Q,17,0)","v":"330784908000000285"},{"$f":"VLOOKUP(C:C,'[1]2024B1-B6清单'!$A:$C,3,0)","v":"永康"},2024,"2024B5"]
[23,"2024年8月19日总经理专题办公会议纪要","330700117636",{"$f":"VLOOKUP(C:C,'[1]2024B1-B6清单'!$A:$D,4,0)","v":"开关电源"},{"$f":"VLOOKUP(C:C,'[1]2024B1-B6清单'!$A:$E,5,0)","v":"开关电源"},{"$f":"VLOOKUP(C:C,'[1]2024B1-B6清单'!$A:$X,24,0)","v":9945.98},{"$f":"VLOOKUP(C:C,'[1]2024B1-B6清单'!$A:$Y,25,0)","v":9647.6},1,{"$f":"VLOOKUP(C:C,'[1]2024B1-B6清单'!$A:$Z,26,0)","v":298.38},"架",null,"组合式",null,{"$f":"VLOOKUP(C:C,'[1]2024B1-B6清单'!$A:$P,16,0)","v":"永康三峰公司"},{"$f":"VLOOKUP(C:C,'[1]2024B1-B6清单'!$A:$Q,17,0)","v":"330784908000001286"},{"$f":"VLOOKUP(C:C,'[1]2024B1-B6清单'!$A:$C,3,0)","v":"永康"},2024,"2024B6"]
[24,"2024年8月19日总经理专题办公会议纪要","330700134500",{"$f":"VLOOKUP(C:C,'[1]2024B1-B6清单'!$A:$D,4,0)","v":"专用空调"},{"$f":"VLOOKUP(C:C,'[1]2024B1-B6清单'!$A:$E,5,0)","v":"空调"},{"$f":"VLOOKUP(C:C,'[1]2024B1-B6清单'!$A:$X,24,0)","v":4615.25},{"$f":"VLOOKUP(C:C,'[1]2024B1-B6清单'!$A:$Y,25,0)","v":4476.79},1,{"$f":"VLOOKUP(C:C,'[1]2024B1-B6清单'!$A:$Z,26,0)","v":138.46},"台",null,"1.5P挂式",null,{"$f":"VLOOKUP(C:C,'[1]2024B1-B6清单'!$A:$P,16,0)","v":"东阳城市规划设计院"},{"$f":"VLOOKUP(C:C,'[1]2024B1-B6清单'!$A:$Q,17,0)","v":"330783908000000938"},{"$f":"VLOOKUP(C:C,'[1]2024B1-B6清单'!$A:$C,3,0)","v":"东阳"},2024,"2024B6"]
[25,"2024年8月19日总经理专题办公会议纪要","330700113044",{"$f":"VLOOKUP(C:C,'[1]2024B1-B6清单'!$A:$D,4,0)","v":"专用空调"},{"$f":"VLOOKUP(C:C,'[1]2024B1-B6清单'!$A:$E,5,0)","v":"空调"},{"$f":"VLOOKUP(C:C,'[1]2024B1-B6清单'!$A:$X,24,0)","v":103},{"$f":"VLOOKUP(C:C,'[1]2024B1-B6清单'!$A:$Y,25,0)","v":99.91},1,{"$f":"VLOOKUP(C:C,'[1]2024B1-B6清单'!$A:$Z,26,0)","v":3.09},"台",null,"1.5P挂式",null,{"$f":"VLOOKUP(C:C,'[1]2024B1-B6清单'!$A:$P,16,0)","v":"东阳黄田畈-2"},{"$f":"VLOOKUP(C:C,'[1]2024B1-B6清单'!$A:$Q,17,0)","v":"330783908000001336"},{"$f":"VLOOKUP(C:C,'[1]2024B1-B6清单'!$A:$C,3,0)","v":"东阳"},2024,"2024B6"]
[26,"2024年8月19日总经理专题办公会议纪要","330700340362",{"$f":"VLOOKUP(C:C,'[1]2024B1-B6清单'!$A:$D,4,0)","v":"动力及环境监控单元"},{"$f":"VLOOKUP(C:C,'[1]2024B1-B6清单'!$A:$E,5,0)","v":"动环"},{"$f":"VLOOKUP(C:C,'[1]2024B1-B6清单'!$A:$X,24,0)","v":3617.21},{"$f":"VLOOKUP(C:C,'[1]2024B1-B6清单'!$A:$Y,25,0)","v":3508.69},1,{"$f":"VLOOKUP(C:C,'[1]2024B1-B6清单'!$A:$Z,26,0)","v":108.52},"个",null,"监控",null,{"$f":"VLOOKUP(C:C,'[1]2024B1-B6清单'!$A:$P,16,0)","v":"永康安居苑"},{"$f":"VLOOKUP(C:C,'[1]2024B1-B6清单'!$A:$Q,17,0)","v":"330784908000001454"},{"$f":"VLOOKUP(C:C,'[1]2024B1-B6清单'!$A:$C,3,0)","v":"永康"},2024,"2024B6"]
[27,"2024年8月19日总经理专题办公会议纪要","330700340350",{"$f":"VLOOKUP(C:C,'[1]2024B1-B6清单'!$A:$D,4,0)","v":"动力及环境监控单元"},{"$f":"VLOOKUP(C:C,'[1]2024B1-B6清单'!$A:$E,5,0)","v":"动环"},{"$f":"VLOOKUP(C:C,'[1]2024B1-B6清单'!$A:$X,24,0)","v":3118.67},{"$f":"VLOOKUP(C:C,'[1]2024B1-B6清单'!$A:$Y,25,0)","v":3025.11},1,{"$f":"VLOOKUP(C:C,'[1]2024B1-B6清单'!$A:$Z,26,0)","v":93.56},"个",null,"监控",null,{"$f":"VLOOKUP(C:C,'[1]2024B1-B6清单'!$A:$P,16,0)","v":"永康城西看守所"},{"$f":"VLOOKUP(C:C,'[1]2024B1-B6清单'!$A:$Q,17,0)","v":"330784908000001448"},{"$f":"VLOOKUP(C:C,'[1]2024B1-B6清单'!$A:$C,3,0)","v":"永康"},2024,"2024B6"]
[28,"2024年8月19日总经理专题办公会议纪要","330700341416",{"$f":"VLOOKUP(C:C,'[1]2024B1-B6清单'!$A:$D,4,0)","v":"动力及环境监控单元"},{"$f":"VLOOKUP(C:C,'[1]2024B1-B6清单'!$A:$E,5,0)","v":"动环"},{"$f":"VLOOKUP(C:C,'[1]2024B1-B6清单'!$A:$X,24,0)","v":3687},{"$f":"VLOOKUP(C:C,'[1]2024B1-B6清单'!$A:$Y,25,0)","v":3576.39},1,{"$f":"VLOOKUP(C:C,'[1]2024B1-B6清单'!$A:$Z,26,0)","v":110.61},"个",null,"监控",null,{"$f":"VLOOKUP(C:C,'[1]2024B1-B6清单'!$A:$P,16,0)","v":"永康独松-2"},{"$f":"VLOOKUP(C:C,'[1]2024B1-B6清单'!$A:$Q,17,0)","v":"330784908000001396"},{"$f":"VLOOKUP(C:C,'[1]2024B1-B6清单'!$A:$C,3,0)","v":"永康"},2024,"2024B6"]
[29,"2024年8月19日总经理专题办公会议纪要","330700339506",{"$f":"VLOOKUP(C:C,'[1]2024B1-B6清单'!$A:$D,4,0)","v":"动力及环境监控单元"},{"$f":"VLOOKUP(C:C,'[1]2024B1-B6清单'!$A:$E,5,0)","v":"动环"},{"$f":"VLOOKUP(C:C,'[1]2024B1-B6清单'!$A:$X,24,0)","v":2527.8},{"$f":"VLOOKUP(C:C,'[1]2024B1-B6清单'!$A:$Y,25,0)","v":2451.97},1,{"$f":"VLOOKUP(C:C,'[1]2024B1-B6清单'!$A:$Z,26,0)","v":75.83},"个",null,"监控",null,{"$f":"VLOOKUP(C:C,'[1]2024B1-B6清单'!$A:$P,16,0)","v":"永康方岩-2"},{"$f":"VLOOKUP(C:C,'[1]2024B1-B6清单'!$A:$Q,17,0)","v":"330784908000001501"},{"$f":"VLOOKUP(C:C,'[1]2024B1-B6清单'!$A:$C,3,0)","v":"永康"},2024,"2024B6"]
[30,"2024年8月19日总经理专题办公会议纪要","330700339502",{"$f":"VLOOKUP(C:C,'[1]2024B1-B6清单'!$A:$D,4,0)","v":"动力及环境监控单元"},{"$f":"VLOOKUP(C:C,'[1]2024B1-B6清单'!$A:$E,5,0)","v":"动环"},{"$f":"VLOOKUP(C:C,'[1]2024B1-B6清单'!$A:$X,24,0)","v":2527.8},{"$f":"VLOOKUP(C:C,'[1]2024B1-B6清单'!$A:$Y,25,0)","v":2451.97},1,{"$f":"VLOOKUP(C:C,'[1]2024B1-B6清单'!$A:$Z,26,0)","v":75.83},"个",null,"监控",null,{"$f":"VLOOKUP(C:C,'[1]2024B1-B6清单'!$A:$P,16,0)","v":"永康金川-2"},{"$f":"VLOOKUP(C:C,'[1]2024B1-B6清单'!$A:$Q,17,0)","v":"330784908000001535"},{"$f":"VLOOKUP(C:C,'[1]2024B1-B6清单'!$A:$C,3,0)","v":"永康"},2024,"2024B6"]
[31,"2024年8月19日总经理专题办公会议纪要","330700341006",{"$f":"VLOOKUP(C:C,'[1]2024B1-B6清单'!$A:$D,4,0)","v":"动力及环境监控单元"},{"$f":"VLOOKUP(C:C,'[1]2024B1-B6清单'!$A:$E,5,0)","v":"动环"},{"$f":"VLOOKUP(C:C,'[1]2024B1-B6清单'!$A:$X,24,0)","v":2811.79},{"$f":"VLOOKUP(C:C,'[1]2024B1-B6清单'!$A:$Y,25,0)","v":2727.44},1,{"$f":"VLOOKUP(C:C,'[1]2024B1-B6清单'!$A:$Z,26,0)","v":84.35},"个",null,"监控",null,{"$f":"VLOOKUP(C:C,'[1]2024B1-B6清单'!$A:$P,16,0)","v":"永康金温后郑南"},{"$f":"VLOOKUP(C:C,'[1]2024B1-B6清单'!$A:$Q,17,0)","v":"330784500000000140"},{"$f":"VLOOKUP(C:C,'[1]2024B1-B6清单'!$A:$C,3,0)","v":"永康"},2024,"2024B6"]
[32,"2024年8月19日总经理专题办公会议纪要","330700339498",{"$f":"VLOOKUP(C:C,'[1]2024B1-B6清单'!$A:$D,4,0)","v":"动力及环境监控单元"},{"$f":"VLOOKUP(C:C,'[1]2024B1-B6清单'!$A:$E,5,0)","v":"动环"},{"$f":"VLOOKUP(C:C,'[1]2024B1-B6清单'!$A:$X,24,0)","v":2527.8},{"$f":"VLOOKUP(C:C,'[1]2024B1-B6清单'!$A:$Y,25,0)","v":2451.97},1,{"$f":"VLOOKUP(C:C,'[1]2024B1-B6清单'!$A:$Z,26,0)","v":75.83},"个",null,"监控",null,{"$f":"VLOOKUP(C:C,'[1]2024B1-B6清单'!$A:$P,16,0)","v":"永康荆山夏"},{"$f":"VLOOKUP(C:C,'[1]2024B1-B6清单'!$A:$Q,17,0)","v":"330784908000001455"},{"$f":"VLOOKUP(C:C,'[1]2024B1-B6清单'!$A:$C,3,0)","v":"永康"},2024,"2024B6"]
[33,"2024年8月19日总经理专题办公会议纪要","330700324632",{"$f":"VLOOKUP(C:C,'[1]2024B1-B6清单'!$A:$D,4,0)","v":"动力及环境监控单元"},{"$f":"VLOOKUP(C:C,'[1]2024B1-B6清单'!$A:$E,5,0)","v":"动环"},{"$f":"VLOOKUP(C:C,'[1]2024B1-B6清单'!$A:$X,24,0)","v":3722.53},{"$f":"VLOOKUP(C:C,'[1]2024B1-B6清单'!$A:$Y,25,0)","v":3610.85},1,{"$f":"VLOOKUP(C:C,'[1]2024B1-B6清单'!$A:$Z,26,0)","v":111.68},"个",null,"监控",null,{"$f":"VLOOKUP(C:C,'[1]2024B1-B6清单'!$A:$P,16,0)","v":"永康龙川学校南"},{"$f":"VLOOKUP(C:C,'[1]2024B1-B6清单'!$A:$Q,17,0)","v":"330784500000000101"},{"$f":"VLOOKUP(C:C,'[1]2024B1-B6清单'!$A:$C,3,0)","v":"永康"},2024,"2024B6"]
[34,"2024年8月19日总经理专题办公会议纪要","330700339511",{"$f":"VLOOKUP(C:C,'[1]2024B1-B6清单'!$A:$D,4,0)","v":"动力及环境监控单元"},{"$f":"VLOOKUP(C:C,'[1]2024B1-B6清单'!$A:$E,5,0)","v":"动环"},{"$f":"VLOOKUP(C:C,'[1]2024B1-B6清单'!$A:$X,24,0)","v":2527.8},{"$f":"VLOOKUP(C:C,'[1]2024B1-B6清单'!$A:$Y,25,0)","v":2451.97},1,{"$f":"VLOOKUP(C:C,'[1]2024B1-B6清单'!$A:$Z,26,0)","v":75.83},"个",null,"监控",null,{"$f":"VLOOKUP(C:C,'[1]2024B1-B6清单'!$A:$P,16,0)","v":"永康麻车店-2"},{"$f":"VLOOKUP(C:C,'[1]2024B1-B6清单'!$A:$Q,17,0)","v":"330784908000001266"},{"$f":"VLOOKUP(C:C,'[1]2024B1-B6清单'!$A:$C,3,0)","v":"永康"},2024,"2024B6"]
[35,"2024年8月19日总经理专题办公会议纪要","330700341015",{"$f":"VLOOKUP(C:C,'[1]2024B1-B6清单'!$A:$D,4,0)","v":"动力及环境监控单元"},{"$f":"VLOOKUP(C:C,'[1]2024B1-B6清单'!$A:$E,5,0)","v":"动环"},{"$f":"VLOOKUP(C:C,'[1]2024B1-B6清单'!$A:$X,24,0)","v":2811.79},{"$f":"VLOOKUP(C:C,'[1]2024B1-B6清单'!$A:$Y,25,0)","v":2727.44},1,{"$f":"VLOOKUP(C:C,'[1]2024B1-B6清单'!$A:$Z,26,0)","v":84.35},"个",null,"监控",null,{"$f":"VLOOKUP(C:C,'[1]2024B1-B6清单'!$A:$P,16,0)","v":"永康前仓江滨路Y"},{"$f":"VLOOKUP(C:C,'[1]2024B1-B6清单'!$A:$Q,17,0)","v":"33078450000000000147"},{"$f":"VLOOKUP(C:C,'[1]2024B1-B6清单'!$A:$C,3,0)","v":"永康"},2024,"2024B6"]
[36,"2024年8月19日总经理专题办公会议纪要","330700351275",{"$f":"VLOOKUP(C:C,'[1]2024B1-B6清单'!$A:$D,4,0)","v":"动力及环境监控单元"},{"$f":"VLOOKUP(C:C,'[1]2024B1-B6清单'!$A:$E,5,0)","v":"动环"},{"$f":"VLOOKUP(C:C,'[1]2024B1-B6清单'!$A:$X,24,0)","v":3168.38},{"$f":"VLOOKUP(C:C,'[1]2024B1-B6清单'!$A:$Y,25,0)","v":3073.33},1,{"$f":"VLOOKUP(C:C,'[1]2024B1-B6清单'!$A:$Z,26,0)","v":95.05},"个",null,"监控",null,{"$f":"VLOOKUP(C:C,'[1]2024B1-B6清单'!$A:$P,16,0)","v":"永康桥下镇"},{"$f":"VLOOKUP(C:C,'[1]2024B1-B6清单'!$A:$Q,17,0)","v":"330784908000001299"},{"$f":"VLOOKUP(C:C,'[1]2024B1-B6清单'!$A:$C,3,0)","v":"永康"},2024,"2024B6"]
[37,"2024年8月19日总经理专题办公会议纪要","330700343878",{"$f":"VLOOKUP(C:C,'[1]2024B1-B6清单'!$A:$D,4,0)","v":"动力及环境监控单元"},{"$f":"VLOOKUP(C:C,'[1]2024B1-B6清单'!$A:$E,5,0)","v":"动环"},{"$f":"VLOOKUP(C:C,'[1]2024B1-B6清单'!$A:$X,24,0)","v":4184.05},{"$f":"VLOOKUP(C:C,'[1]2024B1-B6清单'!$A:$Y,25,0)","v":4058.53},1,{"$f":"VLOOKUP(C:C,'[1]2024B1-B6清单'!$A:$Z,26,0)","v":125.52},"个",null,"监控",null,{"$f":"VLOOKUP(C:C,'[1]2024B1-B6清单'!$A:$P,16,0)","v":"永康山后卢"},{"$f":"VLOOKUP(C:C,'[1]2024B1-B6清单'!$A:$Q,17,0)","v":"330784908000000624"},{"$f":"VLOOKUP(C:C,'[1]2024B1-B6清单'!$A:$C,3,0)","v":"永康"},2024,"2024B6"]
[38,"2024年8月19日总经理专题办公会议纪要","330700340413",{"$f":"VLOOKUP(C:C,'[1]2024B1-B6清单'!$A:$D,4,0)","v":"动力及环境监控单元"},{"$f":"VLOOKUP(C:C,'[1]2024B1-B6清单'!$A:$E,5,0)","v":"动环"},{"$f":"VLOOKUP(C:C,'[1]2024B1-B6清单'!$A:$X,24,0)","v":2429.23},{"$f":"VLOOKUP(C:C,'[1]2024B1-B6清单'!$A:$Y,25,0)","v":2356.35},1,{"$f":"VLOOKUP(C:C,'[1]2024B1-B6清单'!$A:$Z,26,0)","v":72.88},"个",null,"监控",null,{"$f":"VLOOKUP(C:C,'[1]2024B1-B6清单'!$A:$P,16,0)","v":"永康上徐店村"},{"$f":"VLOOKUP(C:C,'[1]2024B1-B6清单'!$A:$Q,17,0)","v":"330784908000001486"},{"$f":"VLOOKUP(C:C,'[1]2024B1-B6清单'!$A:$C,3,0)","v":"永康"},2024,"2024B6"]
[39,"2024年8月19日总经理专题办公会议纪要","330700339478",{"$f":"VLOOKUP(C:C,'[1]2024B1-B6清单'!$A:$D,4,0)","v":"动力及环境监控单元"},{"$f":"VLOOKUP(C:C,'[1]2024B1-B6清单'!$A:$E,5,0)","v":"动环"},{"$f":"VLOOKUP(C:C,'[1]2024B1-B6清单'!$A:$X,24,0)","v":2527.8},{"$f":"VLOOKUP(C:C,'[1]2024B1-B6清单'!$A:$Y,25,0)","v":2451.97},1,{"$f":"VLOOKUP(C:C,'[1]2024B1-B6清单'!$A:$Z,26,0)","v":75.83},"个",null,"监控",null,{"$f":"VLOOKUP(C:C,'[1]2024B1-B6清单'!$A:$P,16,0)","v":"永康申亭-3"},{"$f":"VLOOKUP(C:C,'[1]2024B1-B6清单'!$A:$Q,17,0)","v":"330784908000001536"},{"$f":"VLOOKUP(C:C,'[1]2024B1-B6清单'!$A:$C,3,0)","v":"永康"},2024,"2024B6"]
[40,"2024年8月19日总经理专题办公会议纪要","330700340364",{"$f":"VLOOKUP(C:C,'[1]2024B1-B6清单'!$A:$D,4,0)","v":"动力及环境监控单元"},{"$f":"VLOOKUP(C:C,'[1]2024B1-B6清单'!$A:$E,5,0)","v":"动环"},{"$f":"VLOOKUP(C:C,'[1]2024B1-B6清单'!$A:$X,24,0)","v":3573.44},{"$f":"VLOOKUP(C:C,'[1]2024B1-B6清单'!$A:$Y,25,0)","v":3466.24},1,{"$f":"VLOOKUP(C:C,'[1]2024B1-B6清单'!$A:$Z,26,0)","v":107.2},"个",null,"监控",null,{"$f":"VLOOKUP(C:C,'[1]2024B1-B6清单'!$A:$P,16,0)","v":"永康石雅-2"},{"$f":"VLOOKUP(C:C,'[1]2024B1-B6清单'!$A:$Q,17,0)","v":"330784908000001476"},{"$f":"VLOOKUP(C:C,'[1]2024B1-B6清单'!$A:$C,3,0)","v":"永康"},2024,"2024B6"]
[41,"2024年8月19日总经理专题办公会议纪要","330700343716",{"$f":"VLOOKUP(C:C,'[1]2024B1-B6清单'!$A:$D,4,0)","v":"动力及环境监控单元"},{"$f":"VLOOKUP(C:C,'[1]2024B1-B6清单'!$A:$E,5,0)","v":"动环"},{"$f":"VLOOKUP(C:C,'[1]2024B1-B6清单'!$A:$X,24,0)","v":5578.23},{"$f":"VLOOKUP(C:C,'[1]2024B1-B6清单'!$A:$Y,25,0)","v":5410.88},1,{"$f":"VLOOKUP(C:C,'[1]2024B1-B6清单'!$A:$Z,26,0)","v":167.35},"个",null,"监控",null,{"$f":"VLOOKUP(C:C,'[1]2024B1-B6清单'!$A:$P,16,0)","v":"永康仙陵"},{"$f":"VLOOKUP(C:C,'[1]2024B1-B6清单'!$A:$Q,17,0)","v":"33078400000054"},{"$f":"VLOOKUP(C:C,'[1]2024B1-B6清单'!$A:$C,3,0)","v":"永康"},2024,"2024B6"]
[42,"2024年8月19日总经理专题办公会议纪要","330700330089",{"$f":"VLOOKUP(C:C,'[1]2024B1-B6清单'!$A:$D,4,0)","v":"动力及环境监控单元"},{"$f":"VLOOKUP(C:C,'[1]2024B1-B6清单'!$A:$E,5,0)","v":"动环"},{"$f":"VLOOKUP(C:C,'[1]2024B1-B6清单'!$A:$X,24,0)","v":11576.75},{"$f":"VLOOKUP(C:C,'[1]2024B1-B6清单'!$A:$Y,25,0)","v":11229.45},1,{"$f":"VLOOKUP(C:C,'[1]2024B1-B6清单'!$A:$Z,26,0)","v":347.3},"个",null,"监控",null,{"$f":"VLOOKUP(C:C,'[1]2024B1-B6清单'!$A:$P,16,0)","v":"永康晏塘搬迁"},{"$f":"VLOOKUP(C:C,'[1]2024B1-B6清单'!$A:$Q,17,0)","v":"330784500000000127"},{"$f":"VLOOKUP(C:C,'[1]2024B1-B6清单'!$A:$C,3,0)","v":"永康"},2024,"2024B6"]
[43,"2024年8月19日总经理专题办公会议纪要","330700339494",{"$f":"VLOOKUP(C:C,'[1]2024B1-B6清单'!$A:$D,4,0)","v":"动力及环境监控单元"},{"$f":"VLOOKUP(C:C,'[1]2024B1-B6清单'!$A:$E,5,0)","v":"动环"},{"$f":"VLOOKUP(C:C,'[1]2024B1-B6清单'!$A:$X,24,0)","v":2527.8},{"$f":"VLOOKUP(C:C,'[1]2024B1-B6清单'!$A:$Y,25,0)","v":2451.97},1,{"$f":"VLOOKUP(C:C,'[1]2024B1-B6清单'!$A:$Z,26,0)","v":75.83},"个",null,"监控",null,{"$f":"VLOOKUP(C:C,'[1]2024B1-B6清单'!$A:$P,16,0)","v":"永康姚塘村"},{"$f":"VLOOKUP(C:C,'[1]2024B1-B6清单'!$A:$Q,17,0)","v":"330784908000001439"},{"$f":"VLOOKUP(C:C,'[1]2024B1-B6清单'!$A:$C,3,0)","v":"永康"},2024,"2024B6"]
[44,"2024年8月19日总经理专题办公会议纪要","330700340151",{"$f":"VLOOKUP(C:C,'[1]2024B1-B6清单'!$A:$D,4,0)","v":"动力及环境监控单元"},{"$f":"VLOOKUP(C:C,'[1]2024B1-B6清单'!$A:$E,5,0)","v":"动环"},{"$f":"VLOOKUP(C:C,'[1]2024B1-B6清单'!$A:$X,24,0)","v":2937.63},{"$f":"VLOOKUP(C:C,'[1]2024B1-B6清单'!$A:$Y,25,0)","v":2849.5},1,{"$f":"VLOOKUP(C:C,'[1]2024B1-B6清单'!$A:$Z,26,0)","v":88.13},"个",null,"监控",null,{"$f":"VLOOKUP(C:C,'[1]2024B1-B6清单'!$A:$P,16,0)","v":"永康应店-2"},{"$f":"VLOOKUP(C:C,'[1]2024B1-B6清单'!$A:$Q,17,0)","v":"330784908000001345"},{"$f":"VLOOKUP(C:C,'[1]2024B1-B6清单'!$A:$C,3,0)","v":"永康"},2024,"2024B6"]
[45,"2024年8月19日总经理专题办公会议纪要","330700339513",{"$f":"VLOOKUP(C:C,'[1]2024B1-B6清单'!$A:$D,4,0)","v":"动力及环境监控单元"},{"$f":"VLOOKUP(C:C,'[1]2024B1-B6清单'!$A:$E,5,0)","v":"动环"},{"$f":"VLOOKUP(C:C,'[1]2024B1-B6清单'!$A:$X,24,0)","v":2527.8},{"$f":"VLOOKUP(C:C,'[1]2024B1-B6清单'!$A:$Y,25,0)","v":2451.97},1,{"$f":"VLOOKUP(C:C,'[1]2024B1-B6清单'!$A:$Z,26,0)","v":75.83},"个",null,"监控",null,{"$f":"VLOOKUP(C:C,'[1]2024B1-B6清单'!$A:$P,16,0)","v":"永康俞溪头"},{"$f":"VLOOKUP(C:C,'[1]2024B1-B6清单'!$A:$Q,17,0)","v":"330784908000001437"},{"$f":"VLOOKUP(C:C,'[1]2024B1-B6清单'!$A:$C,3,0)","v":"永康"},2024,"2024B6"]
[46,"2024年8月19日总经理专题办公会议纪要","330700324739",{"$f":"VLOOKUP(C:C,'[1]2024B1-B6清单'!$A:$D,4,0)","v":"动力及环境监控单元"},{"$f":"VLOOKUP(C:C,'[1]2024B1-B6清单'!$A:$E,5,0)","v":"动环"},{"$f":"VLOOKUP(C:C,'[1]2024B1-B6清单'!$A:$X,24,0)","v":3824.45},{"$f":"VLOOKUP(C:C,'[1]2024B1-B6清单'!$A:$Y,25,0)","v":3709.72},1,{"$f":"VLOOKUP(C:C,'[1]2024B1-B6清单'!$A:$Z,26,0)","v":114.73},"个",null,"监控",null,{"$f":"VLOOKUP(C:C,'[1]2024B1-B6清单'!$A:$P,16,0)","v":"永康芝英游溪塘村西"},{"$f":"VLOOKUP(C:C,'[1]2024B1-B6清单'!$A:$Q,17,0)","v":"330784500000000124"},{"$f":"VLOOKUP(C:C,'[1]2024B1-B6清单'!$A:$C,3,0)","v":"永康"},2024,"2024B6"]
[47,"2024年8月19日总经理专题办公会议纪要","330700325265",{"$f":"VLOOKUP(C:C,'[1]2024B1-B6清单'!$A:$D,4,0)","v":"动环监控设备FSU"},{"$f":"VLOOKUP(C:C,'[1]2024B1-B6清单'!$A:$E,5,0)","v":"动环"},{"$f":"VLOOKUP(C:C,'[1]2024B1-B6清单'!$A:$X,24,0)","v":9066.1},{"$f":"VLOOKUP(C:C,'[1]2024B1-B6清单'!$A:$Y,25,0)","v":8794.12},1,{"$f":"VLOOKUP(C:C,'[1]2024B1-B6清单'!$A:$Z,26,0)","v":271.98},"个",null,"监控",null,{"$f":"VLOOKUP(C:C,'[1]2024B1-B6清单'!$A:$P,16,0)","v":"永康舟山杨溪王村"},{"$f":"VLOOKUP(C:C,'[1]2024B1-B6清单'!$A:$Q,17,0)","v":"330784500000000004"},{"$f":"VLOOKUP(C:C,'[1]2024B1-B6清单'!$A:$C,3,0)","v":"永康"},2024,"2024B6"]
[48,"2024年8月19日总经理专题办公会议纪要","330700129394",{"$f":"VLOOKUP(C:C,'[1]2024B1-B6清单'!$A:$D,4,0)","v":"开关电源"},{"$f":"VLOOKUP(C:C,'[1]2024B1-B6清单'!$A:$E,5,0)","v":"开关电源"},{"$f":"VLOOKUP(C:C,'[1]2024B1-B6清单'!$A:$X,24,0)","v":1627.6},{"$f":"VLOOKUP(C:C,'[1]2024B1-B6清单'!$A:$Y,25,0)","v":1578.77},1,{"$f":"VLOOKUP(C:C,'[1]2024B1-B6清单'!$A:$Z,26,0)","v":48.83},"架",null,"嵌入式",null,{"$f":"VLOOKUP(C:C,'[1]2024B1-B6清单'!$A:$P,16,0)","v":"浦江玉山"},{"$f":"VLOOKUP(C:C,'[1]2024B1-B6清单'!$A:$Q,17,0)","v":"330726908000000043"},{"$f":"VLOOKUP(C:C,'[1]2024B1-B6清单'!$A:$C,3,0)","v":"浦江"},2024,"2024B6"]
[49,"2024年8月19日总经理专题办公会议纪要","330700319001",{"$f":"VLOOKUP(C:C,'[1]2024B1-B6清单'!$A:$D,4,0)","v":"开关电源"},{"$f":"VLOOKUP(C:C,'[1]2024B1-B6清单'!$A:$E,5,0)","v":"开关电源"},{"$f":"VLOOKUP(C:C,'[1]2024B1-B6清单'!$A:$X,24,0)","v":8233.64},{"$f":"VLOOKUP(C:C,'[1]2024B1-B6清单'!$A:$Y,25,0)","v":7986.63},1,{"$f":"VLOOKUP(C:C,'[1]2024B1-B6清单'!$A:$Z,26,0)","v":247.01},"架",null,"组合式",null,{"$f":"VLOOKUP(C:C,'[1]2024B1-B6清单'!$A:$P,16,0)","v":"浦江檀溪镇王灵村"},{"$f":"VLOOKUP(C:C,'[1]2024B1-B6清单'!$A:$Q,17,0)","v":"33072600000065"},{"$f":"VLOOKUP(C:C,'[1]2024B1-B6清单'!$A:$C,3,0)","v":"浦江"},2024,"2024B6"]
[50,"2024年8月19日总经理专题办公会议纪要","330700148248",{"$f":"VLOOKUP(C:C,'[1]2024B1-B6清单'!$A:$D,4,0)","v":"专用空调"},{"$f":"VLOOKUP(C:C,'[1]2024B1-B6清单'!$A:$E,5,0)","v":"空调"},{"$f":"VLOOKUP(C:C,'[1]2024B1-B6清单'!$A:$X,24,0)","v":552.65},{"$f":"VLOOKUP(C:C,'[1]2024B1-B6清单'!$A:$Y,25,0)","v":536.07},1,{"$f":"VLOOKUP(C:C,'[1]2024B1-B6清单'!$A:$Z,26,0)","v":16.58},"台",null,"2P",null,{"$f":"VLOOKUP(C:C,'[1]2024B1-B6清单'!$A:$P,16,0)","v":"浦江大楼"},{"$f":"VLOOKUP(C:C,'[1]2024B1-B6清单'!$A:$Q,17,0)","v":"330726908000000527"},{"$f":"VLOOKUP(C:C,'[1]2024B1-B6清单'!$A:$C,3,0)","v":"浦江"},2024,"2024B6"]
[51,"2024年8月19日总经理专题办公会议纪要","330700151943",{"$f":"VLOOKUP(C:C,'[1]2024B1-B6清单'!$A:$D,4,0)","v":"专用空调"},{"$f":"VLOOKUP(C:C,'[1]2024B1-B6清单'!$A:$E,5,0)","v":"空调"},{"$f":"VLOOKUP(C:C,'[1]2024B1-B6清单'!$A:$X,24,0)","v":231.75},{"$f":"VLOOKUP(C:C,'[1]2024B1-B6清单'!$A:$Y,25,0)","v":224.8},1,{"$f":"VLOOKUP(C:C,'[1]2024B1-B6清单'!$A:$Z,26,0)","v":6.95},"台",null,"2P",null,{"$f":"VLOOKUP(C:C,'[1]2024B1-B6清单'!$A:$P,16,0)","v":"浦江塘下"},{"$f":"VLOOKUP(C:C,'[1]2024B1-B6清单'!$A:$Q,17,0)","v":"330726908000000498"},{"$f":"VLOOKUP(C:C,'[1]2024B1-B6清单'!$A:$C,3,0)","v":"浦江"},2024,"2024B6"]
[52,"2024年8月19日总经理专题办公会议纪要","330700112802",{"$f":"VLOOKUP(C:C,'[1]2024B1-B6清单'!$A:$D,4,0)","v":"专用空调"},{"$f":"VLOOKUP(C:C,'[1]2024B1-B6清单'!$A:$E,5,0)","v":"空调"},{"$f":"VLOOKUP(C:C,'[1]2024B1-B6清单'!$A:$X,24,0)","v":3176.98},{"$f":"VLOOKUP(C:C,'[1]2024B1-B6清单'!$A:$Y,25,0)","v":3081.67},1,{"$f":"VLOOKUP(C:C,'[1]2024B1-B6清单'!$A:$Z,26,0)","v":95.31},"台",null,"3P",null,{"$f":"VLOOKUP(C:C,'[1]2024B1-B6清单'!$A:$P,16,0)","v":"浦江百炼"},{"$f":"VLOOKUP(C:C,'[1]2024B1-B6清单'!$A:$Q,17,0)","v":"330726908000000534"},{"$f":"VLOOKUP(C:C,'[1]2024B1-B6清单'!$A:$C,3,0)","v":"浦江"},2024,"2024B6"]
[53,"2024年8月19日总经理专题办公会议纪要","330700151223",{"$f":"VLOOKUP(C:C,'[1]2024B1-B6清单'!$A:$D,4,0)","v":"专用空调"},{"$f":"VLOOKUP(C:C,'[1]2024B1-B6清单'!$A:$E,5,0)","v":"空调"},{"$f":"VLOOKUP(C:C,'[1]2024B1-B6清单'!$A:$X,24,0)","v":2034.36},{"$f":"VLOOKUP(C:C,'[1]2024B1-B6清单'!$A:$Y,25,0)","v":1973.33},1,{"$f":"VLOOKUP(C:C,'[1]2024B1-B6清单'!$A:$Z,26,0)","v":61.03},"台",null,"3P",null,{"$f":"VLOOKUP(C:C,'[1]2024B1-B6清单'!$A:$P,16,0)","v":"浦江班班大道-2"},{"$f":"VLOOKUP(C:C,'[1]2024B1-B6清单'!$A:$Q,17,0)","v":"330726908000000179"},{"$f":"VLOOKUP(C:C,'[1]2024B1-B6清单'!$A:$C,3,0)","v":"浦江"},2024,"2024B6"]
[54,"2024年8月19日总经理专题办公会议纪要","330700148350",{"$f":"VLOOKUP(C:C,'[1]2024B1-B6清单'!$A:$D,4,0)","v":"专用空调"},{"$f":"VLOOKUP(C:C,'[1]2024B1-B6清单'!$A:$E,5,0)","v":"空调"},{"$f":"VLOOKUP(C:C,'[1]2024B1-B6清单'!$A:$X,24,0)","v":4828},{"$f":"VLOOKUP(C:C,'[1]2024B1-B6清单'!$A:$Y,25,0)","v":4683.16},1,{"$f":"VLOOKUP(C:C,'[1]2024B1-B6清单'!$A:$Z,26,0)","v":144.84},"台",null,"3P",null,{"$f":"VLOOKUP(C:C,'[1]2024B1-B6清单'!$A:$P,16,0)","v":"浦江财富名座"},{"$f":"VLOOKUP(C:C,'[1]2024B1-B6清单'!$A:$Q,17,0)","v":"330726908000000346"},{"$f":"VLOOKUP(C:C,'[1]2024B1-B6清单'!$A:$C,3,0)","v":"浦江"},2024,"2024B6"]
[55,"2024年8月19日总经理专题办公会议纪要","330700319938",{"$f":"VLOOKUP(C:C,'[1]2024B1-B6清单'!$A:$D,4,0)","v":"空调"},{"$f":"VLOOKUP(C:C,'[1]2024B1-B6清单'!$A:$E,5,0)","v":"空调"},{"$f":"VLOOKUP(C:C,'[1]2024B1-B6清单'!$A:$X,24,0)","v":8184.76},{"$f":"VLOOKUP(C:C,'[1]2024B1-B6清单'!$A:$Y,25,0)","v":7939.22},1,{"$f":"VLOOKUP(C:C,'[1]2024B1-B6清单'!$A:$Z,26,0)","v":245.54},"台",null,"3P",null,{"$f":"VLOOKUP(C:C,'[1]2024B1-B6清单'!$A:$P,16,0)","v":"浦江后叶村"},{"$f":"VLOOKUP(C:C,'[1]2024B1-B6清单'!$A:$Q,17,0)","v":"33072600000220"},{"$f":"VLOOKUP(C:C,'[1]2024B1-B6清单'!$A:$C,3,0)","v":"浦江"},2024,"2024B6"]
[56,"2024年8月19日总经理专题办公会议纪要","330700108878",{"$f":"VLOOKUP(C:C,'[1]2024B1-B6清单'!$A:$D,4,0)","v":"专用空调"},{"$f":"VLOOKUP(C:C,'[1]2024B1-B6清单'!$A:$E,5,0)","v":"空调"},{"$f":"VLOOKUP(C:C,'[1]2024B1-B6清单'!$A:$X,24,0)","v":4435.4},{"$f":"VLOOKUP(C:C,'[1]2024B1-B6清单'!$A:$Y,25,0)","v":4302.34},1,{"$f":"VLOOKUP(C:C,'[1]2024B1-B6清单'!$A:$Z,26,0)","v":133.06},"台",null,"3P",null,{"$f":"VLOOKUP(C:C,'[1]2024B1-B6清单'!$A:$P,16,0)","v":"浦江黄宅中学"},{"$f":"VLOOKUP(C:C,'[1]2024B1-B6清单'!$A:$Q,17,0)","v":"330726908000000248"},{"$f":"VLOOKUP(C:C,'[1]2024B1-B6清单'!$A:$C,3,0)","v":"浦江"},2024,"2024B6"]
[57,"2024年8月19日总经理专题办公会议纪要","330700131792",{"$f":"VLOOKUP(C:C,'[1]2024B1-B6清单'!$A:$D,4,0)","v":"专用空调"},{"$f":"VLOOKUP(C:C,'[1]2024B1-B6清单'!$A:$E,5,0)","v":"空调"},{"$f":"VLOOKUP(C:C,'[1]2024B1-B6清单'!$A:$X,24,0)","v":5222.06},{"$f":"VLOOKUP(C:C,'[1]2024B1-B6清单'!$A:$Y,25,0)","v":5065.4},1,{"$f":"VLOOKUP(C:C,'[1]2024B1-B6清单'!$A:$Z,26,0)","v":156.66},"台",null,"3P",null,{"$f":"VLOOKUP(C:C,'[1]2024B1-B6清单'!$A:$P,16,0)","v":"浦江牧童鞋业"},{"$f":"VLOOKUP(C:C,'[1]2024B1-B6清单'!$A:$Q,17,0)","v":"330726908000000380"},{"$f":"VLOOKUP(C:C,'[1]2024B1-B6清单'!$A:$C,3,0)","v":"浦江"},2024,"2024B6"]
[58,"2024年8月19日总经理专题办公会议纪要","330700147993",{"$f":"VLOOKUP(C:C,'[1]2024B1-B6清单'!$A:$D,4,0)","v":"专用空调"},{"$f":"VLOOKUP(C:C,'[1]2024B1-B6清单'!$A:$E,5,0)","v":"空调"},{"$f":"VLOOKUP(C:C,'[1]2024B1-B6清单'!$A:$X,24,0)","v":257.5},{"$f":"VLOOKUP(C:C,'[1]2024B1-B6清单'!$A:$Y,25,0)","v":249.77},1,{"$f":"VLOOKUP(C:C,'[1]2024B1-B6清单'!$A:$Z,26,0)","v":7.73},"台",null,"3P",null,{"$f":"VLOOKUP(C:C,'[1]2024B1-B6清单'!$A:$P,16,0)","v":"浦江牧童鞋业"},{"$f":"VLOOKUP(C:C,'[1]2024B1-B6清单'!$A:$Q,17,0)","v":"330726908000000380"},{"$f":"VLOOKUP(C:C,'[1]2024B1-B6清单'!$A:$C,3,0)","v":"浦江"},2024,"2024B6"]
[59,"2024年8月19日总经理专题办公会议纪要","330700340190",{"$f":"VLOOKUP(C:C,'[1]2024B1-B6清单'!$A:$D,4,0)","v":"动力及环境监控单元"},{"$f":"VLOOKUP(C:C,'[1]2024B1-B6清单'!$A:$E,5,0)","v":"动环"},{"$f":"VLOOKUP(C:C,'[1]2024B1-B6清单'!$A:$X,24,0)","v":2413.68},{"$f":"VLOOKUP(C:C,'[1]2024B1-B6清单'!$A:$Y,25,0)","v":2341.27},1,{"$f":"VLOOKUP(C:C,'[1]2024B1-B6清单'!$A:$Z,26,0)","v":72.41},"个",null,"动力及环境监控单元",null,{"$f":"VLOOKUP(C:C,'[1]2024B1-B6清单'!$A:$P,16,0)","v":"浦江白马浦东"},{"$f":"VLOOKUP(C:C,'[1]2024B1-B6清单'!$A:$Q,17,0)","v":"330726908000000674"},{"$f":"VLOOKUP(C:C,'[1]2024B1-B6清单'!$A:$C,3,0)","v":"浦江"},2024,"2024B6"]
[60,"2024年8月19日总经理专题办公会议纪要","330700318688",{"$f":"VLOOKUP(C:C,'[1]2024B1-B6清单'!$A:$D,4,0)","v":"动环监控设备"},{"$f":"VLOOKUP(C:C,'[1]2024B1-B6清单'!$A:$E,5,0)","v":"动环"},{"$f":"VLOOKUP(C:C,'[1]2024B1-B6清单'!$A:$X,24,0)","v":4839.17},{"$f":"VLOOKUP(C:C,'[1]2024B1-B6清单'!$A:$Y,25,0)","v":4693.99},1,{"$f":"VLOOKUP(C:C,'[1]2024B1-B6清单'!$A:$Z,26,0)","v":145.18},"个",null,"动力及环境监控单元",null,{"$f":"VLOOKUP(C:C,'[1]2024B1-B6清单'!$A:$P,16,0)","v":"浦江曹街"},{"$f":"VLOOKUP(C:C,'[1]2024B1-B6清单'!$A:$Q,17,0)","v":"330726908000000879"},{"$f":"VLOOKUP(C:C,'[1]2024B1-B6清单'!$A:$C,3,0)","v":"浦江"},2024,"2024B6"]
[61,"2024年8月19日总经理专题办公会议纪要","330700340067",{"$f":"VLOOKUP(C:C,'[1]2024B1-B6清单'!$A:$D,4,0)","v":"动力及环境监控单元"},{"$f":"VLOOKUP(C:C,'[1]2024B1-B6清单'!$A:$E,5,0)","v":"动环"},{"$f":"VLOOKUP(C:C,'[1]2024B1-B6清单'!$A:$X,24,0)","v":2837.54},{"$f":"VLOOKUP(C:C,'[1]2024B1-B6清单'!$A:$Y,25,0)","v":2752.41},1,{"$f":"VLOOKUP(C:C,'[1]2024B1-B6清单'!$A:$Z,26,0)","v":85.13},"个",null,"动力及环境监控单元",null,{"$f":"VLOOKUP(C:C,'[1]2024B1-B6清单'!$A:$P,16,0)","v":"浦江城北安置区"},{"$f":"VLOOKUP(C:C,'[1]2024B1-B6清单'!$A:$Q,17,0)","v":"330726908000000638"},{"$f":"VLOOKUP(C:C,'[1]2024B1-B6清单'!$A:$C,3,0)","v":"浦江"},2024,"2024B6"]
[62,"2024年8月19日总经理专题办公会议纪要","330700340072",{"$f":"VLOOKUP(C:C,'[1]2024B1-B6清单'!$A:$D,4,0)","v":"动力及环境监控单元"},{"$f":"VLOOKUP(C:C,'[1]2024B1-B6清单'!$A:$E,5,0)","v":"动环"},{"$f":"VLOOKUP(C:C,'[1]2024B1-B6清单'!$A:$X,24,0)","v":2455.71},{"$f":"VLOOKUP(C:C,'[1]2024B1-B6清单'!$A:$Y,25,0)","v":2382.04},1,{"$f":"VLOOKUP(C:C,'[1]2024B1-B6清单'!$A:$Z,26,0)","v":73.67},"个",null,"动力及环境监控单元",null,{"$f":"VLOOKUP(C:C,'[1]2024B1-B6清单'!$A:$P,16,0)","v":"浦江大畈郑家"},{"$f":"VLOOKUP(C:C,'[1]2024B1-B6清单'!$A:$Q,17,0)","v":"330726908000000773"},{"$f":"VLOOKUP(C:C,'[1]2024B1-B6清单'!$A:$C,3,0)","v":"浦江"},2024,"2024B6"]
[63,"2024年8月19日总经理专题办公会议纪要","330700352753",{"$f":"VLOOKUP(C:C,'[1]2024B1-B6清单'!$A:$D,4,0)","v":"动力及环境监控单元"},{"$f":"VLOOKUP(C:C,'[1]2024B1-B6清单'!$A:$E,5,0)","v":"动环"},{"$f":"VLOOKUP(C:C,'[1]2024B1-B6清单'!$A:$X,24,0)","v":3673.49},{"$f":"VLOOKUP(C:C,'[1]2024B1-B6清单'!$A:$Y,25,0)","v":3563.29},1,{"$f":"VLOOKUP(C:C,'[1]2024B1-B6清单'!$A:$Z,26,0)","v":110.2},"个",null,"动力及环境监控单元",null,{"$f":"VLOOKUP(C:C,'[1]2024B1-B6清单'!$A:$P,16,0)","v":"浦江杭坪2"},{"$f":"VLOOKUP(C:C,'[1]2024B1-B6清单'!$A:$Q,17,0)","v":"330726908000000860"},{"$f":"VLOOKUP(C:C,'[1]2024B1-B6清单'!$A:$C,3,0)","v":"浦江"},2024,"2024B6"]
[64,"2024年8月19日总经理专题办公会议纪要","330700341856",{"$f":"VLOOKUP(C:C,'[1]2024B1-B6清单'!$A:$D,4,0)","v":"动力及环境监控单元"},{"$f":"VLOOKUP(C:C,'[1]2024B1-B6清单'!$A:$E,5,0)","v":"动环"},{"$f":"VLOOKUP(C:C,'[1]2024B1-B6清单'!$A:$X,24,0)","v":3474.75},{"$f":"VLOOKUP(C:C,'[1]2024B1-B6清单'!$A:$Y,25,0)","v":3370.51},1,{"$f":"VLOOKUP(C:C,'[1]2024B1-B6清单'!$A:$Z,26,0)","v":104.24},"个",null,"动力及环境监控单元",null,{"$f":"VLOOKUP(C:C,'[1]2024B1-B6清单'!$A:$P,16,0)","v":"浦江后芦金二"},{"$f":"VLOOKUP(C:C,'[1]2024B1-B6清单'!$A:$Q,17,0)","v":"330726908000000276"},{"$f":"VLOOKUP(C:C,'[1]2024B1-B6清单'!$A:$C,3,0)","v":"浦江"},2024,"2024B6"]
[65,"2024年8月19日总经理专题办公会议纪要","330700319939",{"$f":"VLOOKUP(C:C,'[1]2024B1-B6清单'!$A:$D,4,0)","v":"动环监控设备"},{"$f":"VLOOKUP(C:C,'[1]2024B1-B6清单'!$A:$E,5,0)","v":"动环"},{"$f":"VLOOKUP(C:C,'[1]2024B1-B6清单'!$A:$X,24,0)","v":5062.24},{"$f":"VLOOKUP(C:C,'[1]2024B1-B6清单'!$A:$Y,25,0)","v":4910.37},1,{"$f":"VLOOKUP(C:C,'[1]2024B1-B6清单'!$A:$Z,26,0)","v":151.87},"个",null,"动力及环境监控单元",null,{"$f":"VLOOKUP(C:C,'[1]2024B1-B6清单'!$A:$P,16,0)","v":"浦江后叶村"},{"$f":"VLOOKUP(C:C,'[1]2024B1-B6清单'!$A:$Q,17,0)","v":"33072600000220"},{"$f":"VLOOKUP(C:C,'[1]2024B1-B6清单'!$A:$C,3,0)","v":"浦江"},2024,"2024B6"]
[66,"2024年8月19日总经理专题办公会议纪要","330700315893",{"$f":"VLOOKUP(C:C,'[1]2024B1-B6清单'!$A:$D,4,0)","v":"动环监控设备  无线通信模块"},{"$f":"VLOOKUP(C:C,'[1]2024B1-B6清单'!$A:$E,5,0)","v":"动环"},{"$f":"VLOOKUP(C:C,'[1]2024B1-B6清单'!$A:$X,24,0)","v":3959.39},{"$f":"VLOOKUP(C:C,'[1]2024B1-B6清单'!$A:$Y,25,0)","v":3840.61},1,{"$f":"VLOOKUP(C:C,'[1]2024B1-B6清单'!$A:$Z,26,0)","v":118.78},"个",null,"动力及环境监控单元",null,{"$f":"VLOOKUP(C:C,'[1]2024B1-B6清单'!$A:$P,16,0)","v":"浦江花桥3"},{"$f":"VLOOKUP(C:C,'[1]2024B1-B6清单'!$A:$Q,17,0)","v":"33072600000063"},{"$f":"VLOOKUP(C:C,'[1]2024B1-B6清单'!$A:$C,3,0)","v":"浦江"},2024,"2024B6"]
[67,"2024年8月19日总经理专题办公会议纪要","330700340051",{"$f":"VLOOKUP(C:C,'[1]2024B1-B6清单'!$A:$D,4,0)","v":"动力及环境监控单元"},{"$f":"VLOOKUP(C:C,'[1]2024B1-B6清单'!$A:$E,5,0)","v":"动环"},{"$f":"VLOOKUP(C:C,'[1]2024B1-B6清单'!$A:$X,24,0)","v":2455.71},{"$f":"VLOOKUP(C:C,'[1]2024B1-B6清单'!$A:$Y,25,0)","v":2382.04},1,{"$f":"VLOOKUP(C:C,'[1]2024B1-B6清单'!$A:$Z,26,0)","v":73.67},"个",null,"动力及环境监控单元",null,{"$f":"VLOOKUP(C:C,'[1]2024B1-B6清单'!$A:$P,16,0)","v":"浦江花桥林坞口"},{"$f":"VLOOKUP(C:C,'[1]2024B1-B6清单'!$A:$Q,17,0)","v":"330726908000000689"},{"$f":"VLOOKUP(C:C,'[1]2024B1-B6清单'!$A:$C,3,0)","v":"浦江"},2024,"2024B6"]
[68,"2024年8月19日总经理专题办公会议纪要","330700309939",{"$f":"VLOOKUP(C:C,'[1]2024B1-B6清单'!$A:$D,4,0)","v":"动环监控设备  无线通信模块"},{"$f":"VLOOKUP(C:C,'[1]2024B1-B6清单'!$A:$E,5,0)","v":"动环"},{"$f":"VLOOKUP(C:C,'[1]2024B1-B6清单'!$A:$X,24,0)","v":4008.78},{"$f":"VLOOKUP(C:C,'[1]2024B1-B6清单'!$A:$Y,25,0)","v":3888.52},1,{"$f":"VLOOKUP(C:C,'[1]2024B1-B6清单'!$A:$Z,26,0)","v":120.26},"个",null,"动力及环境监控单元",null,{"$f":"VLOOKUP(C:C,'[1]2024B1-B6清单'!$A:$P,16,0)","v":"浦江花山村"},{"$f":"VLOOKUP(C:C,'[1]2024B1-B6清单'!$A:$Q,17,0)","v":"33072600000129"},{"$f":"VLOOKUP(C:C,'[1]2024B1-B6清单'!$A:$C,3,0)","v":"浦江"},2024,"2024B6"]
[69,"2024年8月19日总经理专题办公会议纪要","330700339797",{"$f":"VLOOKUP(C:C,'[1]2024B1-B6清单'!$A:$D,4,0)","v":"动力及环境监控单元"},{"$f":"VLOOKUP(C:C,'[1]2024B1-B6清单'!$A:$E,5,0)","v":"动环"},{"$f":"VLOOKUP(C:C,'[1]2024B1-B6清单'!$A:$X,24,0)","v":3543.99},{"$f":"VLOOKUP(C:C,'[1]2024B1-B6清单'!$A:$Y,25,0)","v":3437.67},1,{"$f":"VLOOKUP(C:C,'[1]2024B1-B6清单'!$A:$Z,26,0)","v":106.32},"个",null,"动力及环境监控单元",null,{"$f":"VLOOKUP(C:C,'[1]2024B1-B6清单'!$A:$P,16,0)","v":"浦江花山村"},{"$f":"VLOOKUP(C:C,'[1]2024B1-B6清单'!$A:$Q,17,0)","v":"33072600000129"},{"$f":"VLOOKUP(C:C,'[1]2024B1-B6清单'!$A:$C,3,0)","v":"浦江"},2024,"2024B6"]
[70,"2024年8月19日总经理专题办公会议纪要","330700341649",{"$f":"VLOOKUP(C:C,'[1]2024B1-B6清单'!$A:$D,4,0)","v":"动力及环境监控单元"},{"$f":"VLOOKUP(C:C,'[1]2024B1-B6清单'!$A:$E,5,0)","v":"动环"},{"$f":"VLOOKUP(C:C,'[1]2024B1-B6清单'!$A:$X,24,0)","v":2925.06},{"$f":"VLOOKUP(C:C,'[1]2024B1-B6清单'!$A:$Y,25,0)","v":2837.31},1,{"$f":"VLOOKUP(C:C,'[1]2024B1-B6清单'!$A:$Z,26,0)","v":87.75},"个",null,"动力及环境监控单元",null,{"$f":"VLOOKUP(C:C,'[1]2024B1-B6清单'!$A:$P,16,0)","v":"浦江黄方村"},{"$f":"VLOOKUP(C:C,'[1]2024B1-B6清单'!$A:$Q,17,0)","v":"330726908000000182"},{"$f":"VLOOKUP(C:C,'[1]2024B1-B6清单'!$A:$C,3,0)","v":"浦江"},2024,"2024B6"]
[71,"2024年8月19日总经理专题办公会议纪要","330700340226",{"$f":"VLOOKUP(C:C,'[1]2024B1-B6清单'!$A:$D,4,0)","v":"动力及环境监控单元"},{"$f":"VLOOKUP(C:C,'[1]2024B1-B6清单'!$A:$E,5,0)","v":"动环"},{"$f":"VLOOKUP(C:C,'[1]2024B1-B6清单'!$A:$X,24,0)","v":2527.8},{"$f":"VLOOKUP(C:C,'[1]2024B1-B6清单'!$A:$Y,25,0)","v":2451.97},1,{"$f":"VLOOKUP(C:C,'[1]2024B1-B6清单'!$A:$Z,26,0)","v":75.83},"个",null,"动力及环境监控单元",null,{"$f":"VLOOKUP(C:C,'[1]2024B1-B6清单'!$A:$P,16,0)","v":"浦江黄宅百汇创业园"},{"$f":"VLOOKUP(C:C,'[1]2024B1-B6清单'!$A:$Q,17,0)","v":"330726908000000848"},{"$f":"VLOOKUP(C:C,'[1]2024B1-B6清单'!$A:$C,3,0)","v":"浦江"},2024,"2024B6"]
[72,"2024年8月19日总经理专题办公会议纪要","330700341598",{"$f":"VLOOKUP(C:C,'[1]2024B1-B6清单'!$A:$D,4,0)","v":"动力及环境监控单元"},{"$f":"VLOOKUP(C:C,'[1]2024B1-B6清单'!$A:$E,5,0)","v":"动环"},{"$f":"VLOOKUP(C:C,'[1]2024B1-B6清单'!$A:$X,24,0)","v":2925.06},{"$f":"VLOOKUP(C:C,'[1]2024B1-B6清单'!$A:$Y,25,0)","v":2837.31},1,{"$f":"VLOOKUP(C:C,'[1]2024B1-B6清单'!$A:$Z,26,0)","v":87.75},"个",null,"动力及环境监控单元",null,{"$f":"VLOOKUP(C:C,'[1]2024B1-B6清单'!$A:$P,16,0)","v":"浦江刘笙"},{"$f":"VLOOKUP(C:C,'[1]2024B1-B6清单'!$A:$Q,17,0)","v":"330726908000000147"},{"$f":"VLOOKUP(C:C,'[1]2024B1-B6清单'!$A:$C,3,0)","v":"浦江"},2024,"2024B6"]
[73,"2024年8月19日总经理专题办公会议纪要","330700340088",{"$f":"VLOOKUP(C:C,'[1]2024B1-B6清单'!$A:$D,4,0)","v":"动力及环境监控单元"},{"$f":"VLOOKUP(C:C,'[1]2024B1-B6清单'!$A:$E,5,0)","v":"动环"},{"$f":"VLOOKUP(C:C,'[1]2024B1-B6清单'!$A:$X,24,0)","v":2527.8},{"$f":"VLOOKUP(C:C,'[1]2024B1-B6清单'!$A:$Y,25,0)","v":2451.97},1,{"$f":"VLOOKUP(C:C,'[1]2024B1-B6清单'!$A:$Z,26,0)","v":75.83},"个",null,"动力及环境监控单元",null,{"$f":"VLOOKUP(C:C,'[1]2024B1-B6清单'!$A:$P,16,0)","v":"浦江蒙山"},{"$f":"VLOOKUP(C:C,'[1]2024B1-B6清单'!$A:$Q,17,0)","v":"330726908000000943"},{"$f":"VLOOKUP(C:C,'[1]2024B1-B6清单'!$A:$C,3,0)","v":"浦江"},2024,"2024B6"]
[74,"2024年8月19日总经理专题办公会议纪要","330700341900",{"$f":"VLOOKUP(C:C,'[1]2024B1-B6清单'!$A:$D,4,0)","v":"动力及环境监控单元"},{"$f":"VLOOKUP(C:C,'[1]2024B1-B6清单'!$A:$E,5,0)","v":"动环"},{"$f":"VLOOKUP(C:C,'[1]2024B1-B6清单'!$A:$X,24,0)","v":2925.06},{"$f":"VLOOKUP(C:C,'[1]2024B1-B6清单'!$A:$Y,25,0)","v":2837.31},1,{"$f":"VLOOKUP(C:C,'[1]2024B1-B6清单'!$A:$Z,26,0)","v":87.75},"个",null,"动力及环境监控单元",null,{"$f":"VLOOKUP(C:C,'[1]2024B1-B6清单'!$A:$P,16,0)","v":"浦江平安巧溪"},{"$f":"VLOOKUP(C:C,'[1]2024B1-B6清单'!$A:$Q,17,0)","v":"330726700000087200"},{"$f":"VLOOKUP(C:C,'[1]2024B1-B6清单'!$A:$C,3,0)","v":"浦江"},2024,"2024B6"]
[75,"2024年8月19日总经理专题办公会议纪要","330700335771",{"$f":"VLOOKUP(C:C,'[1]2024B1-B6清单'!$A:$D,4,0)","v":"动力及环境监控单元"},{"$f":"VLOOKUP(C:C,'[1]2024B1-B6清单'!$A:$E,5,0)","v":"动环"},{"$f":"VLOOKUP(C:C,'[1]2024B1-B6清单'!$A:$X,24,0)","v":3007},{"$f":"VLOOKUP(C:C,'[1]2024B1-B6清单'!$A:$Y,25,0)","v":2916.79},1,{"$f":"VLOOKUP(C:C,'[1]2024B1-B6清单'!$A:$Z,26,0)","v":90.21},"个",null,"动力及环境监控单元",null,{"$f":"VLOOKUP(C:C,'[1]2024B1-B6清单'!$A:$P,16,0)","v":"浦江浦东村"},{"$f":"VLOOKUP(C:C,'[1]2024B1-B6清单'!$A:$Q,17,0)","v":"33072600000132"},{"$f":"VLOOKUP(C:C,'[1]2024B1-B6清单'!$A:$C,3,0)","v":"浦江"},2024,"2024B6"]
[76,"2024年8月19日总经理专题办公会议纪要","330700340237",{"$f":"VLOOKUP(C:C,'[1]2024B1-B6清单'!$A:$D,4,0)","v":"动力及环境监控单元"},{"$f":"VLOOKUP(C:C,'[1]2024B1-B6清单'!$A:$E,5,0)","v":"动环"},{"$f":"VLOOKUP(C:C,'[1]2024B1-B6清单'!$A:$X,24,0)","v":2925.06},{"$f":"VLOOKUP(C:C,'[1]2024B1-B6清单'!$A:$Y,25,0)","v":2837.31},1,{"$f":"VLOOKUP(C:C,'[1]2024B1-B6清单'!$A:$Z,26,0)","v":87.75},"个",null,"动力及环境监控单元",null,{"$f":"VLOOKUP(C:C,'[1]2024B1-B6清单'!$A:$P,16,0)","v":"浦江前吴毛家"},{"$f":"VLOOKUP(C:C,'[1]2024B1-B6清单'!$A:$Q,17,0)","v":"330726908000000644"},{"$f":"VLOOKUP(C:C,'[1]2024B1-B6清单'!$A:$C,3,0)","v":"浦江"},2024,"2024B6"]
[77,"2024年8月19日总经理专题办公会议纪要","330700318979",{"$f":"VLOOKUP(C:C,'[1]2024B1-B6清单'!$A:$D,4,0)","v":"动环监控设备"},{"$f":"VLOOKUP(C:C,'[1]2024B1-B6清单'!$A:$E,5,0)","v":"动环"},{"$f":"VLOOKUP(C:C,'[1]2024B1-B6清单'!$A:$X,24,0)","v":4914.26},{"$f":"VLOOKUP(C:C,'[1]2024B1-B6清单'!$A:$Y,25,0)","v":4766.83},1,{"$f":"VLOOKUP(C:C,'[1]2024B1-B6清单'!$A:$Z,26,0)","v":147.43},"个",null,"动力及环境监控单元",null,{"$f":"VLOOKUP(C:C,'[1]2024B1-B6清单'!$A:$P,16,0)","v":"浦江三雅店村"},{"$f":"VLOOKUP(C:C,'[1]2024B1-B6清单'!$A:$Q,17,0)","v":"33072600000133"},{"$f":"VLOOKUP(C:C,'[1]2024B1-B6清单'!$A:$C,3,0)","v":"浦江"},2024,"2024B6"]
[78,"2024年8月19日总经理专题办公会议纪要","330700335713",{"$f":"VLOOKUP(C:C,'[1]2024B1-B6清单'!$A:$D,4,0)","v":"动力及环境监控单元"},{"$f":"VLOOKUP(C:C,'[1]2024B1-B6清单'!$A:$E,5,0)","v":"动环"},{"$f":"VLOOKUP(C:C,'[1]2024B1-B6清单'!$A:$X,24,0)","v":2962.32},{"$f":"VLOOKUP(C:C,'[1]2024B1-B6清单'!$A:$Y,25,0)","v":2873.45},1,{"$f":"VLOOKUP(C:C,'[1]2024B1-B6清单'!$A:$Z,26,0)","v":88.87},"个",null,"动力及环境监控单元",null,{"$f":"VLOOKUP(C:C,'[1]2024B1-B6清单'!$A:$P,16,0)","v":"浦江上童山"},{"$f":"VLOOKUP(C:C,'[1]2024B1-B6清单'!$A:$Q,17,0)","v":"330726908000000361"},{"$f":"VLOOKUP(C:C,'[1]2024B1-B6清单'!$A:$C,3,0)","v":"浦江"},2024,"2024B6"]
[79,"2024年8月19日总经理专题办公会议纪要","330700335419",{"$f":"VLOOKUP(C:C,'[1]2024B1-B6清单'!$A:$D,4,0)","v":"动环监控设备FSU"},{"$f":"VLOOKUP(C:C,'[1]2024B1-B6清单'!$A:$E,5,0)","v":"动环"},{"$f":"VLOOKUP(C:C,'[1]2024B1-B6清单'!$A:$X,24,0)","v":7778.77},{"$f":"VLOOKUP(C:C,'[1]2024B1-B6清单'!$A:$Y,25,0)","v":7545.41},1,{"$f":"VLOOKUP(C:C,'[1]2024B1-B6清单'!$A:$Z,26,0)","v":233.36},"个",null,"动力及环境监控单元",null,{"$f":"VLOOKUP(C:C,'[1]2024B1-B6清单'!$A:$P,16,0)","v":"浦江狮岩"},{"$f":"VLOOKUP(C:C,'[1]2024B1-B6清单'!$A:$Q,17,0)","v":"330726908000000516"},{"$f":"VLOOKUP(C:C,'[1]2024B1-B6清单'!$A:$C,3,0)","v":"浦江"},2024,"2024B6"]
[80,"2024年8月19日总经理专题办公会议纪要","330700340199",{"$f":"VLOOKUP(C:C,'[1]2024B1-B6清单'!$A:$D,4,0)","v":"动力及环境监控单元"},{"$f":"VLOOKUP(C:C,'[1]2024B1-B6清单'!$A:$E,5,0)","v":"动环"},{"$f":"VLOOKUP(C:C,'[1]2024B1-B6清单'!$A:$X,24,0)","v":2925.06},{"$f":"VLOOKUP(C:C,'[1]2024B1-B6清单'!$A:$Y,25,0)","v":2837.31},1,{"$f":"VLOOKUP(C:C,'[1]2024B1-B6清单'!$A:$Z,26,0)","v":87.75},"个",null,"动力及环境监控单元",null,{"$f":"VLOOKUP(C:C,'[1]2024B1-B6清单'!$A:$P,16,0)","v":"浦江石马-2"},{"$f":"VLOOKUP(C:C,'[1]2024B1-B6清单'!$A:$Q,17,0)","v":"330726908000000585"},{"$f":"VLOOKUP(C:C,'[1]2024B1-B6清单'!$A:$C,3,0)","v":"浦江"},2024,"2024B6"]
[81,"2024年8月19日总经理专题办公会议纪要","330700319955",{"$f":"VLOOKUP(C:C,'[1]2024B1-B6清单'!$A:$D,4,0)","v":"动环监控设备"},{"$f":"VLOOKUP(C:C,'[1]2024B1-B6清单'!$A:$E,5,0)","v":"动环"},{"$f":"VLOOKUP(C:C,'[1]2024B1-B6清单'!$A:$X,24,0)","v":3702.84},{"$f":"VLOOKUP(C:C,'[1]2024B1-B6清单'!$A:$Y,25,0)","v":3591.75},1,{"$f":"VLOOKUP(C:C,'[1]2024B1-B6清单'!$A:$Z,26,0)","v":111.09},"个",null,"动力及环境监控单元",null,{"$f":"VLOOKUP(C:C,'[1]2024B1-B6清单'!$A:$P,16,0)","v":"浦江先锋村"},{"$f":"VLOOKUP(C:C,'[1]2024B1-B6清单'!$A:$Q,17,0)","v":"33072600000230"},{"$f":"VLOOKUP(C:C,'[1]2024B1-B6清单'!$A:$C,3,0)","v":"浦江"},2024,"2024B6"]
[82,"2024年8月19日总经理专题办公会议纪要","330700342870",{"$f":"VLOOKUP(C:C,'[1]2024B1-B6清单'!$A:$D,4,0)","v":"动力及环境监控单元"},{"$f":"VLOOKUP(C:C,'[1]2024B1-B6清单'!$A:$E,5,0)","v":"动环"},{"$f":"VLOOKUP(C:C,'[1]2024B1-B6清单'!$A:$X,24,0)","v":19057.6},{"$f":"VLOOKUP(C:C,'[1]2024B1-B6清单'!$A:$Y,25,0)","v":18485.87},1,{"$f":"VLOOKUP(C:C,'[1]2024B1-B6清单'!$A:$Z,26,0)","v":571.73},"个",null,"动力及环境监控单元",null,{"$f":"VLOOKUP(C:C,'[1]2024B1-B6清单'!$A:$P,16,0)","v":"浦江新关村"},{"$f":"VLOOKUP(C:C,'[1]2024B1-B6清单'!$A:$Q,17,0)","v":"33072600000020"},{"$f":"VLOOKUP(C:C,'[1]2024B1-B6清单'!$A:$C,3,0)","v":"浦江"},2024,"2024B6"]
[83,"2024年8月19日总经理专题办公会议纪要","330700340070",{"$f":"VLOOKUP(C:C,'[1]2024B1-B6清单'!$A:$D,4,0)","v":"动力及环境监控单元"},{"$f":"VLOOKUP(C:C,'[1]2024B1-B6清单'!$A:$E,5,0)","v":"动环"},{"$f":"VLOOKUP(C:C,'[1]2024B1-B6清单'!$A:$X,24,0)","v":2937.63},{"$f":"VLOOKUP(C:C,'[1]2024B1-B6清单'!$A:$Y,25,0)","v":2849.5},1,{"$f":"VLOOKUP(C:C,'[1]2024B1-B6清单'!$A:$Z,26,0)","v":88.13},"个",null,"动力及环境监控单元",null,{"$f":"VLOOKUP(C:C,'[1]2024B1-B6清单'!$A:$P,16,0)","v":"浦江新浦中"},{"$f":"VLOOKUP(C:C,'[1]2024B1-B6清单'!$A:$Q,17,0)","v":"330726908000000108"},{"$f":"VLOOKUP(C:C,'[1]2024B1-B6清单'!$A:$C,3,0)","v":"浦江"},2024,"2024B6"]
[84,"2024年8月19日总经理专题办公会议纪要","330700340045",{"$f":"VLOOKUP(C:C,'[1]2024B1-B6清单'!$A:$D,4,0)","v":"动力及环境监控单元"},{"$f":"VLOOKUP(C:C,'[1]2024B1-B6清单'!$A:$E,5,0)","v":"动环"},{"$f":"VLOOKUP(C:C,'[1]2024B1-B6清单'!$A:$X,24,0)","v":2455.71},{"$f":"VLOOKUP(C:C,'[1]2024B1-B6清单'!$A:$Y,25,0)","v":2382.04},1,{"$f":"VLOOKUP(C:C,'[1]2024B1-B6清单'!$A:$Z,26,0)","v":73.67},"个",null,"动力及环境监控单元",null,{"$f":"VLOOKUP(C:C,'[1]2024B1-B6清单'!$A:$P,16,0)","v":"浦江虞宅马岭脚-2"},{"$f":"VLOOKUP(C:C,'[1]2024B1-B6清单'!$A:$Q,17,0)","v":"330726908000000686"},{"$f":"VLOOKUP(C:C,'[1]2024B1-B6清单'!$A:$C,3,0)","v":"浦江"},2024,"2024B6"]
[85,"2024年8月19日总经理专题办公会议纪要","330700329399",{"$f":"VLOOKUP(C:C,'[1]2024B1-B6清单'!$A:$D,4,0)","v":"动力及环境监控单元"},{"$f":"VLOOKUP(C:C,'[1]2024B1-B6清单'!$A:$E,5,0)","v":"动环"},{"$f":"VLOOKUP(C:C,'[1]2024B1-B6清单'!$A:$X,24,0)","v":6507.78},{"$f":"VLOOKUP(C:C,'[1]2024B1-B6清单'!$A:$Y,25,0)","v":6312.55},1,{"$f":"VLOOKUP(C:C,'[1]2024B1-B6清单'!$A:$Z,26,0)","v":195.23},"个",null,"动力及环境监控单元",null,{"$f":"VLOOKUP(C:C,'[1]2024B1-B6清单'!$A:$P,16,0)","v":"浦江郑宅水晶集聚园区"},{"$f":"VLOOKUP(C:C,'[1]2024B1-B6清单'!$A:$Q,17,0)","v":"33072601000432"},{"$f":"VLOOKUP(C:C,'[1]2024B1-B6清单'!$A:$C,3,0)","v":"浦江"},2024,"2024B6"]
[86,"2024年8月19日总经理专题办公会议纪要","330700342869",{"$f":"VLOOKUP(C:C,'[1]2024B1-B6清单'!$A:$D,4,0)","v":"动力及环境监控单元"},{"$f":"VLOOKUP(C:C,'[1]2024B1-B6清单'!$A:$E,5,0)","v":"动环"},{"$f":"VLOOKUP(C:C,'[1]2024B1-B6清单'!$A:$X,24,0)","v":18972.36},{"$f":"VLOOKUP(C:C,'[1]2024B1-B6清单'!$A:$Y,25,0)","v":18403.19},1,{"$f":"VLOOKUP(C:C,'[1]2024B1-B6清单'!$A:$Z,26,0)","v":569.17},"个",null,"动力及环境监控单元",null,{"$f":"VLOOKUP(C:C,'[1]2024B1-B6清单'!$A:$P,16,0)","v":"浦江朱宅二"},{"$f":"VLOOKUP(C:C,'[1]2024B1-B6清单'!$A:$Q,17,0)","v":"33072600000021"},{"$f":"VLOOKUP(C:C,'[1]2024B1-B6清单'!$A:$C,3,0)","v":"浦江"},2024,"2024B6"]
[87,"/","330700316649ZLMK01","模块","模块",null,null,1,null,"个",null,"整流模块ZXD3000",null,"东阳横店下朱村","330783500000000148","东阳",2024]
[88,"/","330700316649ZLMK02","模块","模块",null,null,1,null,"个",null,"整流模块ZXD3000",null,"东阳横店下朱村","330783500000000148","东阳",2024]
[89,"/","无","电线电缆","电线电缆",null,null,1,null,"根",null,"25方铜线2米/根",null,"东阳南马大仁","330783908000000338","东阳",2024]
[90,"/","无","电线电缆","电线电缆",null,null,1,null,"根",null,"35方铜线3米/根",null,"东阳横店下朱村","330783500000000148","东阳",2024]
[91,"/","无","电线电缆","电线电缆",null,null,1,null,"根",null,"70方铜线3米/根",null,"东阳横店下朱村","330783500000000148","东阳",2024]
[92,"/","无","电线电缆","电线电缆",null,null,2,null,"根",null,"95方铜线2米/根",null,"东阳横店下朱村","330783500000000148","东阳",2024]
[93,"/","无","走线架","走线架",null,null,1,null,"个",null,"走线架",null,"东阳横店下朱村","330783500000000148","东阳",2024]
[94,"/","无","铜牌","铜牌",null,null,2,null,"段",null,"铜牌",null,"东阳横店下朱村","330783500000000148","东阳",2024]

{"sheet":"嘉兴","index":3,"n_rows":78,"n_cols":16,"rows_kept":78}
["序号","报废批复文号","资产编号","资产名称","资产原值\n（元，不含税）","资产净值\n（元，不含税）","累计折旧","资产数量","计量单位\n（个/吨/米等）","单节电池电压（2V/12V）","规格型号","生产厂家","站点名称","站点编码","批号","备注"]
[1,"嘉兴铁塔党委会纪要〔2024〕第12期","330400341372","交流配电箱",2710.8,117.91,2592.89,1,"个","/","不详","省邮电","海宁江南世家34幢","330481500000001859","省邮电*不详*交流配电箱*海宁江南世家34幢*330481500000001859**330400341372*整治*废旧"]
[2,"嘉兴铁塔党委会纪要〔2024〕第12期","330400112571","交流配电柜",13806.53,414.2,13392.33,1,"个","/","不详","浙江宝气","海宁飞浪仪表厂","330481908000000887","浙江宝气*不详*交流配电箱*海宁飞浪仪表厂*330481908000000887**330400112571*整治*废旧"]
[3,"嘉兴铁塔党委会纪要〔2024〕第12期","330400356546","交流配电箱",1898.27,517.3,1380.97,1,"个","/","DPJ01-800x600x250","通鼎宽带","海宁荷叶村海新桥","330481500000002002","通鼎宽带*DPJ01-800x600x250*交流配电箱*海宁荷叶村海新桥*330481500000002002**330400356546*拆站*废旧"]
[4,"嘉兴铁塔党委会纪要〔2024〕第12期","330400316600","壁挂式开关电源",9965.35,298.96,9666.39,1,"架","/","63A/2Px1","无","平湖伊思佳企业","33048201000032","无*63A/2Px1*壁挂式开关电源*平湖伊思佳企业*33048201000032**330400316600*拆站*利旧"]
[5,"嘉兴铁塔党委会纪要〔2024〕第12期","330400360035","普通空调柜式",3659.14,1144.96,2514.18,1,"台","/","KFR-75W/15S 3匹","华凌","桐乡电力营业厅-2","330483908000000226","华凌*KFR-75W/15S 3匹*空调*桐乡电力营业厅-2*330483908000000226**330400360035**废旧"]
[6,"嘉兴铁塔党委会纪要〔2024〕第12期","3304005400","普通空调机",6583.88,197.52,6386.36,1,"台","/","KF-72LW/SN-JZ1(R2)（3P带铜管）*","广东美的","桐乡义马-3","330483908000000465","广东美的*普通空调*KF-72LW/SN-JZ1(R2)（3P带铜管）*桐乡义马-3*330483908000000465**3304005400*置换*废旧"]
[7,"嘉兴铁塔党委会纪要〔2024〕第12期","3304005209","专用空调",462.43,13.87,448.56,1,"台","/","KF-72LW/TSUS-N2（3P带铜管）","海信","桐乡崇福老芝村南浜","33048301000523","海信*专用空调*KF-72LW/TSUS-N2（3P带铜管）*桐乡崇福老芝村南浜*33048301000523**3304005209*置换*废旧"]
[8,"嘉兴铁塔党委会纪要〔2024〕第12期","3304006963","通用空调",7978.47,239.35,7739.12,1,"台","/","KF-75LW/SUTK-N23匹","广东科龙","平湖花园工业区","330482908000000701","广东科龙*KF-75LW/SUTK-N23匹*普通空调*平湖花园工业区*330482908000000701**3304006963*拆站*废旧"]
[9,"嘉兴铁塔党委会纪要〔2024〕第12期","330400328546","普通空调柜式",6958.35,208.75,6749.6,1,"台","/","KF-72LW/S-JZ1(D2)3匹","美的","平湖全塘勤益塑料","330482908000000091","美的*KF-72LW/S-JZ1(D2)3匹*普通空调*平湖全塘勤益塑料*330482908000000091**330400328546*拆站*废旧"]
[10,"嘉兴铁塔党委会纪要〔2024〕第12期","330400116463","普通空调-松下",892.5,26.78,865.72,1,"台","/","KF-73LW/19Y23匹","松下","平湖大润发超市","330482908000000519","松下*KF-73LW/19Y23匹*普通空调*平湖大润发超市*330482908000000519**330400116463*拆站*废旧"]
[11,"嘉兴铁塔党委会纪要〔2024〕第12期","330400315467","普通空调柜式",6460.54,193.82,6266.72,1,"台","/","KF-72L/TSUS-N2（3p带铜管）","海信","桐乡恒兴艺饰公司-2","330483908000000222","海信*KF-72L/TSUS-N2（3p带铜管）*普通空调柜式*桐乡恒兴艺饰公司-2*330483908000000222**330400315467*拆站*废旧"]
[12,"嘉兴铁塔党委会纪要〔2024〕第10期","330400312330","普通空调柜式",6168.99,185.07,5983.92,1,"台","/","KF-72LW/S-JZ1(D2)3P含铜管","美的","海盐吕冢","330424908000000407","美的*KF-72LW/S-JZ1(D2)3P含铜管*空调*海盐吕冢*330424908000000407**330400312330*拆站*废旧"]
[13,"嘉兴铁塔党委会纪要〔2024〕第10期","330400133616","专用空调",201,6.03,194.97,1,"台","/","KF-72LW/HV10S(5)3P含铜管","华菱","海盐元通老街","330424908000000121","华菱*KF-72LW/HV10S(5)3P含铜管*空调*海盐元通老街*330424908000000121**330400133616*拆站*废旧"]
[14,"嘉兴铁塔党委会纪要〔2024〕第10期","330400107545","专用空调",4158,124.74,4033.26,1,"台","/","KF-120LW/35T(02)5P含铜管","海信","海盐秦山方家山","330424908000000299","海信*KF-120LW/35T(02)5P含铜管*空调*海盐秦山方家山*330424908000000299**330400107545*拆站*废旧"]
[15,"嘉兴铁塔党委会纪要〔2024〕第10期","330400107546","专用空调",1335.52,40.07,1295.45,1,"台","/","KF-72LW/TSUS-N23P含铜管","海信","海盐秦山方家山","330424908000000299","海信*KF-72LW/TSUS-N23P含铜管*空调*海盐秦山方家山*330424908000000299**330400107546*拆站*废旧"]
[16,"嘉兴铁塔党委会纪要〔2024〕第12期","330400115443","专用空调",201,6.03,194.97,1,"台","/","KF-72LW-HV10S(5)3P含铜管","华凌","海盐高竹工业区","330424908000000104","华凌*KF-72LW-HV10S(5)3P含铜管*空调*海盐高竹工业区*330424908000000104**330400115443*拆站*废旧"]
[17,"嘉兴铁塔党委会纪要〔2024〕第12期","330400116532","通用空调-通用空调",103,3.09,99.91,1,"台","/","KF-72LW/TSUS-N23P含铜管","海信","海盐楞子港","33042401000308","海信*KF-72LW/TSUS-N23P含铜管*空调*海盐楞子港*33042401000308**330400116532*拆站*废旧"]
[18,"嘉兴铁塔党委会纪要〔2024〕第12期","330400115486","专用空调",4328.24,129.85,4198.39,1,"台","/","KF-75LW/SUT-N23P含铜管","海信","海盐国防训练中心","330424908000000118","海信*KF-75LW/SUT-N23P含铜管*空调*海盐国防训练中心*330424908000000118**330400115486*拆站*废旧"]
[19,"嘉兴铁塔党委会纪要〔2024〕第12期","330400115102","专用空调",5825.33,174.76,5650.57,1,"台","/","KF-72LW-TSUS-N23P含铜管","海信","海盐驾校报名处（铁塔）","330424500000000085","海信*KF-72LW-TSUS-N23P含铜管*空调*海盐驾校报名处（铁塔）*330424500000000085**330400115102*拆站*废旧"]
[20,"嘉兴铁塔党委会纪要〔2024〕第12期","330400140614","专用空调",7459.52,223.79,7235.73,1,"台","/","KF-75LW-SUT-N23P含铜管","海信","海盐澉浦边际","330424908000000038","海信*KF-75LW-SUT-N23P含铜管*空调*海盐澉浦边际*330424908000000038**330400140614*拆站*废旧"]
[21,"嘉兴铁塔党委会纪要〔2024〕第12期","330400133613","专用空调",1023.27,30.7,992.57,1,"台","/","KF-72LW-HV10S(5)3P含铜管","华菱","海盐西塘桥大连实德","330424908000000017","华菱*KF-72LW-HV10S(5)3P含铜管*空调*海盐西塘桥大连实德*330424908000000017**330400133613*拆站*废旧"]
[22,"嘉兴铁塔党委会纪要〔2024〕第12期","330400318842","普通空调壁挂",4249.96,127.5,4122.46,1,"台","/","KF-50GW/UT-N32P含铜管","海信","海盐通元马坊弄搬迁","330482500000000151","海信*KF-50GW/UT-N32P含铜管*空调*海盐通元马坊弄搬迁*330482500000000151**330400318842*拆站*废旧"]
[23,"嘉兴铁塔党委会纪要〔2024〕第12期","330400140594","普通空调机",5225.67,156.77,5068.9,1,"台","/","3P含铜管","三洋","海盐元通泥桥-2","330424908000000495","三洋*不详3P含铜管*空调*海盐元通泥桥-2*330424908000000495**330400140594*拆站*废旧"]
[24,"嘉兴铁塔党委会纪要〔2024〕第12期","330400115538","空调-普通空调×",257.5,7.73,249.77,1,"台","/","KF-72LW/SN-JZ1(R2)3P含铜管","美的","海盐元通泥桥-2","330424908000000495","美的*KF-72LW/SN-JZ1(R2)3P含铜管*空调*海盐元通泥桥-2*330424908000000495**330400115538*拆站*废旧"]
[25,"嘉兴铁塔党委会纪要〔2024〕第12期","330400116732","普通空调机",5225.67,156.77,5068.9,1,"台","/","KF-72LW/SN-JZ1(R2)3P含铜管","美的","海盐佳湖纸业","330424908000000455","美的*KF-72LW/SN-JZ1(R2)3P含铜管*空调*海盐佳湖纸业*330424908000000455**330400116732*拆站*废旧"]
[26,"嘉兴铁塔党委会纪要〔2024〕第12期","330400312860","空调",7204.9,216.15,6988.75,1,"台","/","KF-72LW/SN-JZ1(R2)3P含铜管","美的","海盐百步横港得胜小区南","33042400000048","美的*KF-72LW/SN-JZ1(R2)3P含铜管*空调*海盐百步横港得胜小区南*33042400000048**330400312860*拆站*废旧"]
[27,"嘉兴铁塔党委会纪要〔2024〕第10期","330400133644","专用空调",4824.69,144.74,4679.95,1,"台","/","KF75LW含铜管3p","海信","嘉兴新塍来龙桥村","330411908000000056","海信*KF75LW含铜管3p*专用空调*嘉兴新塍来龙桥村*330411908000000056**330400133644*拆站*废旧"]
[28,"嘉兴铁塔党委会纪要〔2024〕第10期","330400133643","专用空调",1750.5,52.52,1697.98,1,"台","/","KF71W含铜管3p","大金","嘉兴新塍来龙桥村","330411908000000056","大金*KF71W含铜管3p*专用空调*嘉兴新塍来龙桥村*330411908000000056**330400133643*拆站*废旧"]
[29,"嘉兴铁塔党委会纪要〔2024〕第12期","330400360729","配套机架/机柜",1878.27,747.62,1130.65,1,"台","/","2米综合柜","隆兴","海宁飞浪仪表厂","330481908000000887","隆兴*2米综合柜*综合柜*海宁飞浪仪表厂*330481908000000887**330400360729*整治*废旧"]
[30,"嘉兴铁塔党委会纪要〔2024〕第12期","330400329010","配套机架/机柜",755.95,22.68,733.27,1,"台","/","配套综合柜整机配套综合柜体（2000x600x600mm）","隆兴","海宁军民村南","330481500000000428","隆兴*配套综合柜整机配套综合柜体（2000x600x600mm）*配套机架/机柜*海宁军民村南*330481500000000428**330400329010*拆站*废旧"]
[31,"嘉兴铁塔党委会纪要〔2024〕第12期","330400331321","供电计量设备",1011.73,103.92,907.81,1,"个","/","不详","威胜","海宁飞浪仪表厂","330481908000000887","威胜*不详*电表*海宁飞浪仪表厂*330481908000000887**330400331321*整治*废旧"]
[32,"嘉兴铁塔党委会纪要〔2024〕第12期","330400374006","电源扩容资产",601.3,260.74,340.56,1,"个","/","低压智能电表三相四路","不详","嘉兴秀湖公园西","330411500010001743","*低压智能电表三相四路*电表*嘉兴秀湖公园西*330411500010001743**330400374006*拆站*废旧"]
[33,"嘉兴铁塔党委会纪要〔2024〕第10期","330400360990","电力引入扩容资产",1003.59,614.31,389.28,1,"个","/","供电计量设备低压智能电表三相单路远程抄表","无","嘉兴新荣服饰","330411908000000157","无*供电计量设备低压智能电表三相单路远程抄表*电表*嘉兴新荣服饰*330411908000000157**330400360990*拆站*废旧"]
[34,"嘉兴铁塔党委会纪要〔2024〕第12期","330400360643","整流模块",1175.18,383.63,791.55,1,"个","/","R48-2900U","艾默生","嘉善魏塘工业园二","330421908000000040","艾默生*R48-2900U*整流模块*嘉善魏塘工业园二*330421908000000040**330400360643*拆站*废旧"]
[35,"嘉兴铁塔党委会纪要〔2024〕第12期","330400310104","外市电引入",2723.9,440.7,2283.2,1,"根","/","2x35方铝1.8kg","无","L桐乡东恒家纺","330483500000000252","不详*2x35方铝1.8kg*铝线根*L桐乡东恒家纺*330483500000000252**330400310104*拆站*废旧"]
[36,"嘉兴铁塔党委会纪要〔2024〕第12期","330400351130","外市电引入",27364.83,14212.05,13152.78,1,"根","/","2x35方铝1.3kg","无","桐乡同力机械西","330483906000035429","不详*2x35方铝1.3kg*铝线根*桐乡同力机械西*330483906000035429**330400351130*拆站*废旧"]
[37,"嘉兴铁塔党委会纪要〔2024〕第12期","330400362619","外市电引入",16152.59,9287.74,6864.85,1,"根","/","4x35方铝3.9kg","无","桐乡西南工业园","33048300000452","不详*4x35方铝3.9kg*铝线根*桐乡西南工业园*33048300000452**330400362619*拆站*废旧"]
[38,"嘉兴铁塔党委会纪要〔2024〕第12期","330400379704","外市电引入",2039.59,1444.59,595,1,"根","/","4x35方铝4.1kg","无","桐乡凤翔东路","33048300000441","不详*4x35方铝4.1kg*铝线根*桐乡凤翔东路*33048300000441**330400379704*拆站*废旧"]
[39,"嘉兴铁塔党委会纪要〔2024〕第12期","330400360727","外市电引入",2363.54,1339.26,1024.28,1,"根","/","4x35铝1kg","无","海宁飞浪仪表厂","330481908000000887","无*4x35铝1KG*铝线根*海宁飞浪仪表厂*330481908000000887**330400360727*整治*废旧"]
[40,"嘉兴铁塔党委会纪要〔2024〕第12期","330400363383","电力引入扩容资产",541.55,331.31,210.24,1,"根","/","4x35方铝1.1kg","无","嘉善康脉精机","330421906000035387","不祥*4x35方铝1.1KG*铝线*嘉善康脉精机*330421906000035387**330400363383*拆站*废旧"]
[41,"嘉兴铁塔党委会纪要〔2024〕第12期","330400001363","外市电引入",31693.36,1914.39,29778.97,1,"根","/","4x35方铝1.9kg","无","嘉善杨庙大王椰","33042100000058","不祥*4x35方铝1.9KG*铝线*嘉善杨庙大王椰*33042100000058**330400001363*拆站*废旧"]
[42,"嘉兴铁塔党委会纪要〔2024〕第12期","330400354366","外市电引入",1891.46,997.43,894.03,1,"根","/","4x35方铝1.6kg","无","嘉善宾馆","330421908000000627","不祥*4x35方铝1.6KG*铝线*嘉善宾馆*330421908000000627**330400354366*拆站*废旧"]
[43,"嘉兴铁塔党委会纪要〔2024〕第12期","330400309006","外市电引入",67136.35,11126.68,56009.67,1,"根","/","4x35方铝1.7kg","无","嘉善善西公路蒋家门","330421500000000164","不祥*4x35方铝1.7KG*铝线*嘉善善西公路蒋家门*330421500000000164**330400309006*拆站*废旧"]
[44,"嘉兴铁塔党委会纪要〔2024〕第12期","330400300509","外市电资产",22738.45,2652.79,20085.66,1,"根","/","4x35方铝1.2kg","无","嘉善大舜东伦纽扣","330421908000000767","不祥*4x35方铝1.2KG*铝线*嘉善大舜东伦纽扣*330421908000000767**330400300509*拆站*废旧"]
[45,"嘉兴铁塔党委会纪要〔2024〕第12期","330400301523","外市电资产",33806.58,3944.15,29862.43,1,"根","/","4x35方铝1.3kg","无","嘉善姚庄万泰特钢","330421906000035214","不祥*4x35方铝1.3KG*铝线*嘉善姚庄万泰特钢*330421906000035214**330400301523*拆站*废旧"]
[46,"嘉兴铁塔党委会纪要〔2024〕第12期","330400373654","外市电引入",31257.63,20562.36,10695.27,1,"根","/","4x35铝1.2kg","无","嘉善天凝开发区东","330421500000000061","无*4x35铝1.2KG*铝线根*嘉善天凝开发区东*330421500000000061**330400373654*拆站*废旧"]
[47,"嘉兴铁塔党委会纪要〔2024〕第12期","330400379360","外市电引入",25955,18384.85,7570.15,1,"根","/","4x35铝1.7kg","无","嘉善西塘祥符荡度假村","330421500000001719","无*4x35铝1.7KG*铝线根*嘉善西塘祥符荡度假村*330421500000001719**330400379360*拆站*废旧"]
[48,"嘉兴铁塔党委会纪要〔2024〕第12期","330400307287","外市电引入",7576.29,1131.01,6445.28,1,"根","/","4x35铝1.6kg","无","嘉善金大地产业园","330421908000000653","无*4x35铝1.6KG*铝线根*嘉善金大地产业园*330421908000000653**330400307287*拆站*废旧"]
[49,"嘉兴铁塔党委会纪要〔2024〕第12期","330400396979","外市电引入",24860,20494.78,4365.22,1,"根","/","4x35铝2.5kg","无","平湖卡玛乔箱包（铁塔）","330482500000000081","无*4x35铝2.5KG*铝线根*平湖卡玛乔箱包（铁塔）*330482500000000081**330400396979*拆 站*废旧"]
[50,"嘉兴铁塔党委会纪要〔2024〕第12期","330400362134","外市电引入",10225.67,5364.13,4861.54,1,"根","/","4x16铝3.1kg","无","桐乡朝锦服饰（铁塔）","330483500000000236","不详*4x16铝3.1kg*铝线根*桐乡朝锦服饰（铁塔）*330483500000000236**330400362134*拆站*废旧"]
[51,"嘉兴铁塔党委会纪要〔2024〕第12期","330400356548","外市电引入",34111.66,18453.26,15658.4,1,"根","/","4x35铝3.8Kkg","无","海宁荷叶村海新桥","330481500000002002","无*4x35铝3.8KG*铝线根*海宁荷叶村海新桥*330481500000002002**330400356548*拆站*废旧"]
[52,"嘉兴铁塔党委会纪要〔2024〕第10期","330400359943","外市电引入",3533.05,2031.61,1501.44,1,"根","/","2x35铝2.5kg","无","桐乡濮院盛隆服饰","330483500000001459","不详*2x35方铝2.5kg*铝线根*桐乡濮院盛隆服饰*330483500000001459**330400359943*拆站*废旧"]
[53,"嘉兴铁塔党委会纪要〔2024〕第12期","330400334390","外市电引入",10187.66,3330.2,6857.46,1,"根","/","4x35铝1.8kg","无","海宁马桥水泥厂北","330481600000000552","无*4x35铝1.8KG*铝线根*海宁马桥水泥厂北*330481600000000552**330400334390*拆站*废旧"]
[54,"嘉兴铁塔党委会纪要〔2024〕第10期","330400003093","外市电引入",53289.49,4742.92,48546.57,1,"根","/","4x35铝1.9kg","无","嘉兴佳瑞思喷织","33041101000175","无*4x35铝1.9KG*铝线根*嘉兴佳瑞思喷织*33041101000175**330400003093*拆站*废旧"]
[55,"嘉兴铁塔党委会纪要〔2024〕第10期","330400375979","外市电引入",19504.17,13805.24,5698.93,1,"根","/","4x35铝2.3kg","无","嘉兴东明实业南","330411500010001765","无*4x35铝2.3KG*铝线根*嘉兴东明实业南*330411500010001765**330400375979*拆站*废旧"]
[56,"嘉兴铁塔党委会纪要〔2024〕第10期","330400381102","外市电引入",15865.99,11767.17,4098.82,1,"根","/","4x35铝3.4kg","无","嘉兴油车港麟栖公园","330411500010001822","无*4x35铝3.4KG*铝线根*嘉兴油车港麟栖公园*330411500010001822**330400381102*拆站*废旧"]
[57,"嘉兴铁塔党委会纪要〔2024〕第10期","330400320816","外市电引入",5568.02,971.18,4596.84,1,"根","/","4x35铝2.1kg","无","嘉兴油车港天星如意湾西","330411500000000173","无*4x35铝2.1KG*铝线根*嘉兴油车港天星如意湾西*330411500000000173**330400320816*拆站*废旧"]
[58,"嘉兴铁塔党委会纪要〔2024〕第10期","330400370273","外市电引入",24696.97,16246.74,8450.23,1,"根","/","4x35铝1.9kg","无","嘉兴吉祥大桥","330411500010001748","无*4x35铝1.9KG*铝线根*嘉兴吉祥大桥*330411500010001748**330400370273*拆站*废旧"]
[59,"嘉兴铁塔党委会纪要〔2024〕第10期","330400393772","外市电引入",8728.1,7195.55,1532.55,1,"根","/","4x35铝2.2kg","无","嘉兴吉祥大桥","330411500010001748","无*4x35铝2.2KG*铝线根*嘉兴吉祥大桥*330411500010001748**330400393772*拆站*废旧"]
[60,"嘉兴铁塔党委会纪要〔2024〕第10期","330400370343","外市电引入",2418.78,1545.01,873.77,1,"根","/","4x35铝1.6kg","无","嘉兴良友","330411908000000219","无*4x35铝1.6KG*铝线根*嘉兴良友*330411908000000219**330400370343*拆站*废旧"]
[61,"嘉兴铁塔党委会纪要〔2024〕第12期","330400360777","动力及环境监控单元",6209.74,2451.03,3758.71,1,"个","/","DJ-05C","无","嘉兴三水湾垃圾中转站（铁塔）","330402500000000239","无*DJ-05C*监控*嘉兴三水湾垃圾中转站（铁塔）*330402500000000239**330400360777**废旧"]
[62,"嘉兴铁塔党委会纪要〔2024〕第12期","330400323767","动力及环境监控单元",3380.38,101.41,3278.97,1,"个","/","主设备室内型成套设备","中兴","海宁飞浪仪表厂","330481908000000887","中兴*主设备室内型成套设备*动力及环境监控单元*海宁飞浪仪表厂*330481908000000887**330400323767*整治*废旧"]
[63,"嘉兴铁塔党委会纪要〔2024〕第12期","330400341371","动力及环境监控单元",4065.58,176.83,3888.75,1,"个","/","主设备室内型成套设备基本配置模型","无","海宁江南世家34幢","330481500000001859","无*主设备室内型成套设备基本配置模型*动力及环境监控单元*海宁江南世家34幢*330481500000001859**330400341371*整治*废旧"]
[64,"嘉兴铁塔党委会纪要〔2024〕第12期","330400104115","动环监控设备",216.48,6.49,209.99,1,"个","/","DJ-A100","大光明","平湖卡玛乔箱包（铁塔）","330482500000000081","大光明*DJ-A100*动环监控设备*平湖卡玛乔箱包（铁塔）*330482500000000081**330400104115*拆 站*废旧"]
[65,"嘉兴铁塔党委会纪要〔2024〕第12期","330400356545","动力及环境监控单元",3460.37,942.89,2517.48,1,"个","/","ZNVEISUAV3","力维智联","海宁荷叶村海新桥","330481500000002002","力维智联*ZNVEISUAV3*动力及环境监控单元*海宁荷叶村海新桥*330481500000002002**330400356545*拆站*废旧"]
[66,"嘉兴铁塔党委会纪要〔2024〕第12期","330400133709","空调节能设备",942.33,28.27,914.06,1,"个","/","空调节能设备","杭州秦歌科技","海盐劳动局","330424908000000587","杭州秦歌科技*空调节能设备*WEC节能控制器*海盐劳动局*330424908000000587**330400133709*拆站*废旧"]
[67,"嘉兴铁塔党委会纪要〔2024〕第12期","330400388118","供电计量设备",562.91,453.71,109.2,1,"个","/","不详","恒古","海宁飞浪仪表厂","330481908000000887","恒古*不详*空调控制器*海宁飞浪仪表厂*330481908000000887**330400388118*整治*废旧"]
[68,"嘉兴铁塔党委会纪要〔2024〕第12期","330400388171","供电计量设备",562.91,453.71,109.2,1,"个","/","电流型输入200A/输出4-20mA","无","嘉兴水榭花都9栋","330400908000000614","无*电流型输入200A/输出4-20mA*霍尔传感器*嘉兴水榭花都9栋*330400908000000614**330400388171*拆站*废旧"]
[69,"嘉兴铁塔党委会纪要〔2024〕第12期","330400386577","交流计量箱-4回路-三相交流-室外型-含浪涌保护器-内置智能电表",4902.96,3185.62,1717.34,1,"个","/","4回路-三相交流-室外型-含浪涌保护器-内置智能电表","无","海宁盐官观音桥铁塔","330481500000000203","无*4回路-三相交流-室外型-含浪涌保护器-内置智能电表*交流计量箱*海宁盐官观音桥铁塔*330481500000000203**330400386577*拆站*利旧"]
[70,"嘉兴铁塔党委会纪要〔2024〕第12期","330400379362","基站机房扩容资产",2390.92,2128.1,262.82,1,"根","/","1x16铜0.3kg","无","嘉善西塘祥符荡度假村","330421500000001719","无*1x16铜0.3KG*铜线根*嘉善西塘祥符荡度假村*330421500000001719**330400379362*拆站*废旧"]
[71,"嘉兴铁塔党委会纪要〔2024〕第12期","330400384950","基站机房扩容资产",202.21,182.03,20.18,1,"根","/","1x25铜0.8kg","无","嘉兴秀湖公园西","330411500010001743","无*1x25铜0.8kg*铜线*嘉兴秀湖公园西*330411500010001743**330400384950*拆站*废旧"]
[72,"嘉兴铁塔党委会纪要〔2024〕第12期","330400107449","专用空调",219,6.57,212.43,1,"台","/","KF-75LW/SUT-N23P含铜管","海信","卜院斯威特","330483500000000197","海信（山东）*KF-75LW/SUT-N23p*专用空调*卜院斯威特*330483500000000197**330400107449*拆站*废旧"]
[73,"嘉兴铁塔党委会纪要〔2024〕第12期","330400369925","外市电引入",2153,1341.95,811.05,1,"根","/","3X16+1X10铝2.1kg","无","桐乡濮院雪莲伊梦","330483908000000014","不详*3X16+1X10铝2.1KG*铝线根*桐乡濮院雪莲伊梦*330483908000000014**330400369925*拆站*废旧"]
[74,"嘉兴铁塔党委会纪要〔2024〕第12期","330400301020","外市电资产",26193.25,3055.85,23137.4,1,"根","/","4x35铝2.8kg","无","卜院斯威特","330483500000000197","不详*4x35铝2.8kg*铝线根*卜院斯威特*330483500000000197**330400301020*拆站*废旧"]
[75,"嘉兴铁塔党委会纪要〔2024〕第10期","330400360334","嵌入式开关电源",11734.9,3990.53,7744.37,1,"架","/","DUMC-48/50H","动力源","嘉善星光灿烂（铁塔）","330421500000000135","动力源*DUMC-48/50H*嵌入式开关电源*嘉善星光灿烂（铁塔）*330421500000000135**330400360334*拆站*废旧"]
[76,"嘉兴铁塔党委会纪要〔2024〕第12期","330400107763","专用空调",1315.88,39.48,1276.4,1,"台","/","KF-72LW/JHS(2)3匹","广州华凌","平湖新埭航管所","330482908000000327","广州华凌*KF-72LW/JHS(2)3匹*普通空调*平湖新埭航管所*330482908000000327**330400107763*拆站*废旧"]
[77,"嘉兴铁塔党委会纪要〔2024〕第10期","330400327160","动力及环境监控单元",2882.15,86.46,2795.69,1,"个","/","DTM-2830","大光明","嘉善姚庄桃园路","330421908000000038","大光明*DTM-2830*动力及环境监控单元*嘉善姚庄桃园路*330421908000000038**330400327160*拆站*废旧"]

{"sheet":"杭州","index":4,"n_rows":213,"n_cols":25,"rows_kept":213}
["序号","报废批复文号","资产编号","资产名称","资产类别名称","资产原值\n（元，不含税）","资产净值\n（元，不含税）","累计折旧","资产数量","计量单位","单节电池电压","规格型号","生产厂家","站点名称","站点编码","备注","中通库K3编号","报废批复文号（省公司）","对应估值清单的分类描述(人工调整资产名称）","资产类别名称","物资称重（kg)","完整度/出铜（铝）率","计量方式","计量单位"]
[1,"杭州市分公司2023年第三次党委会纪要-杭州铁塔党委会纪要〔2023〕第3期","330100317969","传感器","传感器",556.21,461.71,94.5,1,"个",null,"霍尔传感器","无","杭州宏利石材","330104908000000607","","无*霍尔传感器**杭州宏利石材*330104908000000607*0.264kg*330100317969*批*废旧","","传感器","传感器",0.264,null,"称重计量后套用价格","个"]
[2,"杭州市分公司2023年第三次党委会纪要-杭州铁塔党委会纪要〔2023〕第3期","330100208364","传感器","传感器",2417.16,235.33,2181.83,1,"个",null,"监控传感器","无","杭州康桥焊接基站","330105908000000416","","无*监控传感器**杭州康桥焊接基站*330105908000000416*1kg*330100208364*批*废旧","","传感器","传感器",{"v":1,"d":"1.000"},null,"称重计量后套用价格","个"]
[3,"杭州市分公司2023年第三次党委会纪要-杭州铁塔党委会纪要〔2023〕第3期","330100301968","电表","电表",966,747.32,218.68,1,"个",null,"智能电表","无","杭州下沙斯莱特泵业","330104906000014161","","无*智能电表**杭州下沙斯莱特泵业*330104906000014161*1.5kg*330100301968*批*废旧","","电表","电表",{"v":1.5,"d":"1.500"},null,"称重计量后套用价格","个"]
[4,"杭州市分公司2023年第三次党委会纪要-杭州铁塔党委会纪要〔2023〕第3期","330100301969","电表","电表",966,747.32,218.68,1,"个",null,"智能电表","无","下沙斯莱特泵业","330104908000001376","","无*智能电表**下沙斯莱特泵业*330104908000001376*1.5kg*330100301969*批*废旧","","电表","电表",{"v":1.5,"d":"1.500"},null,"称重计量后套用价格","个"]
[5,null,"配件","电池架","电池架",{"$nulls":3},266.5,"千克",null,"电池架","无","十方-萧山","无","","无*电池架**十方-萧山*无*266.5kg*330100234867等17个资产配件*批*废旧",null,"电池架","电池架",{"v":266.5,"d":"266.500"},null,"称重计量后套用价格","千克"]
[6,null,"配件","电池架","电池架",{"$nulls":3},492,"千克",null,"电池架","无","方大-西湖余杭","无","","无*电池架**方大-西湖余杭*无*492kg*330100223994等24个资产配件*批*废旧",null,"电池架","电池架",{"v":492,"d":"492.000"},null,"称重计量后套用价格","千克"]
[7,null,"配件","电池架","电池架",{"$nulls":3},187.5,"千克",null,"电池架","无","十方-拱墅钱塘","无","","无*电池架**十方-拱墅钱塘*无*187.5kg*330100179945等9个资产配件*批*废旧",null,"电池架","电池架",{"v":187.5,"d":"187.500"},null,"称重计量后套用价格","千克"]
[8,null,"配件","电池架","电池架",{"$nulls":3},213,"千克",null,"电池架","无","十方-上城","无","","无*电池架**十方-上城*无*213kg*330100137845等18个资产配件*批*废旧",null,"电池架","电池架",{"v":213,"d":"213.000"},null,"称重计量后套用价格","千克"]
[9,null,"配件","电池架","电池架",{"$nulls":3},1071.5,"千克",null,"电池架","无","十方-萧山配件","无","","无*电池架**十方-萧山配件*无*1071.5kg*330100209688等41个资产配件*批*废旧",null,"电池架","电池架",{"v":1071.5,"d":"1071.500"},null,"称重计量后套用价格","千克"]
[10,null,"配件","电池架","电池架",{"$nulls":3},335.5,"千克",null,"电池架","无","依网-淳安","无","","无*电池架**依网-淳安*无*335.5kg*330100161701等17个资产配件*批*废旧",null,"电池架","电池架",{"v":335.5,"d":"335.500"},null,"称重计量后套用价格","千克"]
[11,null,"配件","电池架","电池架",{"$nulls":3},421.5,"千克",null,"电池架","无","依网-建德","无","","无*电池架**依网-建德*无*421.5kg*330100168032等12个资产配件*批*废旧",null,"电池架","电池架",{"v":421.5,"d":"421.500"},null,"称重计量后套用价格","千克"]
[12,"杭州市分公司2024年第四次党委会纪要-杭州铁塔党委会纪要(2024)第6期","330100321773","电缆","电缆",9202.42,6825.03,2377.39,6,"千克",null,"铝缆-4芯","无","杭州蓝孔雀宾馆","330105908000000445","出铝率40%","无*铝缆-4芯*出铝率40%*杭州蓝孔雀宾馆*330105908000000445*6kg*330100321773*批*废旧","","铝缆","铝缆类",{"v":6,"d":"6.000"},"出铝率40%","称重及出铝率计量后套用价格","千克"]
[13,"杭州市分公司2024年第二十六次党委会纪要-杭州铁塔党委会纪要(2024)第28期","330100132460","电缆","电缆",2402.06,363.28,2038.78,5.3,"千克",null,"铝缆-4芯","无","杭州东篱会所","330102908000000138","出铝率40%","无*铝缆-4芯*出铝率40%*杭州东篱会所*330102908000000138*5.3kg*330100132460*批*废旧","","铝缆","铝缆类",{"v":5.3,"d":"5.300"},"出铝率40%","称重及出铝率计量后套用价格","千克"]
[14,"杭州市分公司2024年第二十六次党委会纪要-杭州铁塔党委会纪要(2024)第28期","330100425104","电缆","电缆",39904.15,35236.37,4667.78,5.3,"千克",null,"铝缆-4芯","无","杭州东篱会所","330102908000000138","出铝率40%","无*铝缆-4芯*出铝率40%*杭州东篱会所*330102908000000138*5.3kg*330100425104*批*废旧","","铝缆","铝缆类",{"v":5.3,"d":"5.300"},"出铝率40%","称重及出铝率计量后套用价格","千克"]
[15,"杭州市分公司2024年第二十六次党委会纪要-杭州铁塔党委会纪要(2024)第28期","330100418433","电缆","电缆",2994.2,2595,399.2,5.4,"千克",null,"铝缆-4芯","无","杭州横塘村十组","330103908000000376","出铝率40%","无*铝缆-4芯*出铝率40%*杭州横塘村十组*330103908000000376*5.4kg*330100418433*批*废旧","","铝缆","铝缆类",{"v":5.4,"d":"5.400"},"出铝率40%","称重及出铝率计量后套用价格","千克"]
[16,"杭州市分公司2023年第二十二次党委会纪要-杭州铁塔党委会纪要〔2023〕第22期","330100141864","电缆","电缆",5887.77,1509.29,4378.48,2,"千克",null,"铜缆-1芯","无","杭州优派制衣","330105908000000138","出铜率22.5%","无*铜缆-1芯*出铜率22.5%*杭州优派制衣*330105908000000138*2kg*330100141864*批*废旧","","铜缆","铜缆类",{"v":2,"d":"2.000"},"出铜率22.5%","称重及出铜率计量后套用价格","千克"]
[17,"杭州市分公司2024年第四次党委会纪要-杭州铁塔党委会纪要(2024)第6期","330100110524","电缆","电缆",1659.92,358.34,1301.58,1.5,"千克",null,"铜缆-1芯","无","萧山荣星村","330109908000000806","出铜率22.5%","无*铜缆-1芯*出铜率22.5%*萧山荣星村*330109908000000806*1.5kg*330100110524*批*废旧","","铜缆","铜缆类",{"v":1.5,"d":"1.500"},"出铜率22.5%","称重及出铜率计量后套用价格","千克"]
[18,"杭州市分公司2023年第三次党委会纪要-杭州铁塔党委会纪要〔2023〕第3期","330100260154","断路器","断路器",1095,601.77,493.23,1,"个",null,"","无","金一社区搬迁","330109500000000784","","无***金一社区搬迁*330109500000000784*0.098kg*330100260154*批*废旧","","断路器","断路器",0.098,null,"称重计量后套用价格","个"]
[19,"杭州市分公司2023年第三次党委会纪要-杭州铁塔党委会纪要〔2023〕第3期","330100283411","断路器","断路器",4180.93,2350.69,1830.24,1,"个",null,"","无","七间头","330109500000000388","","无***七间头*330109500000000388*0.098kg*330100283411*批*废旧","","断路器","断路器",0.098,null,"称重计量后套用价格","个"]
[20,"杭州市分公司2023年第三次党委会纪要-杭州铁塔党委会纪要〔2023〕第3期","330100302720","断路器","断路器",1.3,0.74,0.56,1,"个",null,"","无","七间头","330109500000000388","","无***七间头*330109500000000388*0.103kg*330100302720*批*废旧","","断路器","断路器",0.103,null,"称重计量后套用价格","个"]
[21,"杭州市分公司2024年第四次党委会纪要-杭州铁塔党委会纪要(2024)第6期","330100282963","断路器","断路器",930.12,479.45,450.67,1,"个",null,"","无","萧山湘湖科创园","330109500000000712","","无***萧山湘湖科创园*330109500000000712*0.163kg*330100282963*批*废旧","","断路器","断路器",0.163,null,"称重计量后套用价格","个"]
[22,"杭州市分公司2024年第二十六次党委会纪要-杭州铁塔党委会纪要(2024)第28期","330100287829","断路器","断路器",414.78,118.74,296.04,1,"个",null,"","无","杭州江干石桥装饰材料中心","330103908000000264","","无***杭州江干石桥装饰材料中心*330103908000000264*1.5kg*330100287829*批*废旧","","断路器","断路器",{"v":1.5,"d":"1.500"},null,"称重计量后套用价格","个"]
[23,"杭州市分公司2022年第三十二次党委会纪要-杭州铁塔党委会纪要〔2022〕第32期","330100230563","废旧RRU架","废旧RRU架",1636.79,468.13,1168.66,1,"个",null,"室内型","无","杭州福兴丝绸厂","330104908000000671","","无*室内型**杭州福兴丝绸厂*330104908000000671*47kg*330100230563*批*废旧","浙江铁塔财务〔2022〕76号","室内型RRU架","RRU架",{"v":47,"d":"47.000"},null,"称重计量后套用价格","个"]
[24,"杭州市分公司2023年第三次党委会纪要-杭州铁塔党委会纪要〔2023〕第3期","330100230348","废旧RRU架","废旧RRU架",1636.79,424.03,1212.76,1,"个",null,"室内型","无","杭州宏利石材","330104908000000607","","无*室内型**杭州宏利石材*330104908000000607*48kg*330100230348*批*废旧","","室内型RRU架","RRU架",{"v":48,"d":"48.000"},null,"称重计量后套用价格","个"]
[25,"杭州市分公司2024年第四次党委会纪要-杭州铁塔党委会纪要(2024)第6期","330100209329","废旧RRU架","废旧RRU架",1317.89,39.54,1278.35,1,"个",null,"室内型","无","萧山湘湖科创园","330109500000000712","","无*室内型**萧山湘湖科创园*330109500000000712*49kg*330100209329*批*废旧","","室内型RRU架","RRU架",{"v":49,"d":"49.000"},null,"称重计量后套用价格","个"]
[26,"杭州市分公司2023年第三次党委会纪要-杭州铁塔党委会纪要〔2023〕第3期","330100250688","供电计量设备","供电计量设备",460.98,282.03,178.95,1,"个",null,"分路计量","无","七间头","330109500000000388","","无*分路计量**七间头*330109500000000388*0.168kg*330100250688*批*废旧","","分路计量","分路计量",0.168,null,"直接套用单价","个"]
[27,"杭州市分公司2023年第三次党委会纪要-杭州铁塔党委会纪要〔2023〕第3期","330100251197","供电计量设备","供电计量设备",460.98,282.03,178.95,1,"个",null,"分路计量","无","七间头","330109500000000388","","无*分路计量**七间头*330109500000000388*0.172kg*330100251197*批*废旧","","分路计量","分路计量",0.172,null,"直接套用单价","个"]
[28,"杭州市分公司2024年第十一次党委会纪要-杭州铁塔党委会纪要(2024)第13期","330100268565","机柜","机柜",1689.09,483.58,1205.51,1,"个",null,"配套机架/机柜","无","萧山荣星村","330109908000000806","","无*配套机架/机柜**萧山荣星村*330109908000000806**330100268565*批*废旧","","机柜","机柜","",null,"直接套用单价","个"]
[29,"杭州市分公司2024年第二十六次党委会纪要-杭州铁塔党委会纪要(2024)第28期","330100217170_1_2","机柜","机柜",6973.17,209.19,6763.98,1,"个",null,"一体化机柜（风扇型）","无","萧山鸿达路与高新七路交叉口凯达文具周边区域","330109500000000347","","无*一体化机柜（风扇型）**萧山鸿达路与高新七路交叉口凯达文具周边区域*330109500000000347**330100217170_1_2**废旧","","一体化机柜（风扇型）","机柜","",null,"直接套用单价","个"]
[30,"杭州市分公司2024年第二十六次党委会纪要-杭州铁塔党委会纪要(2024)第28期","330100008337_2","机柜","机柜",5090.06,152.7,4937.36,1,"个",null,"一体化机柜（风扇型）","无","萧山金城路东南网架大楼","330109500000000281","","无*一体化机柜（风扇型）**萧山金城路东南网架大楼*330109500000000281**330100008337_2**废旧","","一体化机柜（风扇型）","机柜","",null,"直接套用单价","个"]
[31,"杭州市分公司2024年第二十六次党委会纪要-杭州铁塔党委会纪要(2024)第28期","330100009091","机柜","机柜",10013.58,300.41,9713.17,1,"个",null,"一体化机柜（风扇型）","无","萧山双圩5组","330109908000000401","","无*一体化机柜（风扇型）**萧山双圩5组*330109908000000401**330100009091*批*废旧","","一体化机柜（风扇型）","机柜","",null,"直接套用单价","个"]
[32,"杭州市分公司2024年第二十六次党委会纪要-杭州铁塔党委会纪要(2024)第28期","330100160915","机柜","机柜",9087.18,272.62,8814.56,1,"个",null,"一体化机柜（风扇型）","无","萧山双圩5组","330109908000000401","","无*一体化机柜（风扇型）**萧山双圩5组*330109908000000401**330100160915*批*废旧","","一体化机柜（风扇型）","机柜","",null,"直接套用单价","个"]
[33,"杭州市分公司2024年第二十六次党委会纪要-杭州铁塔党委会纪要(2024)第28期","330100201498","机柜","机柜",17263.06,517.89,16745.17,1,"个",null,"一体化机柜（风扇型）","无","杭州海景城","330104908000000619","","无*一体化机柜（风扇型）**杭州海景城*330104908000000619**330100201498*批*废旧","","一体化机柜（风扇型）","机柜","",null,"直接套用单价","个"]
[34,"杭州市分公司2024年第二十六次党委会纪要-杭州铁塔党委会纪要(2024)第28期","330100159937","机柜","机柜",7842.9,235.29,7607.61,1,"个",null,"一体化机柜（风扇型）","无","杭州上城铁路驾校培训基地","330102908000000231","","无*一体化机柜（风扇型）**杭州上城铁路驾校培训基地*330102908000000231**330100159937*批*废旧","","一体化机柜（风扇型）","机柜","",null,"直接套用单价","个"]
[35,"杭州市分公司2024年第二十一次党委会纪要-杭州铁塔党委会纪要(2024)第23期","330100213303","机柜","机柜",36360.78,1090.82,35269.96,1,"个",null,"一体化机柜（空调型）","无","余家畈村","330106500000000659","","无*一体化机柜（空调型）**余家畈村*330106500000000659**330100213303*批*废旧","","一体化机柜（空调型）","机柜","",null,"直接套用单价","个"]
[36,"杭州市分公司2024年第二十一次党委会纪要-杭州铁塔党委会纪要(2024)第23期","330100176936","机柜","机柜",12724.53,381.74,12342.79,1,"个",null,"一体化机柜（空调型）","无","新塘路艮山西路口","330104500000000128","","无*一体化机柜（空调型）**新塘路艮山西路口*330104500000000128**330100176936*批*废旧","","一体化机柜（空调型）","机柜","",null,"直接套用单价","个"]
[37,"杭州市分公司2024年第二十六次党委会纪要-杭州铁塔党委会纪要(2024)第28期","330100193556","机柜","机柜",17842.76,535.28,17307.48,1,"个",null,"一体化机柜（空调型）","无","杭州江干大世界五金城二期","330104500000000313","拼装机柜已拆散","无*一体化机柜（空调型）*拼装机柜已拆散*杭州江干大世界五金城二期*330104500000000313**330100193556*批*废旧","","一体化机柜（空调型）","机柜","",null,"直接套用单价","个"]
[38,"杭州市分公司2024年第二十一次党委会纪要-杭州铁塔党委会纪要(2024)第23期","330100208267","机柜","机柜",24052.47,721.57,23330.9,1,"个",null,"一体化机柜（空调型）","中恒","建德梅岭西","330182500000000111","含嵌入式开关电源，3块模块","中恒*一体化机柜（空调型）*含嵌入式开关电源，3块模块*建德梅岭西*330182500000000111*153kg*330100208267*批*废旧","","机柜（内含嵌入式开关电源与模块）","机柜",{"v":153,"d":"153.000"},"完整度25%","称重及完整度计量后套用价格","个"]
[39,"杭州市分公司2024年第四次党委会纪要-杭州铁塔党委会纪要(2024)第6期","330100208650","机柜","机柜",20896.02,626.88,20269.14,1,"个",null,"一体化机柜（无风扇无空调）","无","富阳东洲移动富春民丰","330183500000000260","","无*一体化机柜（无风扇无空调）**富阳东洲移动富春民丰*330183500000000260**330100208650*批*废旧","","一体化机柜（空调型）","机柜","",null,"直接套用单价","个","合并空调组件按一体化机柜（空调型）处置"]
[40,"杭州市分公司2024年第二十一次党委会纪要-杭州铁塔党委会纪要(2024)第23期","330100183703","机柜","机柜",20498.04,614.94,19883.1,1,"个",null,"一体化机柜（无风扇无空调）","无","临安湍口大溪滩","330185500000000063","","无*一体化机柜（无风扇无空调）**临安湍口大溪滩*330185500000000063**330100183703*批*废旧","","一体化机柜（空调型）","机柜","",null,"直接套用单价","个","合并空调组件按一体化机柜（空调型）处置"]
[41,"杭州市分公司2024年第二十六次党委会纪要-杭州铁塔党委会纪要(2024)第28期","330100204335_1","机柜","机柜",6464.73,193.94,6270.79,1,"个",null,"一体化机柜（无风扇无空调）","无","恒富特种纸业有限公司","330183010000000267","","无*一体化机柜（无风扇无空调）**恒富特种纸业有限公司*330183010000000267**330100204335_1*批*废旧","","一体化机柜（无空调无风扇）","机柜","",null,"直接套用单价","个"]
[42,"杭州市分公司2024年第二十一次党委会纪要-杭州铁塔党委会纪要(2024)第23期","330100200048","机柜","机柜",1179.94,35.4,1144.54,1,"个",null,"综合柜","无","杭州西湖转塘小俞家","330106500000000510","","无*综合柜**杭州西湖转塘小俞家*330106500000000510**330100200048*批*废旧","","综合柜","机柜","",null,"直接套用单价","个"]
[43,"杭州市分公司2024年第四次党委会纪要-杭州铁塔党委会纪要(2024)第6期","330100208646","监控","监控",4878.27,146.35,4731.92,1,"个",null,"动环监控","无","富阳东洲移动富春民丰","330183500000000260","纯主机，无辅材","无*动环监控*纯主机，无辅材*富阳东洲移动富春民丰*330183500000000260**330100208646*批*废旧","","动环监控","动环监控","",null,"直接套用单价","个"]
[44,"杭州市分公司2024年第二十一次党委会纪要-杭州铁塔党委会纪要(2024)第23期","330100200050","监控","监控",3756.56,112.7,3643.86,1,"个",null,"动环监控","无","杭州西湖转塘小俞家","330106500000000510","纯主机无辅材","无*动环监控*纯主机无辅材*杭州西湖转塘小俞家*330106500000000510**330100200050*批*废旧","","动环监控","动环监控","",null,"直接套用单价","个"]
[45,"杭州市分公司2024年第二十一次党委会纪要-杭州铁塔党委会纪要(2024)第23期","330100213302","监控","监控",3477.09,104.31,3372.78,1,"个",null,"动环监控","无","余家畈村","330106500000000659","纯主机无辅材","无*动环监控*纯主机无辅材*余家畈村*330106500000000659**330100213302*批*废旧","","动环监控","动环监控","",null,"直接套用单价","个"]
[46,"杭州市分公司2024年第十四次党委会纪要-杭州铁塔党委会纪要(2024)第16期","330100198182","监控","监控",4853.14,145.59,4707.55,1,"个",null,"动环监控","无","萧山成人中专","330109908000000370","纯主机无辅材","无*动环监控*纯主机无辅材*萧山成人中专*330109908000000370**330100198182*批*废旧","","动环监控","动环监控","",null,"直接套用单价","个"]
[47,"杭州市分公司2024年第十四次党委会纪要-杭州铁塔党委会纪要(2024)第16期","330100142676","监控","监控",1436.84,43.11,1393.73,1,"个",null,"动环监控BASS-230","无","萧山丰乐-2","330109908000000361","纯主机无辅材","无*动环监控BASS-230*纯主机无辅材*萧山丰乐-2*330109908000000361**330100142676*批*废旧","","动环监控","动环监控","",null,"直接套用单价","个"]
[48,"杭州市分公司2024年第二十六次党委会纪要-杭州铁塔党委会纪要(2024)第28期","330100130205","监控","监控",1659.54,49.79,1609.75,1,"个",null,"","无","杭州东篱会所","330102908000000138","纯主机，无辅材","无**纯主机，无辅材*杭州东篱会所*330102908000000138**330100130205*批*废旧","","动环监控","动环监控","",null,"直接套用单价","个"]
[49,"杭州市分公司2024年第二十六次党委会纪要-杭州铁塔党委会纪要(2024)第28期","330100223802","监控","监控",2913.67,87.41,2826.26,1,"个",null,"","无","杭州海景城","330104908000000619","纯主机，无辅材","无**纯主机，无辅材*杭州海景城*330104908000000619**330100223802*批*废旧","","动环监控","动环监控","",null,"直接套用单价","个"]
[50,"杭州市分公司2024年第二十六次党委会纪要-杭州铁塔党委会纪要(2024)第28期","330100229696","监控","监控",2840.17,85.21,2754.96,1,"个",null,"","无","杭州横塘村十组","330103908000000376","纯主机，无辅材","无**纯主机，无辅材*杭州横塘村十组*330103908000000376**330100229696*批*废旧","","动环监控","动环监控","",null,"直接套用单价","个"]
[51,"杭州市分公司2024年第二十六次党委会纪要-杭州铁塔党委会纪要(2024)第28期","330100212498","监控","监控",2937.64,88.13,2849.51,1,"个",null,"","无","杭州江干石桥装饰材料中心","330103908000000264","纯主机，无辅材","无**纯主机，无辅材*杭州江干石桥装饰材料中心*330103908000000264**330100212498*批*废旧","","动环监控","动环监控","",null,"直接套用单价","个"]
[52,"杭州市分公司2024年第二十六次党委会纪要-杭州铁塔党委会纪要(2024)第28期","330100217082","监控","监控",2825.61,84.77,2740.84,1,"个",null,"","无","杭州上城铁路驾校培训基地","330102908000000231","纯主机，无辅材","无**纯主机，无辅材*杭州上城铁路驾校培训基地*330102908000000231**330100217082*批*废旧","","动环监控","动环监控","",null,"直接套用单价","个"]
[53,"杭州市分公司2024年第二十一次党委会纪要-杭州铁塔党委会纪要(2024)第23期","330100197457","监控","监控",2690.61,80.72,2609.89,1,"个",null,"","无","新塘路艮山西路口","330104500000000128","纯主机，无辅材","无**纯主机，无辅材*新塘路艮山西路口*330104500000000128**330100197457*批*废旧","","动环监控","动环监控","",null,"直接套用单价","个"]
[54,"杭州市分公司2023年第三次党委会纪要-杭州铁塔党委会纪要〔2023〕第3期","330100234491","监控模块","监控模块",424.78,115.79,308.99,1,"个",null,"位置通信模块","无","杭州康桥焊接基站","330105908000000416","","无*位置通信模块**杭州康桥焊接基站*330105908000000416*0.173kg*330100234491*批*废旧","","位置模块","位置模块",0.173,null,"称重计量后套用价格","个"]
[55,"杭州市分公司2023年第三次党委会纪要-杭州铁塔党委会纪要〔2023〕第3期","330100227094","监控模块","监控模块",424.78,98.61,326.17,1,"个",null,"位置通信模块","无","七间头","330109500000000388","","无*位置通信模块**七间头*330109500000000388*0.207kg*330100227094*批*废旧","","位置模块","位置模块",0.207,null,"称重计量后套用价格","个"]
[56,"杭州市分公司2024年第四次党委会纪要-杭州铁塔党委会纪要(2024)第6期","330100208649","交流计量箱","交流计量箱",758.65,22.76,735.89,1,"个",null,"","无","富阳东洲移动富春民丰","330183500000000260","","无***富阳东洲移动富春民丰*330183500000000260*34kg*330100208649*批*废旧","","交流计量箱","配电箱类",{"v":34,"d":"34.000"},null,"直接套用单价","个"]
[57,"杭州市分公司2024年第二十一次党委会纪要-杭州铁塔党委会纪要(2024)第23期","330100213307","交流计量箱","交流计量箱",682.58,20.48,662.1,1,"个",null,"","无","余家畈村","330106500000000659","","无***余家畈村*330106500000000659*3.5kg*330100213307*批*废旧","","交流计量箱","配电箱类",{"v":3.5,"d":"3.500"},null,"直接套用单价","个"]
[58,"杭州市分公司2024年第二十一次党委会纪要-杭州铁塔党委会纪要(2024)第23期","330100200047","交流配电箱","交流配电箱",2407.21,72.22,2334.99,1,"个",null,"","无","杭州西湖转塘小俞家","330106500000000510","","无***杭州西湖转塘小俞家*330106500000000510**330100200047*批*废旧","","交流配电箱","配电箱类","",null,"直接套用单价","个"]
[59,"杭州市分公司2024年第二十六次党委会纪要-杭州铁塔党委会纪要(2024)第28期","330100156620","交流配电箱","交流配电箱",3584.63,107.54,3477.09,1,"个",null,"","无","杭州杭报印务","330104908000000502","","无***杭州杭报印务*330104908000000502**330100156620*批*废旧","","交流配电箱","配电箱类","",null,"直接套用单价","个"]
[60,"杭州市分公司2024年第二十一次党委会纪要-杭州铁塔党委会纪要(2024)第23期","330100162152","开关电源","开关电源",9087.18,272.62,8814.56,1,"架",null,"嵌入式","无","临安锦北街道民主电信模块机房","330185906000014258","含1个模块","无*嵌入式*含1个模块*临安锦北街道民主电信模块机房*330185906000014258*12.5kg*330100162152*批*废旧","","嵌入式开关电源","嵌入式开关电源",{"v":12.5,"d":"12.500"},null,"称重计量后套用价格","架"]
[61,"杭州市分公司2024年第二十一次党委会纪要-杭州铁塔党委会纪要(2024)第23期","330100257251","开关电源","开关电源",10488.27,1727.8,8760.47,1,"架",null,"嵌入式","无","临安青山湖街道杭叉集团东","330185906000014059","含1个模块","无*嵌入式*含1个模块*临安青山湖街道杭叉集团东*330185906000014059*11.5kg*330100257251*批*废旧","","嵌入式开关电源","嵌入式开关电源",{"v":11.5,"d":"11.500"},null,"称重计量后套用价格","架"]
[62,"杭州市分公司2024年第二十一次党委会纪要-杭州铁塔党委会纪要(2024)第23期","330100217170_2","开关电源","开关电源",2179.11,65.37,2113.74,1,"架",null,"嵌入式","无","萧山鸿达路与高新七路交叉口凯达文具周边区域","330109500000000347","一个模块","无*嵌入式*一个模块*萧山鸿达路与高新七路交叉口凯达文具周边区域*330109500000000347*19.5kg*330100217170_2*批*废旧","","嵌入式开关电源","嵌入式开关电源",{"v":19.5,"d":"19.500"},null,"称重计量后套用价格","架"]
[63,"杭州市分公司2024年第二十一次党委会纪要-杭州铁塔党委会纪要(2024)第23期","330100008337_1","开关电源","开关电源",1272.51,38.17,1234.34,1,"架",null,"嵌入式","无","萧山金城路东南网架大楼","330109500000000281","一个模块","无*嵌入式*一个模块*萧山金城路东南网架大楼*330109500000000281*14kg*330100008337_1*批*废旧","","嵌入式开关电源","嵌入式开关电源",{"v":14,"d":"14.000"},null,"称重计量后套用价格","架"]
[64,"杭州市分公司2024年第二十一次党委会纪要-杭州铁塔党委会纪要(2024)第23期","330100196473_2","开关电源","开关电源",1597.02,47.91,1549.11,1,"架",null,"嵌入式","无","萧山童家里","330109908000000839","一个模块","无*嵌入式*一个模块*萧山童家里*330109908000000839*17.5kg*330100196473_2*批*废旧","","嵌入式开关电源","嵌入式开关电源",{"v":17.5,"d":"17.500"},null,"称重计量后套用价格","架"]
[65,"杭州市分公司2024年第二十一次党委会纪要-杭州铁塔党委会纪要(2024)第23期","330100178850_2","开关电源","开关电源",2613.08,78.4,2534.68,1,"架",null,"嵌入式","无","富阳中水花苑","330183908000001121","","无*嵌入式**富阳中水花苑*330183908000001121*24kg*330100178850_2*批*废旧","","嵌入式开关电源","嵌入式开关电源",{"v":24,"d":"24.000"},null,"称重计量后套用价格","架"]
[66,"杭州市分公司2024年第二十一次党委会纪要-杭州铁塔党委会纪要(2024)第23期","330100217256_2","开关电源","开关电源",2956.13,88.68,2867.45,1,"架",null,"嵌入式","无","居仁管家坞","330183500000000234","","无*嵌入式**居仁管家坞*330183500000000234*11.5kg*330100217256_2*批*废旧","","嵌入式开关电源","嵌入式开关电源",{"v":11.5,"d":"11.500"},null,"称重计量后套用价格","架"]
[67,"杭州市分公司2024年第二十一次党委会纪要-杭州铁塔党委会纪要(2024)第23期","330100200052","开关电源","开关电源",4503.25,135.1,4368.15,1,"架",null,"嵌入式","无","杭州西湖转塘小俞家","330106500000000510","含1个模块","无*嵌入式*含1个模块*杭州西湖转塘小俞家*330106500000000510*23.5kg*330100200052*批*废旧","","嵌入式开关电源","嵌入式开关电源",{"v":23.5,"d":"23.500"},null,"称重计量后套用价格","架"]
[68,"杭州市分公司2024年第二十六次党委会纪要-杭州铁塔党委会纪要(2024)第28期","330100169887_2","开关电源","开关电源",2074.71,62.24,2012.47,1,"架",null,"嵌入式","无","临安高虹镇","330185908000000103","1个模块","无*嵌入式*1个模块*临安高虹镇*330185908000000103*13kg*330100169887_2*批*废旧","","嵌入式开关电源","嵌入式开关电源",{"v":13,"d":"13.000"},null,"称重计量后套用价格","架"]
[69,"杭州市分公司2024年第二十六次党委会纪要-杭州铁塔党委会纪要(2024)第28期","330100193072_2","开关电源","开关电源",3617.85,108.53,3509.32,1,"架",null,"嵌入式","无","临安青山湖管委会西北LT","330185500000000329","1个模块","无*嵌入式*1个模块*临安青山湖管委会西北LT*330185500000000329*16kg*330100193072_2*批*废旧","","嵌入式开关电源","嵌入式开关电源",{"v":16,"d":"16.000"},null,"称重计量后套用价格","架"]
[70,"杭州市分公司2024年第十一次党委会纪要-杭州铁塔党委会纪要(2024)第13期","330100265417","开关电源","开关电源",8026.22,2091.83,5934.39,1,"架",null,"嵌入式","无","萧山双圩5组","330109908000000401","无模块","无*嵌入式*无模块*萧山双圩5组*330109908000000401*24kg*330100265417*批*废旧","","嵌入式开关电源","嵌入式开关电源",{"v":24,"d":"24.000"},null,"称重计量后套用价格","架"]
[71,"杭州市分公司2024年第二十一次党委会纪要-杭州铁塔党委会纪要(2024)第23期","330100193555","开关电源","开关电源",7717.24,231.52,7485.72,1,"架",null,"嵌入式","无","杭州江干大世界五金城二期","330104500000000313","无模块","无*嵌入式*无模块*杭州江干大世界五金城二期*330104500000000313*14.5kg*330100193555*批*废旧","","嵌入式开关电源","嵌入式开关电源",{"v":14.5,"d":"14.500"},null,"称重计量后套用价格","架"]
[72,"杭州市分公司2024年第二十一次党委会纪要-杭州铁塔党委会纪要(2024)第23期","330100181653_2","开关电源","开关电源",2725.83,81.77,2644.06,1,"架",null,"嵌入式","无","杭州江干金色黎明二期","330104500000000314","无模块","无*嵌入式*无模块*杭州江干金色黎明二期*330104500000000314*15kg*330100181653_2*批*废旧","","嵌入式开关电源","嵌入式开关电源",{"v":15,"d":"15.000"},null,"称重计量后套用价格","架"]
[73,"杭州市分公司2024年第二十一次党委会纪要-杭州铁塔党委会纪要(2024)第23期","330100119787","开关电源","开关电源",5143.45,154.3,4989.15,1,"架",null,"嵌入式","无","杭州吴山花鸟城街道站","330102908000000019","无模块","无*嵌入式*无模块*杭州吴山花鸟城街道站*330102908000000019*10.5kg*330100119787*批*废旧","","嵌入式开关电源","嵌入式开关电源",{"v":10.5,"d":"10.500"},null,"称重计量后套用价格","架"]
[74,"杭州市分公司2024年第二十六次党委会纪要-杭州铁塔党委会纪要(2024)第28期","330100278067","开关电源","开关电源",14816.92,3648.54,11168.38,1,"架",null,"嵌入式","无","杭州元和之星江城店","330102908000000243","无模块","无*嵌入式*无模块*杭州元和之星江城店*330102908000000243*13.5kg*330100278067*批*废旧","","嵌入式开关电源","嵌入式开关电源",{"v":13.5,"d":"13.500"},null,"称重计量后套用价格","架"]
[75,"杭州市分公司2024年第二十一次党委会纪要-杭州铁塔党委会纪要(2024)第23期","330100145380","开关电源","开关电源",1559.13,46.77,1512.36,1,"架",null,"组合式","无","富阳环山新畈","330183908000001199","2个模块，铜线铜牌铝牌等内部器件完成整度40%","无*组合式*2个模块，铜线铜牌铝牌等内部器件完成整度40%*富阳环山新畈*330183908000001199**330100145380*批*废旧","","组合式开关电源","组合式开关电源",null,"完整度40%","完整度计量后套用价格","架"]
[76,"杭州市分公司2024年第十四次党委会纪要-杭州铁塔党委会纪要(2024)第16期","330100110787","开关电源","开关电源",978.55,29.36,949.19,1,"架",null,"组合式","艾默生","淳安里商乡江村","330127908000000727","无模块，铜线铜牌铝牌等内部器件完整度40%","艾默生*组合式*无模块，铜线铜牌铝牌等内部器件完整度40%*淳安里商乡江村*330127908000000727*完整度40%*330100110787*批*废旧","","组合式开关电源","组合式开关电源",null,"完整度40%","完整度计量后套用价格","架"]
[77,"杭州市分公司2024年第二十一次党委会纪要-杭州铁塔党委会纪要(2024)第23期","330100145497","开关电源","开关电源",3583.38,107.5,3475.88,1,"架",null,"组合式","无","临安横畈白水涧","330185908000000215","1个模块，铜线铜牌铝牌等内部器件完整度20%","无*组合式*1个模块，铜线铜牌铝牌等内部器件完整度20%*临安横畈白水涧*330185908000000215*完整度20%*330100145497*批*废旧","","组合式开关电源","组合式开关电源",null,"完整度20%","完整度计量后套用价格","架"]
[78,"杭州市分公司2024年第二十一次党委会纪要-杭州铁塔党委会纪要(2024)第23期","330100149504","开关电源","开关电源",8788.36,263.65,8524.71,1,"架",null,"组合式","无","临安收费站石佛西","330185908000000219","1个模块，铜线铜牌铝牌等内部器件完整度20%","无*组合式*1个模块，铜线铜牌铝牌等内部器件完整度20%*临安收费站石佛西*330185908000000219*完整度20%*330100149504*批*废旧","","组合式开关电源","组合式开关电源",null,"完整度20%","完整度计量后套用价格","架"]
[79,"杭州市分公司2024年第二十一次党委会纪要-杭州铁塔党委会纪要(2024)第23期","330100123969","开关电源","开关电源",1174.75,35.24,1139.51,1,"架",null,"组合式","无","临安三口镇秋口","330185908000000659","1个模块，铜线铜牌铝牌等内部器件完整度45%","无*组合式*1个模块，铜线铜牌铝牌等内部器件完整度45%*临安三口镇秋口*330185908000000659*完整度45%*330100123969*批*废旧","","组合式开关电源","组合式开关电源",null,"完整度45%","完整度计量后套用价格","架"]
[80,"杭州市分公司2024年第二十六次党委会纪要-杭州铁塔党委会纪要(2024)第28期","330100122895","开关电源","开关电源",5549.58,166.49,5383.09,1,"架",null,"组合式","无","杭州东篱会所","330102908000000138","2个模块，铜线铜牌铝牌等内部器件完整度40%","无*组合式*2个模块，铜线铜牌铝牌等内部器件完整度40%*杭州东篱会所*330102908000000138*完整度40%*330100122895*批*废旧","","组合式开关电源","组合式开关电源",null,"完整度40%","完整度计量后套用价格","架"]
[81,"杭州市分公司2024年第二十六次党委会纪要-杭州铁塔党委会纪要(2024)第28期","330100122947","开关电源","开关电源",3880.17,116.41,3763.76,1,"架",null,"组合式","无","杭州横塘村十组","330103908000000376","2个模块，铜线铜牌铝牌等内部器件完整度40%","无*组合式*2个模块，铜线铜牌铝牌等内部器件完整度40%*杭州横塘村十组*330103908000000376*完整度40%*330100122947*批*废旧","","组合式开关电源","组合式开关电源",null,"完整度40%","完整度计量后套用价格","架"]
[82,"杭州市分公司2024年第二十六次党委会纪要-杭州铁塔党委会纪要(2024)第28期","330100120804","开关电源","开关电源",2853.07,85.59,2767.48,1,"架",null,"组合式","无","杭州杭报印务","330104908000000502","4个模块，铜线铜牌铝牌等内部器件完整度50%","无*组合式*4个模块，铜线铜牌铝牌等内部器件完整度50%*杭州杭报印务*330104908000000502*完整度50%*330100120804*批*废旧","","组合式开关电源","组合式开关电源",null,"完整度50%","完整度计量后套用价格","架"]
[83,"杭州市分公司2024年第二十六次党委会纪要-杭州铁塔党委会纪要(2024)第28期","330100109276","开关电源","开关电源",8332.24,249.97,8082.27,1,"架",null,"组合式","无","杭州同心村","330104908000000675","无模块，铜线铜牌铝牌等内部器件完整度20%","无*组合式*无模块，铜线铜牌铝牌等内部器件完整度20%*杭州同心村*330104908000000675*完整度20%*330100109276*批*废旧","","组合式开关电源","组合式开关电源",null,"完整度20%","完整度计量后套用价格","架"]
[84,"杭州市分公司2024年第二十六次党委会纪要-杭州铁塔党委会纪要(2024)第28期","330100120668","开关电源","开关电源",7948.05,238.44,7709.61,1,"架",null,"组合式","艾默生","建德大同镇源","330182908000000897","2块模块,铜线铜牌铝牌等内部器件完整度50%","艾默生*组合式*2块模块,铜线铜牌铝牌等内部器件完整度50%*建德大同镇源*330182908000000897*完整度50%*330100120668*批*废旧","","组合式开关电源","组合式开关电源",null,"完整度50%","完整度计量后套用价格","架"]
[85,"杭州市分公司2024年第二十一次党委会纪要-杭州铁塔党委会纪要(2024)第23期","330100200051","空调","空调",3882.65,116.48,3766.17,1,"台",null,"2P","无","杭州西湖转塘小俞家","330106500000000510","","无*2P**杭州西湖转塘小俞家*330106500000000510**330100200051*批*废旧","","空调2匹内外机","空调",null,null,"直接套用单价","台"]
[86,"杭州市分公司2024年第二十一次党委会纪要-杭州铁塔党委会纪要(2024)第23期","330100126861","空调","空调",1728,51.84,1676.16,1,"台",null,"2P","大金","淳安审峰村","330127908000001088","配件铜管另行申请入库","大金*2P*配件铜管另行申请入库*淳安审峰村*330127908000001088**330100126861*批*废旧","","空调2匹内外机","空调",null,null,"直接套用单价","台"]
[87,"杭州市分公司2024年第二十一次党委会纪要-杭州铁塔党委会纪要(2024)第23期","330100147578","空调","空调",5315.1,159.45,5155.65,1,"台",null,"2P","大金","淳安王阜乡新畈村","330127908000000746","配件铜管另行申请入库","大金*2P*配件铜管另行申请入库*淳安王阜乡新畈村*330127908000000746**330100147578*批*废旧","","空调2匹内外机","空调",null,null,"直接套用单价","台"]
[88,"杭州市分公司2024年第二十一次党委会纪要-杭州铁塔党委会纪要(2024)第23期","330100146303","空调","空调",684,20.52,663.48,1,"台",null,"2P","大金","淳安向阳","330127908000000685","配件铜管另行申请入库","大金*2P*配件铜管另行申请入库*淳安向阳*330127908000000685**330100146303*批*废旧","","空调2匹内外机","空调",null,null,"直接套用单价","台"]
[89,"杭州市分公司2024年第二十一次党委会纪要-杭州铁塔党委会纪要(2024)第23期","330100146037","空调","空调",3572,107.16,3464.84,1,"台",null,"2P","美的","淳安铜山","330127908000000877","配件铜管另行申请入库","美的*2P*配件铜管另行申请入库*淳安铜山*330127908000000877**330100146037*批*废旧","","空调2匹内外机","空调",null,null,"直接套用单价","台"]
[90,"杭州市分公司2024年第二十一次党委会纪要-杭州铁塔党委会纪要(2024)第23期","330100204985","空调","空调",3868.82,116.06,3752.76,1,"台",null,"2P","美的","淳安铜山口","330127908000000993","配件铜管另行申请入库","美的*2P*配件铜管另行申请入库*淳安铜山口*330127908000000993**330100204985*批*废旧","","空调2匹内外机","空调",null,null,"直接套用单价","台"]
[91,"杭州市分公司2024年第二十一次党委会纪要-杭州铁塔党委会纪要(2024)第23期","330100125092","空调","空调",864,25.92,838.08,1,"台",null,"2P","大金","临安闽坞","330185908000000692","铜管配件另行入库","大金*2P*铜管配件另行入库*临安闽坞*330185908000000692**330100125092*批*废旧","","空调2匹内外机","空调",null,null,"直接套用单价","台"]
[92,"杭州市分公司2024年第二十一次党委会纪要-杭州铁塔党委会纪要(2024)第23期","330100229265","空调","空调",3605.45,108.16,3497.29,1,"台",null,"2P","海信","临安桥川","330185908000001039","铜管配件另行入库","海信*2P*铜管配件另行入库*临安桥川*330185908000001039**330100229265*批*废旧","","空调2匹内外机","空调",null,null,"直接套用单价","台"]
[93,"杭州市分公司2024年第十四次党委会纪要-杭州铁塔党委会纪要(2024)第16期","330100125370","空调","空调",864,25.92,838.08,1,"台",null,"2P","无","萧山靖港工业区六号","330109908000000620","无铜管","无*2P*无铜管*萧山靖港工业区六号*330109908000000620**330100125370*批*废旧","","空调2匹内外机","空调",null,null,"直接套用单价","台"]
[94,"杭州市分公司2024年第二十六次党委会纪要-杭州铁塔党委会纪要(2024)第28期","330100205219","空调","空调",10704.79,321.14,10383.65,1,"台",null,"2P","美的","淳安大市镇岭干村","330127908000001076","配件铜管另行申请入库","美的*2P*配件铜管另行申请入库*淳安大市镇岭干村*330127908000001076**330100205219*批*废旧","","空调2匹内外机","空调",null,null,"直接套用单价","台"]
[95,"杭州市分公司2024年第二十六次党委会纪要-杭州铁塔党委会纪要(2024)第28期","330100157338","空调","空调",103,3.09,99.91,1,"台",null,"2P","美的","淳安姜家双溪口","330127908000000104","配件铜管另行申请入库","美的*2P*配件铜管另行申请入库*淳安姜家双溪口*330127908000000104**330100157338*批*废旧","","空调2匹内外机","空调",null,null,"直接套用单价","台"]
[96,"杭州市分公司2024年第二十六次党委会纪要-杭州铁塔党委会纪要(2024)第28期","330100185794","空调","空调",3858.25,115.75,3742.5,1,"台",null,"2P","美的","淳安窄坑村","330127908000000652","配件铜管另行申请入库","美的*2P*配件铜管另行申请入库*淳安窄坑村*330127908000000652**330100185794*批*废旧","","空调2匹内外机","空调",null,null,"直接套用单价","台"]
[97,"杭州市分公司2024年第二十一次党委会纪要-杭州铁塔党委会纪要(2024)第23期","330100127781","空调","空调",288,8.64,279.36,1,"台",null,"3P","大金","临安碧淙","330185908000001029","铜管配件另行入库","大金*3P*铜管配件另行入库*临安碧淙*330185908000001029**330100127781*批*废旧","","空调3匹内外机","空调",null,null,"直接套用单价","台"]
[98,"杭州市分公司2024年第二十一次党委会纪要-杭州铁塔党委会纪要(2024)第23期","330100146746","空调","空调",864,25.92,838.08,1,"台",null,"3P","大金","临安黄岗","330185908000000873","铜管配件另行入库","大金*3P*铜管配件另行入库*临安黄岗*330185908000000873**330100146746*批*废旧","","空调3匹内外机","空调",null,null,"直接套用单价","台"]
[99,"杭州市分公司2024年第二十一次党委会纪要-杭州铁塔党委会纪要(2024)第23期","330100185451","空调","空调",6024.55,180.74,5843.81,1,"台",null,"3P","美的","临安青山轩轩沃专营店LT","330185500000000143","铜管配件另行入库","美的*3P*铜管配件另行入库*临安青山轩轩沃专营店LT*330185500000000143**330100185451*批*废旧","","空调3匹内外机","空调",null,null,"直接套用单价","台"]
[100,"杭州市分公司2024年第二十一次党委会纪要-杭州铁塔党委会纪要(2024)第23期","330100218785","空调","空调",7084.91,212.55,6872.36,1,"台",null,"3P","美的","临安青山轩轩沃专营店LT","330185500000000143","铜管配件另行入库","美的*3P*铜管配件另行入库*临安青山轩轩沃专营店LT*330185500000000143**330100218785*批*废旧","","空调3匹内外机","空调",{"v":0,"d":"0.000"},null,"直接套用单价","台"]
[101,"杭州市分公司2024年第二十一次党委会纪要-杭州铁塔党委会纪要(2024)第23期","330100186320","空调","空调",6458.63,193.76,6264.87,1,"台",null,"3P","美的","临安人民医院-2","330185908000000086","铜管配件另行入库","美的*3P*铜管配件另行入库*临安人民医院-2*330185908000000086**330100186320*批*废旧","","空调3匹内外机","空调",{"v":0,"d":"0.000"},null,"直接套用单价","台"]
[102,"杭州市分公司2024年第二十一次党委会纪要-杭州铁塔党委会纪要(2024)第23期","330100003963","空调","空调",8683.73,260.51,8423.22,1,"台",null,"3P","美的","临安上塘楼","330185010000000170","铜管配件另行入库","美的*3P*铜管配件另行入库*临安上塘楼*330185010000000170**330100003963*批*废旧","","空调3匹内外机","空调",{"v":0,"d":"0.000"},null,"直接套用单价","台"]
[103,"杭州市分公司2024年第二十一次党委会纪要-杭州铁塔党委会纪要(2024)第23期","330100005098","空调","空调",6787.1,203.61,6583.49,1,"台",null,"3P","美的","平渡村","330185500000000059","铜管配件另行入库","美的*3P*铜管配件另行入库*平渡村*330185500000000059**330100005098*批*废旧","","空调3匹内外机","空调",{"v":0,"d":"0.000"},null,"直接套用单价","台"]
[104,"杭州市分公司2024年第二十一次党委会纪要-杭州铁塔党委会纪要(2024)第23期","330100178663","空调","空调",10142.8,304.28,9838.52,1,"台",null,"3P","美的","中国坚果城","330185500000000209","铜管配件另行入库","美的*3P*铜管配件另行入库*中国坚果城*330185500000000209**330100178663*批*废旧","","空调3匹内外机","空调",{"v":0,"d":"0.000"},null,"直接套用单价","台"]
[105,"杭州市分公司2024年第二十一次党委会纪要-杭州铁塔党委会纪要(2024)第23期","330100127397","空调","空调",371.13,11.13,360,1,"台",null,"3P","无","富阳高桥塘家坞","330183908000001194","配件铜管另行申请退库","无*3P*配件铜管另行申请退库*富阳高桥塘家坞*330183908000001194**330100127397*批*废旧","","空调3匹内外机","空调",{"v":0,"d":"0.000"},null,"直接套用单价","台"]
[106,"杭州市分公司2024年第二十一次党委会纪要-杭州铁塔党委会纪要(2024)第23期","330100145985","空调","空调",5486.49,164.59,5321.9,1,"台",null,"3P","无","富阳乐和村","330183908000000454","配件铜管另行申请退库","无*3P*配件铜管另行申请退库*富阳乐和村*330183908000000454**330100145985*批*废旧","","空调3匹内外机","空调",{"v":0,"d":"0.000"},null,"直接套用单价","台"]
[107,"杭州市分公司2024年第二十一次党委会纪要-杭州铁塔党委会纪要(2024)第23期","330100146834","空调","空调",4720.34,141.61,4578.73,1,"台",null,"3P","无","富阳里山工业区","330183908000000526","配件铜管另行申请退库","无*3P*配件铜管另行申请退库*富阳里山工业区*330183908000000526**330100146834*批*废旧","","空调3匹内外机","空调",{"v":0,"d":"0.000"},null,"直接套用单价","台"]
[108,"杭州市分公司2024年第二十一次党委会纪要-杭州铁塔党委会纪要(2024)第23期","330100125344","空调","空调",7765.03,232.95,7532.08,1,"台",null,"3P","无","富阳人和宾馆","330183908000000353","配件铜管另行申请退库","无*3P*配件铜管另行申请退库*富阳人和宾馆*330183908000000353**330100125344*批*废旧","","空调3匹内外机","空调",{"v":0,"d":"0.000"},null,"直接套用单价","台"]
[109,"杭州市分公司2024年第二十一次党委会纪要-杭州铁塔党委会纪要(2024)第23期","330100113536","空调","空调",215.12,6.45,208.67,1,"台",null,"3P","无","富阳新登制罐厂","330183908000000532","配件铜管另行申请退库","无*3P*配件铜管另行申请退库*富阳新登制罐厂*330183908000000532**330100113536*批*废旧","","空调3匹内外机","空调",{"v":0,"d":"0.000"},null,"直接套用单价","台"]
[110,"杭州市分公司2024年第二十一次党委会纪要-杭州铁塔党委会纪要(2024)第23期","330100124775","空调","空调",3529.93,105.9,3424.03,1,"台",null,"3P","无","富阳新殿","330183908000000496","配件铜管另行申请退库","无*3P*配件铜管另行申请退库*富阳新殿*330183908000000496**330100124775*批*废旧","","空调3匹内外机","空调",{"v":0,"d":"0.000"},null,"直接套用单价","台"]
[111,"杭州市分公司2024年第十四次党委会纪要-杭州铁塔党委会纪要(2024)第16期","330100125507","空调","空调",288,8.64,279.36,1,"台",null,"3P","大金","淳安枫树岭镇枫香埂村","330127908000001183","配件铜管另行申请入库","大金*3P*配件铜管另行申请入库*淳安枫树岭镇枫香埂村*330127908000001183**330100125507*批*废旧","","空调3匹内外机","空调",{"v":0,"d":"0.000"},null,"直接套用单价","台"]
[112,"杭州市分公司2024年第二十一次党委会纪要-杭州铁塔党委会纪要(2024)第23期","330100126864","空调","空调",1728,51.84,1676.16,1,"台",null,"3P","大金","淳安中坑","330127908000001237","配件铜管另行申请入库","大金*3P*配件铜管另行申请入库*淳安中坑*330127908000001237**330100126864*批*废旧","","空调3匹内外机","空调",{"v":0,"d":"0.000"},null,"直接套用单价","台"]
[113,"杭州市分公司2024年第二十六次党委会纪要-杭州铁塔党委会纪要(2024)第28期","330100223370","空调","空调",6344.97,190.35,6154.62,1,"台",null,"3P","海信","桐庐滨江花园搬迁","330122500010001729","配件铜管另行申请退库","海信*3P*配件铜管另行申请退库*桐庐滨江花园搬迁*330122500010001729**330100223370*批*废旧","","空调3匹内外机","空调",{"v":0,"d":"0.000"},null,"直接套用单价","台"]
[114,"杭州市分公司2024年第二十六次党委会纪要-杭州铁塔党委会纪要(2024)第28期","330100112924","空调","空调",864,25.92,838.08,1,"台",null,"3P","海信","桐庐广电","330122908000000811","配件铜管另行申请退库","海信*3P*配件铜管另行申请退库*桐庐广电*330122908000000811**330100112924*批*废旧","","空调3匹内外机","空调",{"v":0,"d":"0.000"},null,"直接套用单价","台"]
[115,"杭州市分公司2024年第二十六次党委会纪要-杭州铁塔党委会纪要(2024)第28期","330100127317","空调","空调",496,14.88,481.12,1,"台",null,"3P","海信","桐庐桐君高家村","330122908000000800","配件铜管另行申请退库","海信*3P*配件铜管另行申请退库*桐庐桐君高家村*330122908000000800**330100127317*批*废旧","","空调3匹内外机","空调",{"v":0,"d":"0.000"},null,"直接套用单价","台"]
[116,"杭州市分公司2024年第二十六次党委会纪要-杭州铁塔党委会纪要(2024)第28期","330100183767","空调","空调",7465.74,223.97,7241.77,1,"台",null,"3P","科龙","桐庐文化中心","330122908000000058","配件铜管另行申请退库","科龙*3P*配件铜管另行申请退库*桐庐文化中心*330122908000000058**330100183767*批*废旧","","空调3匹内外机","空调",{"v":0,"d":"0.000"},null,"直接套用单价","台"]
[117,"杭州市分公司2024年第二十六次党委会纪要-杭州铁塔党委会纪要(2024)第28期","330100247259","空调","空调",7203.95,410.15,6793.8,1,"台",null,"3P","科龙","桐庐邮政局","330122908000000163","配件铜管另行申请退库","科龙*3P*配件铜管另行申请退库*桐庐邮政局*330122908000000163**330100247259*批*废旧","","空调3匹内外机","空调",{"v":0,"d":"0.000"},null,"直接套用单价","台"]
[118,"杭州市分公司2024年第二十六次党委会纪要-杭州铁塔党委会纪要(2024)第28期","330100218092","空调","空调",10931.25,327.94,10603.31,1,"台",null,"3P","科龙","西武山大桥","33012200000096","配件铜管另行申请退库","科龙*3P*配件铜管另行申请退库*西武山大桥*33012200000096**330100218092*批*废旧","","空调3匹内外机","空调",{"v":0,"d":"0.000"},null,"直接套用单价","台"]
[119,"杭州市分公司2024年第二十六次党委会纪要-杭州铁塔党委会纪要(2024)第28期","330100215718","空调","空调",7043.15,211.29,6831.86,1,"台",null,"3P","美的","桐庐隆隆商务宾馆","330122908000000884","配件铜管另行申请退库","美的*3P*配件铜管另行申请退库*桐庐隆隆商务宾馆*330122908000000884**330100215718*批*废旧","","空调3匹内外机","空调",{"v":0,"d":"0.000"},null,"直接套用单价","台"]
[120,"杭州市分公司2024年第二十六次党委会纪要-杭州铁塔党委会纪要(2024)第28期","330100213372","空调","空调",7043.15,211.29,6831.86,1,"台",null,"3P","美的","桐庐明光假日酒店","330122908000000898","配件铜管另行申请退库","美的*3P*配件铜管另行申请退库*桐庐明光假日酒店*330122908000000898**330100213372*批*废旧","","空调3匹内外机","空调",{"v":0,"d":"0.000"},null,"直接套用单价","台"]
[121,"杭州市分公司2024年第二十六次党委会纪要-杭州铁塔党委会纪要(2024)第28期","330100157258","空调","空调",496,14.88,481.12,1,"台",null,"3P","美的","桐庐石阜镇东南","330122908000000900","配件铜管另行申请退库","美的*3P*配件铜管另行申请退库*桐庐石阜镇东南*330122908000000900**330100157258*批*废旧","","空调3匹内外机","空调",{"v":0,"d":"0.000"},null,"直接套用单价","台"]
[122,"杭州市分公司2024年第二十一次党委会纪要-杭州铁塔党委会纪要(2024)第23期","330100125094","空调","空调",3296,98.88,3197.12,1,"台",null,"3P","大金","临安赤坞水库","330185908000000845","铜管配件另行入库","大金*3P*铜管配件另行入库*临安赤坞水库*330185908000000845**330100125094*批*废旧","","空调3匹内外机","空调",{"v":0,"d":"0.000"},null,"直接套用单价","台"]
[123,"杭州市分公司2024年第二十一次党委会纪要-杭州铁塔党委会纪要(2024)第23期","330100113407","空调","空调",398.77,11.96,386.81,1,"台",null,"3P","大金","临安颊口","330185908000000863","铜管配件另行入库","大金*3P*铜管配件另行入库*临安颊口*330185908000000863**330100113407*批*废旧","","空调3匹内外机","空调",{"v":0,"d":"0.000"},null,"直接套用单价","台"]
[124,"杭州市分公司2024年第二十一次党委会纪要-杭州铁塔党委会纪要(2024)第23期","330100147642","空调","空调",4059.43,121.78,3937.65,1,"台",null,"3P","大金","临安浪口","330185908000000714","铜管配件另行入库","大金*3P*铜管配件另行入库*临安浪口*330185908000000714**330100147642*批*废旧","","空调3匹内外机","空调",{"v":0,"d":"0.000"},null,"直接套用单价","台"]
[125,"杭州市分公司2024年第二十一次党委会纪要-杭州铁塔党委会纪要(2024)第23期","330100146186","空调","空调",864,25.92,838.08,1,"台",null,"3P","大金","临安炼川","330185908000000761","铜管配件另行入库","大金*3P*铜管配件另行入库*临安炼川*330185908000000761**330100146186*批*废旧","","空调3匹内外机","空调",{"v":0,"d":"0.000"},null,"直接套用单价","台"]
[126,"杭州市分公司2024年第二十一次党委会纪要-杭州铁塔党委会纪要(2024)第23期","330100125091","空调","空调",864,25.92,838.08,1,"台",null,"3P","大金","临安上尤","330185908000000738","铜管配件另行入库","大金*3P*铜管配件另行入库*临安上尤*330185908000000738**330100125091*批*废旧","","空调3匹内外机","空调",{"v":0,"d":"0.000"},null,"直接套用单价","台"]
[127,"杭州市分公司2024年第二十一次党委会纪要-杭州铁塔党委会纪要(2024)第23期","330100157397","空调","空调",4512,135.36,4376.64,1,"台",null,"3P","大金","临安天伦实业","330185908000000874","铜管配件另行入库","大金*3P*铜管配件另行入库*临安天伦实业*330185908000000874**330100157397*批*废旧","","空调3匹内外机","空调",{"v":0,"d":"0.000"},null,"直接套用单价","台"]
[128,"杭州市分公司2024年第二十一次党委会纪要-杭州铁塔党委会纪要(2024)第23期","330100126317","空调","空调",864,25.92,838.08,1,"台",null,"3P","大金","临安银球坞","330185908000000938","铜管配件另行入库","大金*3P*铜管配件另行入库*临安银球坞*330185908000000938**330100126317*批*废旧","","空调3匹内外机","空调",{"v":0,"d":"0.000"},null,"直接套用单价","台"]
[129,"杭州市分公司2024年第二十一次党委会纪要-杭州铁塔党委会纪要(2024)第23期","330100126381","空调","空调",6645.71,199.37,6446.34,1,"台",null,"3P","海信","临安锦城街道长桥","330185908000000681","铜管配件另行入库","海信*3P*铜管配件另行入库*临安锦城街道长桥*330185908000000681**330100126381*批*废旧","","空调3匹内外机","空调",{"v":0,"d":"0.000"},null,"直接套用单价","台"]
[130,"杭州市分公司2024年第二十一次党委会纪要-杭州铁塔党委会纪要(2024)第23期","330100126316","空调","空调",257.5,7.73,249.77,1,"台",null,"3P","海信","临安钱童-2","330185908000000693","铜管配件另行入库","海信*3P*铜管配件另行入库*临安钱童-2*330185908000000693**330100126316*批*废旧","","空调3匹内外机","空调",{"v":0,"d":"0.000"},null,"直接套用单价","台"]
[131,"杭州市分公司2024年第二十一次党委会纪要-杭州铁塔党委会纪要(2024)第23期","330100157185","空调","空调",154.5,4.64,149.86,1,"台",null,"3P","海信","中胜东","330185906000014364","铜管配件另行入库","海信*3P*铜管配件另行入库*中胜东*330185906000014364**330100157185*批*废旧","","空调3匹内外机","空调",{"v":0,"d":"0.000"},null,"直接套用单价","台"]
[132,"杭州市分公司2024年第二十一次党委会纪要-杭州铁塔党委会纪要(2024)第23期","330100157135","空调","空调",5945.14,178.35,5766.79,1,"台",null,"3P","海信","临安锦城街道吴越大街悦豪酒店","330185906000014254","铜管配件另行入库,内机无内风机","海信*3P*铜管配件另行入库,内机无内风机*临安锦城街道吴越大街悦豪酒店*330185906000014254**330100157135*批*废旧","","空调3匹内外机","空调",{"v":0,"d":"0.000"},null,"直接套用单价","台"]
[133,"杭州市分公司2024年第二十一次党委会纪要-杭州铁塔党委会纪要(2024)第23期","330100157378","空调","空调",4049.66,121.49,3928.17,1,"台",null,"3P","海信","临安龙岗丁家坞","330185908000000134","铜管配件另行入库,内机无内风机","海信*3P*铜管配件另行入库,内机无内风机*临安龙岗丁家坞*330185908000000134**330100157378*批*废旧","","空调3匹内外机","空调",{"v":0,"d":"0.000"},null,"直接套用单价","台"]
[134,"杭州市分公司2024年第二十一次党委会纪要-杭州铁塔党委会纪要(2024)第23期","330100147414","空调","空调",257.5,7.73,249.77,1,"台",null,"3P","科龙","临安玲珑街道桥里村","330185010000000172","铜管配件另行入库","科龙*3P*铜管配件另行入库*临安玲珑街道桥里村*330185010000000172**330100147414*批*废旧","","空调3匹内外机","空调",{"v":0,"d":"0.000"},null,"直接套用单价","台"]
[135,"杭州市分公司2024年第二十一次党委会纪要-杭州铁塔党委会纪要(2024)第23期","330100126379","空调","空调",2089.62,62.69,2026.93,1,"台",null,"3P","科龙","临安石宝坞","330185908000000856","铜管配件另行入库","科龙*3P*铜管配件另行入库*临安石宝坞*330185908000000856**330100126379*批*废旧","","空调3匹内外机","空调",{"v":0,"d":"0.000"},null,"直接套用单价","台"]
[136,"杭州市分公司2024年第二十一次党委会纪要-杭州铁塔党委会纪要(2024)第23期","330100146875","空调","空调",864,25.92,838.08,1,"台",null,"3P","美的","临安齐农","330185908000000737","铜管配件另行入库","美的*3P*铜管配件另行入库*临安齐农*330185908000000737**330100146875*批*废旧","","空调3匹内外机","空调",{"v":0,"d":"0.000"},null,"直接套用单价","台"]
[137,"杭州市分公司2024年第二十一次党委会纪要-杭州铁塔党委会纪要(2024)第23期","330100146871","空调","空调",864,25.92,838.08,1,"台",null,"3P","美的","临安新桥黄坦村","330185908000000894","铜管配件另行入库","美的*3P*铜管配件另行入库*临安新桥黄坦村*330185908000000894**330100146871*批*废旧","","空调3匹内外机","空调",{"v":0,"d":"0.000"},null,"直接套用单价","台"]
[138,"杭州市分公司2024年第二十一次党委会纪要-杭州铁塔党委会纪要(2024)第23期","330100125075","空调","空调",864,25.92,838.08,1,"台",null,"3P","美的","临安鱼潭村","330185908000000848","铜管配件另行入库","美的*3P*铜管配件另行入库*临安鱼潭村*330185908000000848**330100125075*批*废旧","","空调3匹内外机","空调",{"v":0,"d":"0.000"},null,"直接套用单价","台"]
[139,"杭州市分公司2024年第十四次党委会纪要-杭州铁塔党委会纪要(2024)第16期","330100147128","空调","空调",2876.2,86.29,2789.91,1,"台",null,"3P","无","萧山丰乐-2","330109908000000361","无铜管","无*3P*无铜管*萧山丰乐-2*330109908000000361**330100147128*批*废旧","","空调3匹内外机","空调",{"v":0,"d":"0.000"},null,"直接套用单价","台"]
[140,"杭州市分公司2024年第二十六次党委会纪要-杭州铁塔党委会纪要(2024)第28期","330100222618","空调","空调",2736,82.08,2653.92,1,"台",null,"3P","大金","淳安汾口栗园","33012700000073","配件铜管另行申请入库","大金*3P*配件铜管另行申请入库*淳安汾口栗园*33012700000073**330100222618*批*废旧","","空调3匹内外机","空调",{"v":0,"d":"0.000"},null,"直接套用单价","台"]
[141,"杭州市分公司2024年第二十六次党委会纪要-杭州铁塔党委会纪要(2024)第28期","330100125506","空调","空调",288,8.64,279.36,1,"台",null,"3P","大金","淳安鸠坑乡树山村","330127908000001050","配件铜管另行申请入库","大金*3P*配件铜管另行申请入库*淳安鸠坑乡树山村*330127908000001050**330100125506*批*废旧","","空调3匹内外机","空调",{"v":0,"d":"0.000"},null,"直接套用单价","台"]
[142,"杭州市分公司2024年第二十六次党委会纪要-杭州铁塔党委会纪要(2024)第28期","330100127068","空调","空调",864,25.92,838.08,1,"台",null,"3P","大金","淳安青苗村","330127908000000732","配件铜管另行申请入库","大金*3P*配件铜管另行申请入库*淳安青苗村*330127908000000732**330100127068*批*废旧","","空调3匹内外机","空调",{"v":0,"d":"0.000"},null,"直接套用单价","台"]
[143,"杭州市分公司2024年第二十六次党委会纪要-杭州铁塔党委会纪要(2024)第28期","330100146127","空调","空调",4512,135.36,4376.64,1,"台",null,"3P","大金","淳安上梧","330127908000000597","配件铜管另行申请入库","大金*3P*配件铜管另行申请入库*淳安上梧*330127908000000597**330100146127*批*废旧","","空调3匹内外机","空调",{"v":0,"d":"0.000"},null,"直接套用单价","台"]
[144,"杭州市分公司2024年第二十六次党委会纪要-杭州铁塔党委会纪要(2024)第28期","330100146531","空调","空调",2262.86,67.89,2194.97,1,"台",null,"3P","大金","淳安宋京村","330127908000001192","配件铜管另行申请入库","大金*3P*配件铜管另行申请入库*淳安宋京村*330127908000001192**330100146531*批*废旧","","空调3匹内外机","空调",{"v":0,"d":"0.000"},null,"直接套用单价","台"]
[145,"杭州市分公司2024年第二十六次党委会纪要-杭州铁塔党委会纪要(2024)第28期","330100147083","空调","空调",4512,135.36,4376.64,1,"台",null,"3P","大金","淳安威坪镇考川村","330127908000000986","配件铜管另行申请入库","大金*3P*配件铜管另行申请入库*淳安威坪镇考川村*330127908000000986**330100147083*批*废旧","","空调3匹内外机","空调",{"v":0,"d":"0.000"},null,"直接套用单价","台"]
[146,"杭州市分公司2024年第二十六次党委会纪要-杭州铁塔党委会纪要(2024)第28期","330100125462","空调","空调",1619.48,48.58,1570.9,1,"台",null,"3P","大金","淳安威坪镇徐家坞村","330127908000001039","配件铜管另行申请入库","大金*3P*配件铜管另行申请入库*淳安威坪镇徐家坞村*330127908000001039**330100125462*批*废旧","","空调3匹内外机","空调",{"v":0,"d":"0.000"},null,"直接套用单价","台"]
[147,"杭州市分公司2024年第二十六次党委会纪要-杭州铁塔党委会纪要(2024)第28期","330100125115","空调","空调",864,25.92,838.08,1,"台",null,"3P","大金","淳安文昌镇殿边村","330127908000000722","配件铜管另行申请入库","大金*3P*配件铜管另行申请入库*淳安文昌镇殿边村*330127908000000722**330100125115*批*废旧","","空调3匹内外机","空调",{"v":0,"d":"0.000"},null,"直接套用单价","台"]
[148,"杭州市分公司2024年第二十六次党委会纪要-杭州铁塔党委会纪要(2024)第28期","330100146030","空调","空调",864,25.92,838.08,1,"台",null,"3P","大金","淳安文昌镇西河村","330127908000000710","配件铜管另行申请入库","大金*3P*配件铜管另行申请入库*淳安文昌镇西河村*330127908000000710**330100146030*批*废旧","","空调3匹内外机","空调",{"v":0,"d":"0.000"},null,"直接套用单价","台"]
[149,"杭州市分公司2024年第二十六次党委会纪要-杭州铁塔党委会纪要(2024)第28期","330100127584","空调","空调",6713.81,201.41,6512.4,1,"台",null,"3P","大金","淳安杏坡村","330127908000000969","配件铜管另行申请入库","大金*3P*配件铜管另行申请入库*淳安杏坡村*330127908000000969**330100127584*批*废旧","","空调3匹内外机","空调",{"v":0,"d":"0.000"},null,"直接套用单价","台"]
[150,"杭州市分公司2024年第二十六次党委会纪要-杭州铁塔党委会纪要(2024)第28期","330100146522","空调","空调",2370.21,71.11,2299.1,1,"台",null,"3P","大金","淳安阵头山村","330127908000001199","配件铜管另行申请入库","大金*3P*配件铜管另行申请入库*淳安阵头山村*330127908000001199**330100146522*批*废旧","","空调3匹内外机","空调",{"v":0,"d":"0.000"},null,"直接套用单价","台"]
[151,"杭州市分公司2024年第二十六次党委会纪要-杭州铁塔党委会纪要(2024)第28期","330100125256","空调","空调",1993.85,59.82,1934.03,1,"台",null,"3P","大金","淳安左口乡-2","330127908000000490","配件铜管另行申请入库","大金*3P*配件铜管另行申请入库*淳安左口乡-2*330127908000000490**330100125256*批*废旧","","空调3匹内外机","空调",{"v":0,"d":"0.000"},null,"直接套用单价","台"]
[152,"杭州市分公司2024年第二十六次党委会纪要-杭州铁塔党委会纪要(2024)第28期","330100113528","空调","空调",358.54,10.76,347.78,1,"台",null,"3P","海信","淳安大市镇孙家畈村","330127700000039051","配件铜管另行申请入库","海信*3P*配件铜管另行申请入库*淳安大市镇孙家畈村*330127700000039051**330100113528*批*废旧","","空调3匹内外机","空调",{"v":0,"d":"0.000"},null,"直接套用单价","台"]
[153,"杭州市分公司2024年第二十六次党委会纪要-杭州铁塔党委会纪要(2024)第28期","330100146884","空调","空调",4869.24,146.08,4723.16,1,"台",null,"3P","海信","淳安三台","330127908000000617","配件铜管另行申请入库","海信*3P*配件铜管另行申请入库*淳安三台*330127908000000617**330100146884*批*废旧","","空调3匹内外机","空调",{"v":0,"d":"0.000"},null,"直接套用单价","台"]
[154,"杭州市分公司2024年第二十六次党委会纪要-杭州铁塔党委会纪要(2024)第28期","330100146064","空调","空调",4677.03,140.31,4536.72,1,"台",null,"3P","海信","淳安梓桐慈溪村","330127908000000611","配件铜管另行申请入库","海信*3P*配件铜管另行申请入库*淳安梓桐慈溪村*330127908000000611**330100146064*批*废旧","","空调3匹内外机","空调",{"v":0,"d":"0.000"},null,"直接套用单价","台"]
[155,"杭州市分公司2024年第二十六次党委会纪要-杭州铁塔党委会纪要(2024)第28期","330100126821","空调","空调",1597.89,47.94,1549.95,1,"台",null,"3P","海信","淳安梓桐洋峰村","330127908000001104","配件铜管另行申请入库","海信*3P*配件铜管另行申请入库*淳安梓桐洋峰村*330127908000001104**330100126821*批*废旧","","空调3匹内外机","空调",{"v":0,"d":"0.000"},null,"直接套用单价","台"]
[156,"杭州市分公司2024年第二十六次党委会纪要-杭州铁塔党委会纪要(2024)第28期","330100127857","空调","空调",4674.52,140.24,4534.28,1,"台",null,"3P","海信","千岛湖镇汪村陀社","330127010000000217","配件铜管另行申请入库","海信*3P*配件铜管另行申请入库*千岛湖镇汪村陀社*330127010000000217**330100127857*批*废旧","","空调3匹内外机","空调",{"v":0,"d":"0.000"},null,"直接套用单价","台"]
[157,"杭州市分公司2024年第二十六次党委会纪要-杭州铁塔党委会纪要(2024)第28期","330100186270","空调","空调",7465.74,223.97,7241.77,1,"台",null,"3P","美的","淳安临岐仰韩","330127908000000040","配件铜管另行申请入库","美的*3P*配件铜管另行申请入库*淳安临岐仰韩*330127908000000040**330100186270*批*废旧","","空调3匹内外机","空调",{"v":0,"d":"0.000"},null,"直接套用单价","台"]
[158,"杭州市分公司2024年第二十六次党委会纪要-杭州铁塔党委会纪要(2024)第28期","330100125389","空调","空调",633.6,19.01,614.59,1,"台",null,"3P","无","杭州东篱会所","330102908000000138","配件铜管另行申请退库","无*3P*配件铜管另行申请退库*杭州东篱会所*330102908000000138**330100125389*批*废旧","","空调3匹内外机","空调",{"v":0,"d":"0.000"},null,"直接套用单价","台"]
[159,"杭州市分公司2024年第二十六次党委会纪要-杭州铁塔党委会纪要(2024)第28期","330100213202","空调","空调",6959.13,208.77,6750.36,1,"台",null,"3P","无","杭州横塘村十组","330103908000000376","配件铜管另行申请退库","无*3P*配件铜管另行申请退库*杭州横塘村十组*330103908000000376**330100213202*批*废旧","","空调3匹内外机","空调",{"v":0,"d":"0.000"},null,"直接套用单价","台"]
[160,"杭州市分公司2024年第二十六次党委会纪要-杭州铁塔党委会纪要(2024)第28期","330100229752","空调","空调",6918.47,207.55,6710.92,1,"台",null,"3P","无","杭州宏丽宾馆D","330104908000000543","配件铜管另行申请退库","无*3P*配件铜管另行申请退库*杭州宏丽宾馆D*330104908000000543**330100229752*批*废旧","","空调3匹内外机","空调",{"v":0,"d":"0.000"},null,"直接套用单价","台"]
[161,"杭州市分公司2024年第二十六次党委会纪要-杭州铁塔党委会纪要(2024)第28期","330100127710","空调","空调",846,25.38,820.62,1,"台",null,"3P","无","杭州笕桥黄家村","330104908000001022","配件铜管另行申请退库","无*3P*配件铜管另行申请退库*杭州笕桥黄家村*330104908000001022**330100127710*批*废旧","","空调3匹内外机","空调",{"v":0,"d":"0.000"},null,"直接套用单价","台"]
[162,"杭州市分公司2024年第二十六次党委会纪要-杭州铁塔党委会纪要(2024)第28期","330100288956","空调","空调",6449.85,1844.5,4605.35,1,"台",null,"3P","无","杭州笕桥镇黄家村","330104908000000604","配件铜管另行申请退库","无*3P*配件铜管另行申请退库*杭州笕桥镇黄家村*330104908000000604**330100288956*批*废旧","","空调3匹内外机","空调",{"v":0,"d":"0.000"},null,"直接套用单价","台"]
[163,"杭州市分公司2024年第二十六次党委会纪要-杭州铁塔党委会纪要(2024)第28期","330100113564","空调","空调",303.23,9.1,294.13,1,"台",null,"3P","无","杭州教育学院","330102908000000020","配件铜管另行申请退库","无*3P*配件铜管另行申请退库*杭州教育学院*330102908000000020**330100113564*批*废旧","","空调3匹内外机","空调",{"v":0,"d":"0.000"},null,"直接套用单价","台"]
[164,"杭州市分公司2024年第二十六次党委会纪要-杭州铁塔党委会纪要(2024)第28期","330100298163","空调","空调",6404.3,1827.74,4576.56,1,"台",null,"3P","无","杭州锦波假日酒店","330102908000000209","配件铜管另行申请退库","无*3P*配件铜管另行申请退库*杭州锦波假日酒店*330102908000000209**330100298163*批*废旧","","空调3匹内外机","空调",{"v":0,"d":"0.000"},null,"直接套用单价","台"]
[165,"杭州市分公司2024年第二十六次党委会纪要-杭州铁塔党委会纪要(2024)第28期","330100126644","空调","空调",1819.38,54.58,1764.8,1,"台",null,"3P","无","杭州吴山花鸟城街道站","330102908000000019","配件铜管另行申请退库","无*3P*配件铜管另行申请退库*杭州吴山花鸟城街道站*330102908000000019**330100126644*批*废旧","","空调3匹内外机","空调",{"v":0,"d":"0.000"},null,"直接套用单价","台"]
[166,"杭州市分公司2024年第二十六次党委会纪要-杭州铁塔党委会纪要(2024)第28期","330100229375","空调","空调",6795.83,203.87,6591.96,1,"台",null,"3P","无","杭州小营巷","330102908000000315","配件铜管另行申请退库","无*3P*配件铜管另行申请退库*杭州小营巷*330102908000000315**330100229375*批*废旧","","空调3匹内外机","空调",{"v":0,"d":"0.000"},null,"直接套用单价","台"]
[167,"杭州市分公司2024年第二十六次党委会纪要-杭州铁塔党委会纪要(2024)第28期","330100125409","空调","空调",288,8.64,279.36,1,"台",null,"3P","无","杭州针织城","330102908000000183","配件铜管另行申请退库","无*3P*配件铜管另行申请退库*杭州针织城*330102908000000183**330100125409*批*废旧","","空调3匹内外机","空调",{"v":0,"d":"0.000"},null,"直接套用单价","台"]
[168,"杭州市分公司2024年第二十六次党委会纪要-杭州铁塔党委会纪要(2024)第28期","330100193634","空调","空调",6468.77,194.06,6274.71,1,"台",null,"3P","无","始板桥花园","330102500000000114","配件铜管另行申请退库","无*3P*配件铜管另行申请退库*始板桥花园*330102500000000114**330100193634*批*废旧","","空调3匹内外机","空调",{"v":0,"d":"0.000"},null,"直接套用单价","台"]
[169,"杭州市分公司2024年第二十六次党委会纪要-杭州铁塔党委会纪要(2024)第28期","330100125182","空调","空调",864,25.92,838.08,1,"台",null,"3P","无","富阳大源虹赤-3","330183908000000632","配件铜管另行申请退库","无*3P*配件铜管另行申请退库*富阳大源虹赤-3*330183908000000632**330100125182*批*废旧","","空调3匹内外机","空调",{"v":0,"d":"0.000"},null,"直接套用单价","台"]
[170,"杭州市分公司2024年第二十六次党委会纪要-杭州铁塔党委会纪要(2024)第28期","330100214459","空调","空调",7073.43,212.2,6861.23,1,"台",null,"3P","无","富阳东洲紫铜-2","330183908000000525","配件铜管另行申请退库","无*3P*配件铜管另行申请退库*富阳东洲紫铜-2*330183908000000525**330100214459*批*废旧","","空调3匹内外机","空调",{"v":0,"d":"0.000"},null,"直接套用单价","台"]
[171,"杭州市分公司2024年第二十六次党委会纪要-杭州铁塔党委会纪要(2024)第28期","330100234863","空调","空调",6795.83,203.87,6591.96,1,"台",null,"3P","无","富阳灵桥黄泥沙","330183908000000920","配件铜管另行申请退库","无*3P*配件铜管另行申请退库*富阳灵桥黄泥沙*330183908000000920**330100234863*批*废旧","","空调3匹内外机","空调",{"v":0,"d":"0.000"},null,"直接套用单价","台"]
[172,"杭州市分公司2024年第二十六次党委会纪要-杭州铁塔党委会纪要(2024)第28期","330100152527","空调","空调",154.5,4.64,149.86,1,"台",null,"3P","无","富阳三方集团","330183908000000994","配件铜管另行申请退库","无*3P*配件铜管另行申请退库*富阳三方集团*330183908000000994**330100152527*批*废旧","","空调3匹内外机","空调",{"v":0,"d":"0.000"},null,"直接套用单价","台"]
[173,"杭州市分公司2024年第二十六次党委会纪要-杭州铁塔党委会纪要(2024)第28期","330100125452","空调","空调",4788,143.64,4644.36,1,"台",null,"3P","无","富阳下浒村","330183908000000334","配件铜管另行申请退库","无*3P*配件铜管另行申请退库*富阳下浒村*330183908000000334**330100125452*批*废旧","","空调3匹内外机","空调",{"v":0,"d":"0.000"},null,"直接套用单价","台"]
[174,"杭州市分公司2024年第二十六次党委会纪要-杭州铁塔党委会纪要(2024)第28期","330100165167","空调","空调",6280.11,188.4,6091.71,1,"台",null,"3P","无","富阳新登七板桥","330183500000000041","配件铜管另行申请退库","无*3P*配件铜管另行申请退库*富阳新登七板桥*330183500000000041**330100165167*批*废旧","","空调3匹内外机","空调",{"v":0,"d":"0.000"},null,"直接套用单价","台"]
[175,"杭州市分公司2024年第二十六次党委会纪要-杭州铁塔党委会纪要(2024)第28期","330100146840","空调","空调",5904.66,177.14,5727.52,1,"台",null,"3P","无","富阳渔山黎明","330183908000000560","配件铜管另行申请退库","无*3P*配件铜管另行申请退库*富阳渔山黎明*330183908000000560**330100146840*批*废旧","","空调3匹内外机","空调",{"v":0,"d":"0.000"},null,"直接套用单价","台"]
[176,"杭州市分公司2024年第二十六次党委会纪要-杭州铁塔党委会纪要(2024)第28期","330100186308","空调","空调",7023.92,210.72,6813.2,1,"台",null,"3P","无","高桥勤丰铁塔","330183906000014080","配件铜管另行申请退库","无*3P*配件铜管另行申请退库*高桥勤丰铁塔*330183906000014080**330100186308*批*废旧","","空调3匹内外机","空调",{"v":0,"d":"0.000"},null,"直接套用单价","台"]
[177,"杭州市分公司2024年第二十六次党委会纪要-杭州铁塔党委会纪要(2024)第28期","330100207910","空调","空调",6733.79,202.01,6531.78,1,"台",null,"3P","无","野生动物园北","330183500000000250","配件铜管另行申请退库","无*3P*配件铜管另行申请退库*野生动物园北*330183500000000250**330100207910*批*废旧","","空调3匹内外机","空调",{"v":0,"d":"0.000"},null,"直接套用单价","台"]
[178,"杭州市分公司2024年第二十六次党委会纪要-杭州铁塔党委会纪要(2024)第28期","330100281899_1_2","空调","空调",761.69,176.67,585.02,1,"台",null,"一体化机柜（空调型）-资产编码拆分-空调组件","无","滨江狮子山休闲山庄","330108500000000050","","无*一体化机柜（空调型）-资产编码拆分-空调组件**滨江狮子山休闲山庄*330108500000000050**330100281899_1_2*批*废旧","",null,null,{"v":0,"d":"0.000"},null,null,"台","合并一体化机柜（无风扇无空调）按一体化机柜（空调型）处置"]
[179,"杭州市分公司2024年第十四次党委会纪要-杭州铁塔党委会纪要(2024)第16期","330100193177_2","空调","空调",3826.98,114.81,3712.17,1,"台",null,"一体化机柜（空调型）-资产编码拆分-空调组件","无","龙虎四组","330109500000000592","","无*一体化机柜（空调型）-资产编码拆分-空调组件**龙虎四组*330109500000000592**330100193177_2*批*废旧","",null,null,{"v":0,"d":"0.000"},null,null,"台","合并一体化机柜（无风扇无空调）按一体化机柜（空调型）处置"]
[180,"杭州市分公司2022年第二十次党委会纪要-杭州铁塔党委会纪要〔2022〕第19期","330100316547","空调控制器","空调控制器",366.48,282.5,83.98,1,"个",null,"","无","杭州杭钢电炉厂","330105908000000261","","无***杭州杭钢电炉厂*330105908000000261*0.233kg*330100316547*批*废旧","","空调控制器","空调控制器",0.233,null,"称重计量后套用价格","个"]
[181,"杭州市分公司2023年第三次党委会纪要-杭州铁塔党委会纪要〔2023〕第3期","330100250206","空调控制器","空调控制器",399.78,135.84,263.94,1,"个",null,"","无","杭州横塘村九组","330104908000001322","","无***杭州横塘村九组*330104908000001322*1kg*330100250206*批*废旧","","空调控制器","空调控制器",{"v":1,"d":"1.000"},null,"称重计量后套用价格","个"]
[182,"杭州市分公司2024年第四次党委会纪要-杭州铁塔党委会纪要(2024)第6期","330100246120","空调控制器","空调控制器",592.56,105.61,486.95,1,"个",null,"","无","杭州湖墅嘉园-2","330105908000000417","","无***杭州湖墅嘉园-2*330105908000000417*0.272kg*330100246120*批*废旧","","空调控制器","空调控制器",0.272,null,"称重计量后套用价格","个"]
[183,"杭州市分公司2024年第二十一次党委会纪要-杭州铁塔党委会纪要(2024)第23期","330100145941","空调通风系统","空调通风系统",2307.87,69.24,2238.63,1,"个",null,"智能通风设备","无","临安锦城平山","330185908000000104","","无*智能通风设备**临安锦城平山*330185908000000104*11kg*330100145941*批*废旧","","智能通风设备","智能通风设备",{"v":11,"d":"11.000"},null,"称重计量后套用价格","个"]
[184,"杭州市分公司2024年第二十一次党委会纪要-杭州铁塔党委会纪要(2024)第23期","330100146362","空调通风系统","空调通风系统",596.54,17.9,578.64,1,"个",null,"智能通风设备SJF-20GB","无","临安湍口","330185908000000180","","无*智能通风设备SJF-20GB**临安湍口*330185908000000180*7kg*330100146362*批*废旧","","智能通风设备","智能通风设备",{"v":7,"d":"7.000"},null,"称重计量后套用价格","个"]
[185,"杭州市分公司2024年第二十六次党委会纪要-杭州铁塔党委会纪要(2024)第28期","330100127315","空调通风系统","空调通风系统",371.13,11.13,360,1,"个",null,"智能通风系统","无","桐庐桐君高家村","330122908000000800","配件铜管另行申请退库","无*智能通风系统*配件铜管另行申请退库*桐庐桐君高家村*330122908000000800*6.5kg*330100127315*批*废旧","","智能通风设备","智能通风设备",{"v":6.5,"d":"6.500"},null,"称重计量后套用价格","个"]
[186,null,"配件","连接条","连接条",{"$nulls":3},27.5,"千克",null,"连接条","无","十方-萧山","无","","无*连接条**十方-萧山*无*27.5kg*330100234867等17个资产配件*批*废旧",null,"连接条","连接条",{"v":27.5,"d":"27.500"},"出铜率70%","称重及出铜率计量后套用价格","千克"]
[187,null,"配件","连接条","连接条",{"$nulls":3},61,"千克",null,"连接条","无","方大-西湖余杭","无","","无*连接条**方大-西湖余杭*无*61kg*330100219924等34个资产配件*批*废旧",null,"连接条","连接条",{"v":61,"d":"61.000"},"出铜率70%","称重及出铜率计量后套用价格","千克"]
[188,null,"配件","连接条","连接条",{"$nulls":3},26,"千克",null,"连接条","无","十方-拱墅钱塘","无","","无*连接条**十方-拱墅钱塘*无*26kg*330100193218等18个资产配件*批*废旧",null,"连接条","连接条",{"v":26,"d":"26.000"},"出铜率70%","称重及出铜率计量后套用价格","千克"]
[189,null,"配件","连接条","连接条",{"$nulls":3},30,"千克",null,"连接条","无","十方-上城","无","","无*连接条**十方-上城*无*30kg*330100137845等18个资产配件*批*废旧",null,"连接条","连接条",{"v":30,"d":"30.000"},"出铜率70%","称重及出铜率计量后套用价格","千克"]
[190,null,"配件","连接条","连接条",{"$nulls":3},94,"千克",null,"连接条","无","十方-萧山配件","无","","无*连接条**十方-萧山配件*无*94kg*330100209688等41个资产配件*批*废旧",null,"连接条","连接条",{"v":94,"d":"94.000"},"出铜率70%","称重及出铜率计量后套用价格","千克"]
[191,null,"配件","连接条","连接条",{"$nulls":3},48,"千克",null,"连接条","无","依网-淳安","无","","无*连接条**依网-淳安*无*48kg*330100161701等26个资产配件*批*废旧",null,"连接条","连接条",{"v":48,"d":"48.000"},"出铜率70%","称重及出铜率计量后套用价格","千克"]
[192,null,"配件","连接条","连接条",{"$nulls":3},32,"千克",null,"连接条","无","依网-建德","无","","无*连接条**依网-建德*无*32kg*330100168032等12个资产配件*批*废旧",null,"连接条","连接条",{"v":32,"d":"32.000"},"出铜率70%","称重及出铜率计量后套用价格","千克"]
[193,"杭州市分公司2023年第三次党委会纪要-杭州铁塔党委会纪要〔2023〕第3期","330100240078","门锁","门锁",410,122.8,287.2,1,"个",null,"电控锁","无","范家小区南","330104500000000059","","无*电控锁**范家小区南*330104500000000059*2.5kg*330100240078*批*废旧","","电控锁","电控锁",{"v":2.5,"d":"2.500"},null,"称重计量后套用价格","个"]
[194,"杭州市分公司2023年第三次党委会纪要-杭州铁塔党委会纪要〔2023〕第3期","330100241417","门锁","门锁",205,61.45,143.55,1,"个",null,"电控锁","无","杭州康桥焊接基站","330105908000000416","","无*电控锁**杭州康桥焊接基站*330105908000000416*2.5kg*330100241417*批*废旧","","电控锁","电控锁",{"v":2.5,"d":"2.500"},null,"称重计量后套用价格","个"]
[195,"杭州市分公司2024年第二十六次党委会纪要-杭州铁塔党委会纪要(2024)第28期","330100441147","门锁","门锁",649.28,617.78,31.5,1,"个",null,"电控锁","无","杭州横塘村十组","330103908000000376","","无*电控锁**杭州横塘村十组*330103908000000376*1.5kg*330100441147*批*废旧","","电控锁","电控锁",{"v":1.5,"d":"1.500"},null,"称重计量后套用价格","个"]
[196,"杭州市分公司2023年第三次党委会纪要-杭州铁塔党委会纪要〔2023〕第3期","330100263420","模块","模块",291.35,130.41,160.94,1,"个",null,"电源转换模块","无","杭州宏利石材","330104908000000607","","无*电源转换模块**杭州宏利石材*330104908000000607*2.5kg*330100263420*批*废旧","","电源转换模块","电源转换模块",{"v":2.5,"d":"2.500"},null,"称重计量后套用价格","个"]
[197,"杭州市分公司2023年第三次党委会纪要-杭州铁塔党委会纪要〔2023〕第3期","330100317566","模块","模块",1581.11,1133.81,447.3,1,"个",null,"整流模块","无","杭州宏利石材","330104908000000607","","无*整流模块**杭州宏利石材*330104908000000607*2.5kg*330100317566*批*废旧","","整流模块","整流模块",{"v":2.5,"d":"2.500"},null,"称重计量后套用价格","个"]
[198,"杭州市分公司2023年第三次党委会纪要-杭州铁塔党委会纪要〔2023〕第3期","330100285553","模块","模块",2062.43,1035.35,1027.08,1,"个",null,"整流模块","无","杭州下沙斯莱特泵业","330104906000014161","","无*整流模块**杭州下沙斯莱特泵业*330104906000014161*2.5kg*330100285553*批*废旧","","整流模块","整流模块",{"v":2.5,"d":"2.500"},null,"称重计量后套用价格","个"]
[199,"杭州市分公司2024年第四次党委会纪要-杭州铁塔党委会纪要(2024)第6期","330100339343","模块","模块",530.38,370.81,159.57,1,"个",null,"整流模块","无","江汉路文化公园单管塔NR","330108500000001838","","无*整流模块**江汉路文化公园单管塔NR*330108500000001838*2.5kg*330100339343*批*废旧","","整流模块","整流模块",{"v":2.5,"d":"2.500"},null,"称重计量后套用价格","个"]
[200,"杭州市分公司2023年第十九次党委会纪要-杭州铁塔党委会纪要〔2023〕第19期","330100292824","模块","模块",6558.2,3379.25,3178.95,1,"个",null,"整流模块","无","萧山丰东","330109500000002174","","无*整流模块**萧山丰东*330109500000002174*1.5kg*330100292824*批*废旧","","整流模块","整流模块",{"v":1.5,"d":"1.500"},null,"称重计量后套用价格","个"]
[201,"杭州市分公司2023年第三次党委会纪要-杭州铁塔党委会纪要〔2023〕第3期","330100285630","熔断器","熔断器",20.49,9.96,10.53,1,"个",null,"","无","杭州宏利石材","330104908000000607","","无***杭州宏利石材*330104908000000607*0.179kg*330100285630*批*废旧","","熔断器","熔断器",0.179,null,"称重计量后套用价格","个"]
[202,"杭州市分公司2023年第三次党委会纪要-杭州铁塔党委会纪要〔2023〕第3期","330100254975","熔断器","熔断器",20.65,7.92,12.73,1,"个",null,"","无","七间头","330109500000000388","","无***七间头*330109500000000388*0.182kg*330100254975*批*废旧","","熔断器","熔断器",0.182,null,"称重计量后套用价格","个"]
[203,null,"配件","铜管","铜管",{"$nulls":3},16,"千克",null,"空调铜管","无","依网-桐庐","无","","无*空调铜管**依网-桐庐*无*16kg*330100127317等9个资产配件*批*废旧",null,"铜管","铜管",{"v":16,"d":"16.000"},"出铜率70%","称重及出铜率计量后套用价格","千克"]
[204,null,"配件","铜管","铜管",{"$nulls":3},6.5,"千克",null,"铜管","无","方大-临安","无","","无*铜管**方大-临安*无*6.5kg*330100003963等8个资产配件*批*废旧",null,"铜管","铜管",{"v":6.5,"d":"6.500"},"出铜率70%","称重及出铜率计量后套用价格","千克"]
[205,null,"配件","铜管","铜管",{"$nulls":3},18.5,"千克",null,"铜管","无","依网-富阳","无","","无*铜管**依网-富阳*无*18.5kg*330100125344等6个资产配件*批*废旧",null,"铜管","铜管",{"v":18.5,"d":"18.500"},"出铜率70%","称重及出铜率计量后套用价格","千克"]
[206,null,"配件","铜管","铜管",{"$nulls":3},4.5,"千克",null,"铜管","无","依网-淳安","无","","无*铜管**依网-淳安*无*4.5kg*330100125507等7个资产配件*批*废旧",null,"铜管","铜管",{"v":4.5,"d":"4.500"},"出铜率70%","称重及出铜率计量后套用价格","千克"]
[207,null,"配件","铜管","铜管",{"$nulls":3},17,"千克",null,"铜管","无","方大-临安","无","","无*铜管**方大-临安*无*17kg*330100113407等19个资产配件*批*废旧",null,"铜管","铜管",{"v":17,"d":"17.000"},"出铜率70%","称重及出铜率计量后套用价格","千克"]
[208,null,"配件","铜管","铜管",{"$nulls":3},38,"千克",null,"铜管","无","十方-上城","无","","无*铜管**十方-上城*无*38kg*330100214341等14个资产配件*批*废旧",null,"铜管","铜管",{"v":38,"d":"38.000"},"出铜率70%","称重及出铜率计量后套用价格","千克"]
[209,null,"配件","铜管","铜管",{"$nulls":3},17,"千克",null,"铜管","无","依网-淳安","无","","无*铜管**依网-淳安*无*17kg*330100205219等24个资产配件*批*废旧",null,"铜管","铜管",{"v":17,"d":"17.000"},"出铜率70%","称重及出铜率计量后套用价格","千克"]
[210,null,"配件","铜管","铜管",{"$nulls":3},14.5,"千克",null,"铜管","无","依网-富阳","无","","无*铜管**依网-富阳*无*14.5kg*330100114018等10个资产配件*批*废旧",null,"铜管","铜管",{"v":14.5,"d":"14.500"},"出铜率70%","称重及出铜率计量后套用价格","千克"]
[211,"杭州市分公司2024年第四次党委会纪要-杭州铁塔党委会纪要(2024)第6期","330100209331","铜铁转换条","铜铁转换条",159.07,91.66,67.41,1,"根",null,"铜铁转换条","无","萧山湘湖科创园","330109500000000712","","无*铜铁转换条**萧山湘湖科创园*330109500000000712*0.314kg*330100209331*批*废旧","","铜铁转换条","铜铁转换条",0.314,null,"称重计量后套用价格","根"]
[212,"杭州市分公司2024年第四次党委会纪要-杭州铁塔党委会纪要(2024)第6期","330100270921","铜铁转换条","铜铁转换条",377.34,282.28,95.06,1,"根",null,"铜铁转换条","无","萧山湘湖科创园","330109500000000712","","无*铜铁转换条**萧山湘湖科创园*330109500000000712*0.837kg*330100270921*批*废旧","","铜铁转换条","铜铁转换条",0.837,null,"称重计量后套用价格","根"]